{"text_format":"1","workbook":"xlsx","n_sheets":4,"sheets":["Startseite","Einladungen | Übersicht","Adressen | Druck","Kostenteilung"],"not_rendered":{"charts":0,"images":31,"macros":1,"external_links":0,"defined_names":6,"comments":1,"pivot_tables":0},"unopened":[],"bounds":{"document_bytes":16777216,"sheet_cells":100000,"rows_first":2000,"rows_last":500,"rows_between":2000,"halvings":0,"cell_chars":16384,"cell_head_chars":4096},"cells_cut":0,"cells_raw":0,"read":"whole","date_system":"1900"}

{"sheet":"Startseite","index":0,"n_rows":36,"n_cols":40,"rows_kept":36,"cut":false,"hidden":false,"merged":[[1,0,3,9],[10,0,35,0],[14,3,35,35],[33,39,34,53]]}
["Willkommen beim EP EinrichtungsPlaner."]
[]
[]
[]
[]
[]
[]
[]
[]
[]
[]
[]
[]
[]
[null,null,null,"Vielen Dank für die Nutzung dieses kleinen selbst \"gestrickten\" Excel-Tools zur Unterstützung bei der Einladungsplanung von bis zu 200 Gästen/Gästepaaren.\n\nEs können die einzuladendenden Personen \"gesammelt\" aufgelistet werden. Dabei gibt es die Möglichkeit auch Adressen mit zu erfassen. Namen und Adressen werden dann in Form gebracht und können den Versand von papierhaften Einladungen vereinfachen, in dem sie auf A4-Papier ausgedruckt, zugeschnitten und direkt auf die Umschläge geklebt werden.\n\nDas Tool ermöglichst es, Zu- und Absagen zu vermerken und zeigt den aktuellen Stand an. Eine weitere Option ermöglicht die faire Kostenverteilung auf bis zu 10 Gastgeber - zum Beispiel, wenn Jubilare zu einer Feierlichkeit gemeinsam einladen möchten. Jede/r zahlt dann auch nur anteilig für \"seine/ihre\" Gäste.\n\nTrotz jahrzehntelanger Erfahrung und größtmöglicher Sorgfalt, kann bei diesem kleinen kosten- und werbefreien Tool natürlich keinerlei Haftung für Vollständigkeit, Richtigkeit, Fehlerfreiheit und Aktualität übernommen werden. \n\nDer RESET-Button löscht alle Eingaben."]
[]
[]
[]
[]
[]
[]
[]
[]
[]
[]
[]
[]
[]
[]
[]
[]
[]
[]
[null,null,null,null,null,null,null,null,null,null,null,null,null,null,null,null,null,null,null,null,null,null,null,null,null,null,null,null,null,null,null,null,null,null,null,null,null,null,null,"Version 1.0"]
[]
[null,null,null,null,null,null,null,null,null,null,null,null,null,null,null,null,null,null,null,null,null,null,null,null,null,null,null,null,null,null,null,null,null,null,null,null,null,null,null,"Stand: März 2022  | www.bankzeit.de | info@bankzeit.de"]

{"sheet":"Einladungen | Übersicht","index":1,"n_rows":208,"n_cols":28,"rows_kept":208,"cut":false,"hidden":false,"merged":[[30,1,32,5],[22,1,24,5],[26,1,28,5],[6,26,6,27],[4,13,5,14],[4,11,5,12],[1,26,5,26],[1,27,5,27],[13,4,14,5],[13,1,13,3],[14,1,14,3],[7,1,8,3],[7,4,8,5],[10,1,11,3],[10,4,11,5],[19,1,20,3],[2,15,5,23],[1,15,1,23],[3,7,5,10],[3,11,3,12],[3,13,3,14],[19,4,20,5],[16,1,17,3],[16,4,17,5],[1,13,2,14],[1,11,2,12],[1,7,2,10],[1,1,6,5]]}
[]
[null,"Feier am\n…...",null,null,null,null,null,{"$f":"SUM(I9:I208)","v":0},null,null,null,{"$f":"SUM(S9:S208)","v":0},null,{"$f":"SUM(U9:U208)","v":0},null,"eintragen"]
[null,null,null,null,null,null,null,null,null,null,null,null,null,null,null,"Zusagen und Absagen"]
[null,null,null,null,null,null,null,"ein(ge)laden",null,null,null,"Zusagen + offen",null,"Bisher keine Rückmeldung"]
[null,null,null,null,null,null,null,null,null,null,null,{"$f":"L2+N5","v":0},null,{"$f":"SUM(W9:W208)","v":0}]
[]
[null,null,null,null,null,null,null,null,null,null,null,null,null,null,null,null,null,null,null,null,null,null,null,null,null,null,"Wird für die Erstellung von Adressaufklebern benötigt:"]
[null,null,null,null,null,null,null,"#","P","G","Nachname","Vorname","Vorname","Nachname","Vorname",null,"E",null,"Z",null,"A",null,"O",{"$f":"SUM(X9:X208)","v":0},null,null,"Straße Nr","PLZ Ort"]
[null,null,null,null,null,null,null,{"$f":"IF(L9=\"\",0,1)","v":0},{"$f":"IF(L9=\"\",0,COUNTA(L9:M9,O9))","v":0},null,null,null,null,null,null,{"$f":"IF(Q9-S9-U9<0,1)","v":{"$error":"#VALUE!"}},{"$f":"IF(L9=\"\",\"\",I9)","v":""},{"$f":"IF(Q9-S9-U9<0,1)","v":{"$error":"#VALUE!"}},null,{"$f":"IF(Q9-S9-U9<0,1)","v":{"$error":"#VALUE!"}},null,{"$f":"IF(Q9-S9-U9<0,1)","v":{"$error":"#VALUE!"}},{"$f":"IF(Q9=\"\",\"\",IF((Q9-S9-U9)<0,0,Q9-S9-U9))","v":""},{"$f":"IF(S9+U9>Q9,1,0)","v":0}]
[null,null,null,null,null,null,null,{"$f":"IF(L10=\"\",0,H9+1)","v":0},{"$f":"IF(L10=\"\",0,COUNTA(L10:M10,O10))","v":0},null,null,null,null,null,null,{"$error":"#VALUE!"},{"$f":"IF(L10=\"\",\"\",I10)","v":""},{"$error":"#VALUE!"},null,{"$error":"#VALUE!"},null,{"$error":"#VALUE!"},"",0]
[null,"Zusagen",null,null,{"$f":"SUM(S9:S208)","v":0},null,null,{"$f":"IF(L11=\"\",0,H10+1)","v":0},{"$f":"IF(L11=\"\",0,COUNTA(L11:M11,O11))","v":0},null,null,null,null,null,null,{"$error":"#VALUE!"},{"$f":"IF(L11=\"\",\"\",I11)","v":""},{"$error":"#VALUE!"},null,{"$error":"#VALUE!"},null,{"$error":"#VALUE!"},"",0]
[null,null,null,null,null,null,null,0,0,null,null,null,null,null,null,{"$error":"#VALUE!"},{"$f":"IF(L12=\"\",\"\",I12)","v":""},{"$error":"#VALUE!"},null,{"$error":"#VALUE!"},null,{"$error":"#VALUE!"},"",0]
[null,null,null,null,null,null,null,0,0,null,null,null,null,null,null,{"$error":"#VALUE!"},{"$f":"IF(L13=\"\",\"\",I13)","v":""},{"$error":"#VALUE!"},null,{"$error":"#VALUE!"},null,{"$error":"#VALUE!"},"",0]
[null,"Maximal:",null,null,{"$f":"E11+E17","v":0},null,null,0,0,null,null,null,null,null,null,false,{"$f":"IF(L14=\"\",0,I14)","v":0},false,null,false,null,false,0,0]
[null,"(Zusagen + Offen)",null,null,null,null,null,0,0,null,null,null,null,null,null,false,0,false,null,false,null,false,0,0]
[null,null,null,null,null,null,null,0,0,null,null,null,null,null,null,false,0,false,null,false,null,false,0,0]
[null,"Offen:",null,null,{"$f":"SUM(W9:W208)","v":0},null,null,0,0,null,null,null,null,null,null,false,0,false,null,false,null,false,0,0]
[null,null,null,null,null,null,null,0,0,null,null,null,null,null,null,false,0,false,null,false,null,false,0,0]
[null,null,null,null,null,null,null,0,0,null,null,null,null,null,null,false,0,false,null,false,null,false,0,0]
[null,"Absagen:",null,null,{"$f":"SUM(U9:U208)","v":0},null,null,0,0,null,null,null,null,null,null,false,0,false,null,false,null,false,0,0]
[null,null,null,null,null,null,null,0,0,null,null,null,null,null,null,false,0,false,null,false,null,false,0,0]
[null,null,null,null,null,null,null,0,0,null,null,null,null,null,null,false,0,false,null,false,null,false,0,0]
[null,null,null,null,null,null,null,0,0,null,null,null,null,null,null,false,0,false,null,false,null,false,0,0]
[null,null,null,null,null,null,null,0,0,null,null,null,null,null,null,{"$f":"IF(Q24-S24-U24<0,1)","v":false},{"$f":"IF(L24=\"\",0,I24)","v":0},{"$f":"IF(Q24-S24-U24<0,1)","v":false},null,{"$f":"IF(Q24-S24-U24<0,1)","v":false},null,{"$f":"IF(Q24-S24-U24<0,1)","v":false},0,0]
[null,null,null,null,null,null,null,0,0,null,null,null,null,null,null,false,0,false,null,false,null,false,0,0]
[null,null,null,null,null,null,null,0,0,null,null,null,null,null,null,false,0,false,null,false,null,false,0,0]
[null,null,null,null,null,null,null,0,0,null,null,null,null,null,null,false,0,false,null,false,null,false,0,0]
[null,null,null,null,null,null,null,0,0,null,null,null,null,null,null,false,0,false,null,false,null,false,0,0]
[null,null,null,null,null,null,null,0,0,null,null,null,null,null,null,false,0,false,null,false,null,false,0,0]
[null,null,null,null,null,null,null,0,0,null,null,null,null,null,null,false,0,false,null,false,null,false,0,0]
[null,null,null,null,null,null,null,0,0,null,null,null,null,null,null,false,0,false,null,false,null,false,0,0]
[null,null,null,null,null,null,null,0,0,null,null,null,null,null,null,false,0,false,null,false,null,false,0,0]
[null,null,null,null,null,null,null,0,0,null,null,null,null,null,null,false,0,false,null,false,null,false,0,0]
[null,null,null,null,null,null,null,0,0,null,null,null,null,null,null,false,0,false,null,false,null,false,0,0]
[null,null,null,null,null,null,null,0,0,null,null,null,null,null,null,false,0,false,null,false,null,false,0,0]
[null,null,null,null,null,null,null,0,0,null,null,null,null,null,null,false,0,false,null,false,null,false,0,0]
[null,null,null,null,null,null,null,0,0,null,null,null,null,null,null,false,0,false,null,false,null,false,0,0]
[null,null,null,null,null,null,null,0,0,null,null,null,null,null,null,false,0,false,null,false,null,false,0,0]
[null,null,null,null,null,null,null,0,0,null,null,null,null,null,null,false,0,false,null,false,null,false,0,0]
[null,null,null,null,null,null,null,0,0,null,null,null,null,null,null,false,0,false,null,false,null,false,0,0]
[null,null,null,null,null,null,null,0,0,null,null,null,null,null,null,false,0,false,null,false,null,false,{"$f":"IF(Q41=\"\",\"\",IF((Q41-S41-U41)<0,0,Q41-S41-U41))","v":0},{"$f":"IF(S41+U41>Q41,1,0)","v":0}]
[null,null,null,null,null,null,null,0,0,null,null,null,null,null,null,false,0,false,null,false,null,false,0,0]
[null,null,null,null,null,null,null,0,0,null,null,null,null,null,null,false,0,false,null,false,null,false,0,0]
[null,null,null,null,null,null,null,0,0,null,null,null,null,null,null,false,0,false,null,false,null,false,0,0]
[null,null,null,null,null,null,null,0,0,null,null,null,null,null,null,false,0,false,null,false,null,false,0,0]
[null,null,null,null,null,null,null,0,0,null,null,null,null,null,null,{"$f":"IF(Q46-S46-U46<0,1)","v":false},{"$f":"IF(L46=\"\",0,I46)","v":0},{"$f":"IF(Q46-S46-U46<0,1)","v":false},null,false,null,{"$f":"IF(Q46-S46-U46<0,1)","v":false},0,0]
[null,null,null,null,null,null,null,0,0,null,null,null,null,null,null,false,0,false,null,{"$f":"IF(Q47-S47-U47<0,1)","v":false},null,false,0,0]
[null,null,null,null,null,null,null,0,0,null,null,null,null,null,null,false,0,false,null,false,null,false,0,0]
[null,null,null,null,null,null,null,0,0,null,null,null,null,null,null,false,0,false,null,false,null,false,0,0]
[null,null,null,null,null,null,null,0,0,null,null,null,null,null,null,false,0,false,null,false,null,false,0,0]
[null,null,null,null,null,null,null,0,0,null,null,null,null,null,null,false,0,false,null,false,null,false,0,0]
[null,null,null,null,null,null,null,0,0,null,null,null,null,null,null,false,0,false,null,false,null,false,0,0]
[null,null,null,null,null,null,null,0,0,null,null,null,null,null,null,false,0,false,null,false,null,false,0,0]
[null,null,null,null,null,null,null,0,0,null,null,null,null,null,null,false,0,false,null,false,null,false,0,0]
[null,null,null,null,null,null,null,0,0,null,null,null,null,null,null,false,0,false,null,false,null,false,0,0]
[null,null,null,null,null,null,null,0,0,null,null,null,null,null,null,false,0,false,null,false,null,false,0,0]
[null,null,null,null,null,null,null,0,0,null,null,null,null,null,null,false,0,false,null,false,null,false,0,0]
[null,null,null,null,null,null,null,0,0,null,null,null,null,null,null,false,0,false,null,false,null,false,0,0]
[null,null,null,null,null,null,null,0,0,null,null,null,null,null,null,false,0,false,null,false,null,false,0,0]
[null,null,null,null,null,null,null,0,0,null,null,null,null,null,null,false,0,false,null,false,null,false,0,0]
[null,null,null,null,null,null,null,0,0,null,null,null,null,null,null,false,0,false,null,false,null,false,0,0]
[null,null,null,null,null,null,null,0,0,null,null,null,null,null,null,false,0,false,null,false,null,false,0,0]
[null,null,null,null,null,null,null,0,0,null,null,null,null,null,null,false,0,false,null,false,null,false,0,0]
[null,null,null,null,null,null,null,0,0,null,null,null,null,null,null,false,0,false,null,false,null,false,0,0]
[null,null,null,null,null,null,null,0,0,null,null,null,null,null,null,false,0,false,null,false,null,false,0,0]
[null,null,null,null,null,null,null,0,0,null,null,null,null,null,null,false,0,false,null,false,null,false,0,0]
[null,null,null,null,null,null,null,0,0,null,null,null,null,null,null,false,0,false,null,false,null,false,0,0]
[null,null,null,null,null,null,null,0,0,null,null,null,null,null,null,false,0,false,null,false,null,false,0,0]
[null,null,null,null,null,null,null,0,0,null,null,null,null,null,null,false,0,false,null,false,null,false,0,0]
[null,null,null,null,null,null,null,0,0,null,null,null,null,null,null,false,0,false,null,false,null,false,0,0]
[null,null,null,null,null,null,null,0,0,null,null,null,null,null,null,false,0,false,null,false,null,false,0,0]
[null,null,null,null,null,null,null,0,0,null,null,null,null,null,null,false,0,false,null,false,null,false,0,0]
[null,null,null,null,null,null,null,0,0,null,null,null,null,null,null,false,0,false,null,false,null,false,{"$f":"IF(Q73=\"\",\"\",IF((Q73-S73-U73)<0,0,Q73-S73-U73))","v":0},{"$f":"IF(S73+U73>Q73,1,0)","v":0}]
[null,null,null,null,null,null,null,0,0,null,null,null,null,null,null,false,0,false,null,false,null,false,0,0]
[null,null,null,null,null,null,null,{"$f":"IF(L75=\"\",0,H74+1)","v":0},{"$f":"IF(L75=\"\",0,COUNTA(L75:M75,O75))","v":0},null,null,null,null,null,null,false,0,false,null,false,null,false,0,0]
[null,null,null,null,null,null,null,0,0,null,null,null,null,null,null,false,0,false,null,false,null,false,0,0]
[null,null,null,null,null,null,null,0,0,null,null,null,null,null,null,false,0,false,null,false,null,false,0,0]
[null,null,null,null,null,null,null,0,0,null,null,null,null,null,null,{"$f":"IF(Q78-S78-U78<0,1)","v":false},{"$f":"IF(L78=\"\",0,I78)","v":0},{"$f":"IF(Q78-S78-U78<0,1)","v":false},null,false,null,{"$f":"IF(Q78-S78-U78<0,1)","v":false},0,0]
[null,null,null,null,null,null,null,0,0,null,null,null,null,null,null,false,0,false,null,{"$f":"IF(Q79-S79-U79<0,1)","v":false},null,false,0,0]
[null,null,null,null,null,null,null,0,0,null,null,null,null,null,null,false,0,false,null,false,null,false,0,0]
[null,null,null,null,null,null,null,0,0,null,null,null,null,null,null,false,0,false,null,false,null,false,0,0]
[null,null,null,null,null,null,null,0,0,null,null,null,null,null,null,false,0,false,null,false,null,false,0,0]
[null,null,null,null,null,null,null,0,0,null,null,null,null,null,null,false,0,false,null,false,null,false,0,0]
[null,null,null,null,null,null,null,0,0,null,null,null,null,null,null,false,0,false,null,false,null,false,0,0]
[null,null,null,null,null,null,null,0,0,null,null,null,null,null,null,false,0,false,null,false,null,false,0,0]
[null,null,null,null,null,null,null,0,0,null,null,null,null,null,null,false,0,false,null,false,null,false,0,0]
[null,null,null,null,null,null,null,0,0,null,null,null,null,null,null,false,0,false,null,false,null,false,0,0]
[null,null,null,null,null,null,null,0,0,null,null,null,null,null,null,false,0,false,null,false,null,false,0,0]
[null,null,null,null,null,null,null,0,0,null,null,null,null,null,null,false,0,false,null,false,null,false,0,0]
[null,null,null,null,null,null,null,0,0,null,null,null,null,null,null,false,0,false,null,false,null,false,0,0]
[null,null,null,null,null,null,null,0,0,null,null,null,null,null,null,false,0,false,null,false,null,false,0,0]
[null,null,null,null,null,null,null,0,0,null,null,null,null,null,null,false,0,false,null,false,null,false,0,0]
[null,null,null,null,null,null,null,0,0,null,null,null,null,null,null,false,0,false,null,false,null,false,0,0]
[null,null,null,null,null,null,null,0,0,null,null,null,null,null,null,false,0,false,null,false,null,false,0,0]
[null,null,null,null,null,null,null,0,0,null,null,null,null,null,null,false,0,false,null,false,null,false,0,0]
[null,null,null,null,null,null,null,0,0,null,null,null,null,null,null,false,0,false,null,false,null,false,0,0]
[null,null,null,null,null,null,null,0,0,null,null,null,null,null,null,false,0,false,null,false,null,false,0,0]
[null,null,null,null,null,null,null,0,0,null,null,null,null,null,null,false,0,false,null,false,null,false,0,0]
[null,null,null,null,null,null,null,0,0,null,null,null,null,null,null,false,0,false,null,false,null,false,0,0]
[null,null,null,null,null,null,null,0,0,null,null,null,null,null,null,false,0,false,null,false,null,false,0,0]
[null,null,null,null,null,null,null,0,0,null,null,null,null,null,null,false,0,false,null,false,null,false,0,0]
[null,null,null,null,null,null,null,0,0,null,null,null,null,null,null,false,0,false,null,false,null,false,0,0]
[null,null,null,null,null,null,null,0,0,null,null,null,null,null,null,false,0,false,null,false,null,false,0,0]
[null,null,null,null,null,null,null,0,0,null,null,null,null,null,null,false,0,false,null,false,null,false,0,0]
[null,null,null,null,null,null,null,0,0,null,null,null,null,null,null,false,0,false,null,false,null,false,{"$f":"IF(Q105=\"\",\"\",IF((Q105-S105-U105)<0,0,Q105-S105-U105))","v":0},{"$f":"IF(S105+U105>Q105,1,0)","v":0}]
[null,null,null,null,null,null,null,0,0,null,null,null,null,null,null,false,0,false,null,false,null,false,0,0]
[null,null,null,null,null,null,null,0,0,null,null,null,null,null,null,false,0,false,null,false,null,false,0,0]
[null,null,null,null,null,null,null,0,0,null,null,null,null,null,null,false,0,false,null,false,null,false,0,0]
[null,null,null,null,null,null,null,0,0,null,null,null,null,null,null,false,0,false,null,false,null,false,0,0]
[null,null,null,null,null,null,null,0,0,null,null,null,null,null,null,{"$f":"IF(Q110-S110-U110<0,1)","v":false},{"$f":"IF(L110=\"\",0,I110)","v":0},{"$f":"IF(Q110-S110-U110<0,1)","v":false},null,false,null,{"$f":"IF(Q110-S110-U110<0,1)","v":false},0,0]
[null,null,null,null,null,null,null,0,0,null,null,null,null,null,null,false,0,false,null,{"$f":"IF(Q111-S111-U111<0,1)","v":false},null,false,0,0]
[null,null,null,null,null,null,null,0,0,null,null,null,null,null,null,false,0,false,null,false,null,false,0,0]
[null,null,null,null,null,null,null,0,0,null,null,null,null,null,null,false,0,false,null,false,null,false,0,0]
[null,null,null,null,null,null,null,0,0,null,null,null,null,null,null,false,0,false,null,false,null,false,0,0]
[null,null,null,null,null,null,null,0,0,null,null,null,null,null,null,false,0,false,null,false,null,false,0,0]
[null,null,null,null,null,null,null,0,0,null,null,null,null,null,null,false,0,false,null,false,null,false,0,0]
[null,null,null,null,null,null,null,0,0,null,null,null,null,null,null,false,0,false,null,false,null,false,0,0]
[null,null,null,null,null,null,null,0,0,null,null,null,null,null,null,false,0,false,null,false,null,false,0,0]
[null,null,null,null,null,null,null,0,0,null,null,null,null,null,null,false,0,false,null,false,null,false,0,0]
[null,null,null,null,null,null,null,0,0,null,null,null,null,null,null,false,0,false,null,false,null,false,0,0]
[null,null,null,null,null,null,null,0,0,null,null,null,null,null,null,false,0,false,null,false,null,false,0,0]
[null,null,null,null,null,null,null,0,0,null,null,null,null,null,null,false,0,false,null,false,null,false,0,0]
[null,null,null,null,null,null,null,0,0,null,null,null,null,null,null,false,0,false,null,false,null,false,0,0]
[null,null,null,null,null,null,null,0,0,null,null,null,null,null,null,false,0,false,null,false,null,false,0,0]
[null,null,null,null,null,null,null,0,0,null,null,null,null,null,null,false,0,false,null,false,null,false,0,0]
[null,null,null,null,null,null,null,0,0,null,null,null,null,null,null,false,0,false,null,false,null,false,0,0]
[null,null,null,null,null,null,null,0,0,null,null,null,null,null,null,false,0,false,null,false,null,false,0,0]
[null,null,null,null,null,null,null,0,0,null,null,null,null,null,null,false,0,false,null,false,null,false,0,0]
[null,null,null,null,null,null,null,0,0,null,null,null,null,null,null,false,0,false,null,false,null,false,0,0]
[null,null,null,null,null,null,null,0,0,null,null,null,null,null,null,false,0,false,null,false,null,false,0,0]
[null,null,null,null,null,null,null,0,0,null,null,null,null,null,null,false,0,false,null,false,null,false,0,0]
[null,null,null,null,null,null,null,0,0,null,null,null,null,null,null,false,0,false,null,false,null,false,0,0]
[null,null,null,null,null,null,null,0,0,null,null,null,null,null,null,false,0,false,null,false,null,false,0,0]
[null,null,null,null,null,null,null,0,0,null,null,null,null,null,null,false,0,false,null,false,null,false,0,0]
[null,null,null,null,null,null,null,0,0,null,null,null,null,null,null,false,0,false,null,false,null,false,0,0]
[null,null,null,null,null,null,null,0,0,null,null,null,null,null,null,false,0,false,null,false,null,false,0,0]
[null,null,null,null,null,null,null,0,0,null,null,null,null,null,null,false,0,false,null,false,null,false,{"$f":"IF(Q137=\"\",\"\",IF((Q137-S137-U137)<0,0,Q137-S137-U137))","v":0},{"$f":"IF(S137+U137>Q137,1,0)","v":0}]
[null,null,null,null,null,null,null,0,0,null,null,null,null,null,null,false,0,false,null,false,null,false,0,0]
[null,null,null,null,null,null,null,{"$f":"IF(L139=\"\",0,H138+1)","v":0},{"$f":"IF(L139=\"\",0,COUNTA(L139:M139,O139))","v":0},null,null,null,null,null,null,false,0,false,null,false,null,false,0,0]
[null,null,null,null,null,null,null,0,0,null,null,null,null,null,null,false,0,false,null,false,null,false,0,0]
[null,null,null,null,null,null,null,0,0,null,null,null,null,null,null,false,0,false,null,false,null,false,0,0]
[null,null,null,null,null,null,null,0,0,null,null,null,null,null,null,{"$f":"IF(Q142-S142-U142<0,1)","v":false},{"$f":"IF(L142=\"\",0,I142)","v":0},{"$f":"IF(Q142-S142-U142<0,1)","v":false},null,false,null,{"$f":"IF(Q142-S142-U142<0,1)","v":false},0,0]
[null,null,null,null,null,null,null,0,0,null,null,null,null,null,null,false,0,false,null,{"$f":"IF(Q143-S143-U143<0,1)","v":false},null,false,0,0]
[null,null,null,null,null,null,null,0,0,null,null,null,null,null,null,false,0,false,null,false,null,false,0,0]
[null,null,null,null,null,null,null,0,0,null,null,null,null,null,null,false,0,false,null,false,null,false,0,0]
[null,null,null,null,null,null,null,0,0,null,null,null,null,null,null,false,0,false,null,false,null,false,0,0]
[null,null,null,null,null,null,null,0,0,null,null,null,null,null,null,false,0,false,null,false,null,false,0,0]
[null,null,null,null,null,null,null,0,0,null,null,null,null,null,null,false,0,false,null,false,null,false,0,0]
[null,null,null,null,null,null,null,0,0,null,null,null,null,null,null,false,0,false,null,false,null,false,0,0]
[null,null,null,null,null,null,null,0,0,null,null,null,null,null,null,false,0,false,null,false,null,false,0,0]
[null,null,null,null,null,null,null,0,0,null,null,null,null,null,null,false,0,false,null,false,null,false,0,0]
[null,null,null,null,null,null,null,0,0,null,null,null,null,null,null,false,0,false,null,false,null,false,0,0]
[null,null,null,null,null,null,null,0,0,null,null,null,null,null,null,false,0,false,null,false,null,false,0,0]
[null,null,null,null,null,null,null,0,0,null,null,null,null,null,null,false,0,false,null,false,null,false,0,0]
[null,null,null,null,null,null,null,0,0,null,null,null,null,null,null,false,0,false,null,false,null,false,0,0]
[null,null,null,null,null,null,null,0,0,null,null,null,null,null,null,false,0,false,null,false,null,false,0,0]
[null,null,null,null,null,null,null,0,0,null,null,null,null,null,null,false,0,false,null,false,null,false,0,0]
[null,null,null,null,null,null,null,0,0,null,null,null,null,null,null,false,0,false,null,false,null,false,0,0]
[null,null,null,null,null,null,null,0,0,null,null,null,null,null,null,false,0,false,null,false,null,false,0,0]
[null,null,null,null,null,null,null,0,0,null,null,null,null,null,null,false,0,false,null,false,null,false,0,0]
[null,null,null,null,null,null,null,0,0,null,null,null,null,null,null,false,0,false,null,false,null,false,0,0]
[null,null,null,null,null,null,null,0,0,null,null,null,null,null,null,false,0,false,null,false,null,false,0,0]
[null,null,null,null,null,null,null,0,0,null,null,null,null,null,null,false,0,false,null,false,null,false,0,0]
[null,null,null,null,null,null,null,0,0,null,null,null,null,null,null,false,0,false,null,false,null,false,0,0]
[null,null,null,null,null,null,null,0,0,null,null,null,null,null,null,false,0,false,null,false,null,false,0,0]
[null,null,null,null,null,null,null,0,0,null,null,null,null,null,null,false,0,false,null,false,null,false,0,0]
[null,null,null,null,null,null,null,0,0,null,null,null,null,null,null,false,0,false,null,false,null,false,0,0]
[null,null,null,null,null,null,null,0,0,null,null,null,null,null,null,false,0,false,null,false,null,false,0,0]
[null,null,null,null,null,null,null,0,0,null,null,null,null,null,null,false,0,false,null,false,null,false,{"$f":"IF(Q169=\"\",\"\",IF((Q169-S169-U169)<0,0,Q169-S169-U169))","v":0},{"$f":"IF(S169+U169>Q169,1,0)","v":0}]
[null,null,null,null,null,null,null,0,0,null,null,null,null,null,null,false,0,false,null,false,null,false,0,0]
[null,null,null,null,null,null,null,0,0,null,null,null,null,null,null,false,0,false,null,false,null,false,0,0]
[null,null,null,null,null,null,null,0,0,null,null,null,null,null,null,false,0,false,null,false,null,false,0,0]
[null,null,null,null,null,null,null,0,0,null,null,null,null,null,null,false,0,false,null,false,null,false,0,0]
[null,null,null,null,null,null,null,0,0,null,null,null,null,null,null,{"$f":"IF(Q174-S174-U174<0,1)","v":false},{"$f":"IF(L174=\"\",0,I174)","v":0},{"$f":"IF(Q174-S174-U174<0,1)","v":false},null,false,null,{"$f":"IF(Q174-S174-U174<0,1)","v":false},0,0]
[null,null,null,null,null,null,null,0,0,null,null,null,null,null,null,false,0,false,null,{"$f":"IF(Q175-S175-U175<0,1)","v":false},null,false,0,0]
[null,null,null,null,null,null,null,0,0,null,null,null,null,null,null,false,0,false,null,false,null,false,0,0]
[null,null,null,null,null,null,null,0,0,null,null,null,null,null,null,false,0,false,null,false,null,false,0,0]
[null,null,null,null,null,null,null,0,0,null,null,null,null,null,null,false,0,false,null,false,null,false,0,0]
[null,null,null,null,null,null,null,0,0,null,null,null,null,null,null,false,0,false,null,false,null,false,0,0]
[null,null,null,null,null,null,null,0,0,null,null,null,null,null,null,false,0,false,null,false,null,false,0,0]
[null,null,null,null,null,null,null,0,0,null,null,null,null,null,null,false,0,false,null,false,null,false,0,0]
[null,null,null,null,null,null,null,0,0,null,null,null,null,null,null,false,0,false,null,false,null,false,0,0]
[null,null,null,null,null,null,null,0,0,null,null,null,null,null,null,false,0,false,null,false,null,false,0,0]
[null,null,null,null,null,null,null,0,0,null,null,null,null,null,null,false,0,false,null,false,null,false,0,0]
[null,null,null,null,null,null,null,0,0,null,null,null,null,null,null,false,0,false,null,false,null,false,0,0]
[null,null,null,null,null,null,null,0,0,null,null,null,null,null,null,false,0,false,null,false,null,false,0,0]
[null,null,null,null,null,null,null,0,0,null,null,null,null,null,null,false,0,false,null,false,null,false,0,0]
[null,null,null,null,null,null,null,0,0,null,null,null,null,null,null,false,0,false,null,false,null,false,0,0]
[null,null,null,null,null,null,null,0,0,null,null,null,null,null,null,false,0,false,null,false,null,false,0,0]
[null,null,null,null,null,null,null,0,0,null,null,null,null,null,null,false,0,false,null,false,null,false,0,0]
[null,null,null,null,null,null,null,0,0,null,null,null,null,null,null,false,0,false,null,false,null,false,0,0]
[null,null,null,null,null,null,null,0,0,null,null,null,null,null,null,false,0,false,null,false,null,false,0,0]
[null,null,null,null,null,null,null,0,0,null,null,null,null,null,null,false,0,false,null,false,null,false,0,0]
[null,null,null,null,null,null,null,0,0,null,null,null,null,null,null,false,0,false,null,false,null,false,0,0]
[null,null,null,null,null,null,null,0,0,null,null,null,null,null,null,false,0,false,null,false,null,false,0,0]
[null,null,null,null,null,null,null,0,0,null,null,null,null,null,null,false,0,false,null,false,null,false,0,0]
[null,null,null,null,null,null,null,0,0,null,null,null,null,null,null,false,0,false,null,false,null,false,0,0]
[null,null,null,null,null,null,null,0,0,null,null,null,null,null,null,false,0,false,null,false,null,false,0,0]
[null,null,null,null,null,null,null,0,0,null,null,null,null,null,null,false,0,false,null,false,null,false,0,0]
[null,null,null,null,null,null,null,0,0,null,null,null,null,null,null,false,0,false,null,false,null,false,0,0]
[null,null,null,null,null,null,null,0,0,null,null,null,null,null,null,false,0,false,null,false,null,false,{"$f":"IF(Q201=\"\",\"\",IF((Q201-S201-U201)<0,0,Q201-S201-U201))","v":0},{"$f":"IF(S201+U201>Q201,1,0)","v":0}]
[null,null,null,null,null,null,null,0,0,null,null,null,null,null,null,false,0,false,null,false,null,false,0,0]
[null,null,null,null,null,null,null,{"$f":"IF(L203=\"\",0,H202+1)","v":0},{"$f":"IF(L203=\"\",0,COUNTA(L203:M203,O203))","v":0},null,null,null,null,null,null,false,0,false,null,false,null,false,0,0]
[null,null,null,null,null,null,null,0,0,null,null,null,null,null,null,false,0,false,null,false,null,false,0,0]
[null,null,null,null,null,null,null,0,0,null,null,null,null,null,null,false,0,false,null,false,null,false,0,0]
[null,null,null,null,null,null,null,0,0,null,null,null,null,null,null,{"$f":"IF(Q206-S206-U206<0,1)","v":false},0,{"$f":"IF(Q206-S206-U206<0,1)","v":false},null,false,null,{"$f":"IF(Q206-S206-U206<0,1)","v":false},0,0]
[null,null,null,null,null,null,null,0,0,null,null,null,null,null,null,false,0,false,null,{"$f":"IF(Q207-S207-U207<0,1)","v":false},null,false,0,0]
[null,null,null,null,null,null,null,0,0,null,null,null,null,null,null,false,0,false,null,false,null,false,0,0]

{"sheet":"Adressen | Druck","index":2,"n_rows":303,"n_cols":22,"rows_kept":303,"cut":false,"hidden":false,"merged":[[1,2,1,3],[2,8,2,16],[2,2,2,3]]}
[null,{"$f":"IF(C1>48,\"Absender zu lang !\",\"\")","v":""},{"$f":"LEN(C2)","v":32}]
[null,"Absender max. 48 Zeichen (optional) >","Hier könnte der Absender stehen.",null,null,null,null,null,null,null,null,null,null,null,null,null,null,null,null,"Z","A","O"]
[null,"zur         Startseite","zu Einladungen   |   Übersicht | An- und Absagen",null,null,null,null,null,"Daten zur Steuerung der Adressliste",null,null,null,null,null,null,null,null,10,11,12,13,14]
[null,{"$f":"IF(B6=\"\",\"\",IF($C$2=\"\",\"\",$C$2))","v":""},{"$f":"IF(C6=\"\",\"\",IF($C$2=\"\",\"\",$C$2))","v":""},{"$f":"IF(D6=\"\",\"\",IF($C$2=\"\",\"\",$C$2))","v":""},{"$f":"IF(E6=\"\",\"\",IF($C$2=\"\",\"\",$C$2))","v":""},null,null,null,1,{"$f":"'Einladungen | Übersicht'!H9","v":0},{"$f":"'Einladungen | Übersicht'!K9","v":0},{"$f":"'Einladungen | Übersicht'!L9","v":0},{"$f":"'Einladungen | Übersicht'!M9","v":0},{"$f":"'Einladungen | Übersicht'!N9","v":0},{"$f":"'Einladungen | Übersicht'!O9","v":0},{"$f":"'Einladungen | Übersicht'!AA9","v":0},{"$f":"'Einladungen | Übersicht'!AB9","v":0},{"$f":"IF(M4=0,L4&\" \"&K4,L4&\" & \"&M4&\" \"&K4)","v":"0 0"},{"$f":"IF(N4=0,\"\",\"und \"&O4&\" \"&N4)","v":""},{"$f":"'Einladungen | Übersicht'!S9","v":0},{"$f":"'Einladungen | Übersicht'!U9","v":0},{"$f":"'Einladungen | Übersicht'!W9","v":""}]
[null,{"$f":"IF(VLOOKUP(B9,Gäste,6)=0,\"\",VLOOKUP(B9,Gäste,10))","v":""},{"$f":"IF(VLOOKUP(C9,Gäste,6)=0,\"\",VLOOKUP(C9,Gäste,10))","v":""},{"$f":"IF(VLOOKUP(D9,Gäste,6)=0,\"\",VLOOKUP(D9,Gäste,10))","v":""},{"$f":"IF(VLOOKUP(E9,Gäste,6)=0,\"\",VLOOKUP(E9,Gäste,10))","v":""},null,null,null,2,{"$f":"'Einladungen | Übersicht'!H10","v":0},{"$f":"'Einladungen | Übersicht'!K10","v":0},{"$f":"'Einladungen | Übersicht'!L10","v":0},{"$f":"'Einladungen | Übersicht'!M10","v":0},{"$f":"'Einladungen | Übersicht'!N10","v":0},{"$f":"'Einladungen | Übersicht'!O10","v":0},{"$f":"'Einladungen | Übersicht'!AA10","v":0},{"$f":"'Einladungen | Übersicht'!AB10","v":0},{"$f":"IF(M5=0,L5&\" \"&K5,L5&\" & \"&M5&\" \"&K5)","v":"0 0"},{"$f":"IF(N5=0,\"\",\"und \"&O5&\" \"&N5)","v":""},{"$f":"'Einladungen | Übersicht'!S10","v":0},{"$f":"'Einladungen | Übersicht'!U10","v":0},{"$f":"'Einladungen | Übersicht'!W10","v":""}]
[null,{"$f":"IF(VLOOKUP(B9,Gäste,3)=0,\"\",IF(VLOOKUP(B9,Gäste,6)=0,VLOOKUP(B9,Gäste,10),VLOOKUP(B9,Gäste,11)))","v":""},{"$f":"IF(VLOOKUP(C9,Gäste,3)=0,\"\",IF(VLOOKUP(C9,Gäste,6)=0,VLOOKUP(C9,Gäste,10),VLOOKUP(C9,Gäste,11)))","v":""},{"$f":"IF(VLOOKUP(D9,Gäste,3)=0,\"\",IF(VLOOKUP(D9,Gäste,6)=0,VLOOKUP(D9,Gäste,10),VLOOKUP(D9,Gäste,11)))","v":""},{"$f":"IF(VLOOKUP(E9,Gäste,3)=0,\"\",IF(VLOOKUP(E9,Gäste,6)=0,VLOOKUP(E9,Gäste,10),VLOOKUP(E9,Gäste,11)))","v":""},null,null,null,3,{"$f":"'Einladungen | Übersicht'!H11","v":0},{"$f":"'Einladungen | Übersicht'!K11","v":0},{"$f":"'Einladungen | Übersicht'!L11","v":0},{"$f":"'Einladungen | Übersicht'!M11","v":0},{"$f":"'Einladungen | Übersicht'!N11","v":0},{"$f":"'Einladungen | Übersicht'!O11","v":0},{"$f":"'Einladungen | Übersicht'!AA11","v":0},{"$f":"'Einladungen | Übersicht'!AB11","v":0},"0 0",{"$f":"IF(N6=0,\"\",\"und \"&O6&\" \"&N6)","v":""},{"$f":"'Einladungen | Übersicht'!S11","v":0},{"$f":"'Einladungen | Übersicht'!U11","v":0},{"$f":"'Einladungen | Übersicht'!W11","v":""}]
[null,{"$f":"IF(VLOOKUP(B9,Gäste,8)=0,\"\",VLOOKUP(B9,Gäste,8))","v":""},{"$f":"IF(VLOOKUP(C9,Gäste,8)=0,\"\",VLOOKUP(C9,Gäste,8))","v":""},{"$f":"IF(VLOOKUP(D9,Gäste,8)=0,\"\",VLOOKUP(D9,Gäste,8))","v":""},{"$f":"IF(VLOOKUP(E9,Gäste,8)=0,\"\",VLOOKUP(E9,Gäste,8))","v":""},null,null,null,4,{"$f":"'Einladungen | Übersicht'!H12","v":0},{"$f":"'Einladungen | Übersicht'!K12","v":0},{"$f":"'Einladungen | Übersicht'!L12","v":0},{"$f":"'Einladungen | Übersicht'!M12","v":0},{"$f":"'Einladungen | Übersicht'!N12","v":0},{"$f":"'Einladungen | Übersicht'!O12","v":0},{"$f":"'Einladungen | Übersicht'!AA12","v":0},{"$f":"'Einladungen | Übersicht'!AB12","v":0},"0 0","",{"$f":"'Einladungen | Übersicht'!S12","v":0},{"$f":"'Einladungen | Übersicht'!U12","v":0},{"$f":"'Einladungen | Übersicht'!W12","v":""}]
[null,{"$f":"IF(VLOOKUP(B9,Gäste,9)=0,\"\",VLOOKUP(B9,Gäste,9))","v":""},{"$f":"IF(VLOOKUP(C9,Gäste,9)=0,\"\",VLOOKUP(C9,Gäste,9))","v":""},{"$f":"IF(VLOOKUP(D9,Gäste,9)=0,\"\",VLOOKUP(D9,Gäste,9))","v":""},{"$f":"IF(VLOOKUP(E9,Gäste,9)=0,\"\",VLOOKUP(E9,Gäste,9))","v":""},null,null,null,5,{"$f":"'Einladungen | Übersicht'!H13","v":0},{"$f":"'Einladungen | Übersicht'!K13","v":0},{"$f":"'Einladungen | Übersicht'!L13","v":0},{"$f":"'Einladungen | Übersicht'!M13","v":0},{"$f":"'Einladungen | Übersicht'!N13","v":0},{"$f":"'Einladungen | Übersicht'!O13","v":0},{"$f":"'Einladungen | Übersicht'!AA13","v":0},{"$f":"'Einladungen | Übersicht'!AB13","v":0},"0 0","",{"$f":"'Einladungen | Übersicht'!S13","v":0},{"$f":"'Einladungen | Übersicht'!U13","v":0},{"$f":"'Einladungen | Übersicht'!W13","v":""}]
[null,1,2,3,4,null,null,null,6,{"$f":"'Einladungen | Übersicht'!H14","v":0},{"$f":"'Einladungen | Übersicht'!K14","v":0},{"$f":"'Einladungen | Übersicht'!L14","v":0},{"$f":"'Einladungen | Übersicht'!M14","v":0},{"$f":"'Einladungen | Übersicht'!N14","v":0},{"$f":"'Einladungen | Übersicht'!O14","v":0},{"$f":"'Einladungen | Übersicht'!AA14","v":0},{"$f":"'Einladungen | Übersicht'!AB14","v":0},"0 0","",{"$f":"'Einladungen | Übersicht'!S14","v":0},{"$f":"'Einladungen | Übersicht'!U14","v":0},{"$f":"'Einladungen | Übersicht'!W14","v":0}]
[null,{"$f":"IF(B12=\"\",\"\",IF($C$2=\"\",\"\",$C$2))","v":""},{"$f":"IF(C12=\"\",\"\",IF($C$2=\"\",\"\",$C$2))","v":""},{"$f":"IF(D12=\"\",\"\",IF($C$2=\"\",\"\",$C$2))","v":""},{"$f":"IF(E12=\"\",\"\",IF($C$2=\"\",\"\",$C$2))","v":""},null,null,null,7,{"$f":"'Einladungen | Übersicht'!H15","v":0},{"$f":"'Einladungen | Übersicht'!K15","v":0},{"$f":"'Einladungen | Übersicht'!L15","v":0},{"$f":"'Einladungen | Übersicht'!M15","v":0},{"$f":"'Einladungen | Übersicht'!N15","v":0},{"$f":"'Einladungen | Übersicht'!O15","v":0},{"$f":"'Einladungen | Übersicht'!AA15","v":0},{"$f":"'Einladungen | Übersicht'!AB15","v":0},"0 0","",{"$f":"'Einladungen | Übersicht'!S15","v":0},{"$f":"'Einladungen | Übersicht'!U15","v":0},{"$f":"'Einladungen | Übersicht'!W15","v":0}]
[null,{"$f":"IF(VLOOKUP(B15,Gäste,6)=0,\"\",VLOOKUP(B15,Gäste,10))","v":""},{"$f":"IF(VLOOKUP(C15,Gäste,6)=0,\"\",VLOOKUP(C15,Gäste,10))","v":""},{"$f":"IF(VLOOKUP(D15,Gäste,6)=0,\"\",VLOOKUP(D15,Gäste,10))","v":""},{"$f":"IF(VLOOKUP(E15,Gäste,6)=0,\"\",VLOOKUP(E15,Gäste,10))","v":""},null,null,null,8,{"$f":"'Einladungen | Übersicht'!H16","v":0},{"$f":"'Einladungen | Übersicht'!K16","v":0},{"$f":"'Einladungen | Übersicht'!L16","v":0},{"$f":"'Einladungen | Übersicht'!M16","v":0},{"$f":"'Einladungen | Übersicht'!N16","v":0},{"$f":"'Einladungen | Übersicht'!O16","v":0},{"$f":"'Einladungen | Übersicht'!AA16","v":0},{"$f":"'Einladungen | Übersicht'!AB16","v":0},"0 0","",{"$f":"'Einladungen | Übersicht'!S16","v":0},{"$f":"'Einladungen | Übersicht'!U16","v":0},{"$f":"'Einladungen | Übersicht'!W16","v":0}]
[null,{"$f":"IF(VLOOKUP(B15,Gäste,3)=0,\"\",IF(VLOOKUP(B15,Gäste,6)=0,VLOOKUP(B15,Gäste,10),VLOOKUP(B15,Gäste,11)))","v":""},{"$f":"IF(VLOOKUP(C15,Gäste,3)=0,\"\",IF(VLOOKUP(C15,Gäste,6)=0,VLOOKUP(C15,Gäste,10),VLOOKUP(C15,Gäste,11)))","v":""},{"$f":"IF(VLOOKUP(D15,Gäste,3)=0,\"\",IF(VLOOKUP(D15,Gäste,6)=0,VLOOKUP(D15,Gäste,10),VLOOKUP(D15,Gäste,11)))","v":""},{"$f":"IF(VLOOKUP(E15,Gäste,3)=0,\"\",IF(VLOOKUP(E15,Gäste,6)=0,VLOOKUP(E15,Gäste,10),VLOOKUP(E15,Gäste,11)))","v":""},null,null,null,9,{"$f":"'Einladungen | Übersicht'!H17","v":0},{"$f":"'Einladungen | Übersicht'!K17","v":0},{"$f":"'Einladungen | Übersicht'!L17","v":0},{"$f":"'Einladungen | Übersicht'!M17","v":0},{"$f":"'Einladungen | Übersicht'!N17","v":0},{"$f":"'Einladungen | Übersicht'!O17","v":0},{"$f":"'Einladungen | Übersicht'!AA17","v":0},{"$f":"'Einladungen | Übersicht'!AB17","v":0},"0 0","",{"$f":"'Einladungen | Übersicht'!S17","v":0},{"$f":"'Einladungen | Übersicht'!U17","v":0},{"$f":"'Einladungen | Übersicht'!W17","v":0}]
[null,{"$f":"IF(VLOOKUP(B15,Gäste,8)=0,\"\",VLOOKUP(B15,Gäste,8))","v":""},{"$f":"IF(VLOOKUP(C15,Gäste,8)=0,\"\",VLOOKUP(C15,Gäste,8))","v":""},{"$f":"IF(VLOOKUP(D15,Gäste,8)=0,\"\",VLOOKUP(D15,Gäste,8))","v":""},{"$f":"IF(VLOOKUP(E15,Gäste,8)=0,\"\",VLOOKUP(E15,Gäste,8))","v":""},null,null,null,10,{"$f":"'Einladungen | Übersicht'!H18","v":0},{"$f":"'Einladungen | Übersicht'!K18","v":0},{"$f":"'Einladungen | Übersicht'!L18","v":0},{"$f":"'Einladungen | Übersicht'!M18","v":0},{"$f":"'Einladungen | Übersicht'!N18","v":0},{"$f":"'Einladungen | Übersicht'!O18","v":0},{"$f":"'Einladungen | Übersicht'!AA18","v":0},{"$f":"'Einladungen | Übersicht'!AB18","v":0},"0 0","",{"$f":"'Einladungen | Übersicht'!S18","v":0},{"$f":"'Einladungen | Übersicht'!U18","v":0},{"$f":"'Einladungen | Übersicht'!W18","v":0}]
[null,{"$f":"IF(VLOOKUP(B15,Gäste,9)=0,\"\",VLOOKUP(B15,Gäste,9))","v":""},{"$f":"IF(VLOOKUP(C15,Gäste,9)=0,\"\",VLOOKUP(C15,Gäste,9))","v":""},{"$f":"IF(VLOOKUP(D15,Gäste,9)=0,\"\",VLOOKUP(D15,Gäste,9))","v":""},{"$f":"IF(VLOOKUP(E15,Gäste,9)=0,\"\",VLOOKUP(E15,Gäste,9))","v":""},null,null,null,11,{"$f":"'Einladungen | Übersicht'!H19","v":0},{"$f":"'Einladungen | Übersicht'!K19","v":0},{"$f":"'Einladungen | Übersicht'!L19","v":0},{"$f":"'Einladungen | Übersicht'!M19","v":0},{"$f":"'Einladungen | Übersicht'!N19","v":0},{"$f":"'Einladungen | Übersicht'!O19","v":0},{"$f":"'Einladungen | Übersicht'!AA19","v":0},{"$f":"'Einladungen | Übersicht'!AB19","v":0},"0 0","",{"$f":"'Einladungen | Übersicht'!S19","v":0},{"$f":"'Einladungen | Übersicht'!U19","v":0},{"$f":"'Einladungen | Übersicht'!W19","v":0}]
[null,5,6,7,8,null,null,null,12,{"$f":"'Einladungen | Übersicht'!H20","v":0},{"$f":"'Einladungen | Übersicht'!K20","v":0},{"$f":"'Einladungen | Übersicht'!L20","v":0},{"$f":"'Einladungen | Übersicht'!M20","v":0},{"$f":"'Einladungen | Übersicht'!N20","v":0},{"$f":"'Einladungen | Übersicht'!O20","v":0},{"$f":"'Einladungen | Übersicht'!AA20","v":0},{"$f":"'Einladungen | Übersicht'!AB20","v":0},"0 0","",{"$f":"'Einladungen | Übersicht'!S20","v":0},{"$f":"'Einladungen | Übersicht'!U20","v":0},{"$f":"'Einladungen | Übersicht'!W20","v":0}]
[null,{"$f":"IF(B18=\"\",\"\",IF($C$2=\"\",\"\",$C$2))","v":""},{"$f":"IF(C18=\"\",\"\",IF($C$2=\"\",\"\",$C$2))","v":""},{"$f":"IF(D18=\"\",\"\",IF($C$2=\"\",\"\",$C$2))","v":""},{"$f":"IF(E18=\"\",\"\",IF($C$2=\"\",\"\",$C$2))","v":""},null,null,null,13,{"$f":"'Einladungen | Übersicht'!H21","v":0},{"$f":"'Einladungen | Übersicht'!K21","v":0},{"$f":"'Einladungen | Übersicht'!L21","v":0},{"$f":"'Einladungen | Übersicht'!M21","v":0},{"$f":"'Einladungen | Übersicht'!N21","v":0},{"$f":"'Einladungen | Übersicht'!O21","v":0},{"$f":"'Einladungen | Übersicht'!AA21","v":0},{"$f":"'Einladungen | Übersicht'!AB21","v":0},"0 0","",{"$f":"'Einladungen | Übersicht'!S21","v":0},{"$f":"'Einladungen | Übersicht'!U21","v":0},{"$f":"'Einladungen | Übersicht'!W21","v":0}]
[null,{"$f":"IF(VLOOKUP(B21,Gäste,6)=0,\"\",VLOOKUP(B21,Gäste,10))","v":""},{"$f":"IF(VLOOKUP(C21,Gäste,6)=0,\"\",VLOOKUP(C21,Gäste,10))","v":""},{"$f":"IF(VLOOKUP(D21,Gäste,6)=0,\"\",VLOOKUP(D21,Gäste,10))","v":""},{"$f":"IF(VLOOKUP(E21,Gäste,6)=0,\"\",VLOOKUP(E21,Gäste,10))","v":""},null,null,null,14,{"$f":"'Einladungen | Übersicht'!H22","v":0},{"$f":"'Einladungen | Übersicht'!K22","v":0},{"$f":"'Einladungen | Übersicht'!L22","v":0},{"$f":"'Einladungen | Übersicht'!M22","v":0},{"$f":"'Einladungen | Übersicht'!N22","v":0},{"$f":"'Einladungen | Übersicht'!O22","v":0},{"$f":"'Einladungen | Übersicht'!AA22","v":0},{"$f":"'Einladungen | Übersicht'!AB22","v":0},"0 0","",{"$f":"'Einladungen | Übersicht'!S22","v":0},{"$f":"'Einladungen | Übersicht'!U22","v":0},{"$f":"'Einladungen | Übersicht'!W22","v":0}]
[null,{"$f":"IF(VLOOKUP(B21,Gäste,3)=0,\"\",IF(VLOOKUP(B21,Gäste,6)=0,VLOOKUP(B21,Gäste,10),VLOOKUP(B21,Gäste,11)))","v":""},{"$f":"IF(VLOOKUP(C21,Gäste,3)=0,\"\",IF(VLOOKUP(C21,Gäste,6)=0,VLOOKUP(C21,Gäste,10),VLOOKUP(C21,Gäste,11)))","v":""},{"$f":"IF(VLOOKUP(D21,Gäste,3)=0,\"\",IF(VLOOKUP(D21,Gäste,6)=0,VLOOKUP(D21,Gäste,10),VLOOKUP(D21,Gäste,11)))","v":""},{"$f":"IF(VLOOKUP(E21,Gäste,3)=0,\"\",IF(VLOOKUP(E21,Gäste,6)=0,VLOOKUP(E21,Gäste,10),VLOOKUP(E21,Gäste,11)))","v":""},null,null,null,15,{"$f":"'Einladungen | Übersicht'!H23","v":0},{"$f":"'Einladungen | Übersicht'!K23","v":0},{"$f":"'Einladungen | Übersicht'!L23","v":0},{"$f":"'Einladungen | Übersicht'!M23","v":0},{"$f":"'Einladungen | Übersicht'!N23","v":0},{"$f":"'Einladungen | Übersicht'!O23","v":0},{"$f":"'Einladungen | Übersicht'!AA23","v":0},{"$f":"'Einladungen | Übersicht'!AB23","v":0},"0 0","",{"$f":"'Einladungen | Übersicht'!S23","v":0},{"$f":"'Einladungen | Übersicht'!U23","v":0},{"$f":"'Einladungen | Übersicht'!W23","v":0}]
[null,{"$f":"IF(VLOOKUP(B21,Gäste,8)=0,\"\",VLOOKUP(B21,Gäste,8))","v":""},{"$f":"IF(VLOOKUP(C21,Gäste,8)=0,\"\",VLOOKUP(C21,Gäste,8))","v":""},{"$f":"IF(VLOOKUP(D21,Gäste,8)=0,\"\",VLOOKUP(D21,Gäste,8))","v":""},{"$f":"IF(VLOOKUP(E21,Gäste,8)=0,\"\",VLOOKUP(E21,Gäste,8))","v":""},null,null,null,16,{"$f":"'Einladungen | Übersicht'!H24","v":0},{"$f":"'Einladungen | Übersicht'!K24","v":0},{"$f":"'Einladungen | Übersicht'!L24","v":0},{"$f":"'Einladungen | Übersicht'!M24","v":0},{"$f":"'Einladungen | Übersicht'!N24","v":0},{"$f":"'Einladungen | Übersicht'!O24","v":0},{"$f":"'Einladungen | Übersicht'!AA24","v":0},{"$f":"'Einladungen | Übersicht'!AB24","v":0},"0 0","",{"$f":"'Einladungen | Übersicht'!S24","v":0},{"$f":"'Einladungen | Übersicht'!U24","v":0},{"$f":"'Einladungen | Übersicht'!W24","v":0}]
[null,{"$f":"IF(VLOOKUP(B21,Gäste,9)=0,\"\",VLOOKUP(B21,Gäste,9))","v":""},{"$f":"IF(VLOOKUP(C21,Gäste,9)=0,\"\",VLOOKUP(C21,Gäste,9))","v":""},{"$f":"IF(VLOOKUP(D21,Gäste,9)=0,\"\",VLOOKUP(D21,Gäste,9))","v":""},{"$f":"IF(VLOOKUP(E21,Gäste,9)=0,\"\",VLOOKUP(E21,Gäste,9))","v":""},null,null,null,17,{"$f":"'Einladungen | Übersicht'!H25","v":0},{"$f":"'Einladungen | Übersicht'!K25","v":0},{"$f":"'Einladungen | Übersicht'!L25","v":0},{"$f":"'Einladungen | Übersicht'!M25","v":0},{"$f":"'Einladungen | Übersicht'!N25","v":0},{"$f":"'Einladungen | Übersicht'!O25","v":0},{"$f":"'Einladungen | Übersicht'!AA25","v":0},{"$f":"'Einladungen | Übersicht'!AB25","v":0},"0 0","",{"$f":"'Einladungen | Übersicht'!S25","v":0},{"$f":"'Einladungen | Übersicht'!U25","v":0},{"$f":"'Einladungen | Übersicht'!W25","v":0}]
[null,9,10,11,12,null,null,null,18,{"$f":"'Einladungen | Übersicht'!H26","v":0},{"$f":"'Einladungen | Übersicht'!K26","v":0},{"$f":"'Einladungen | Übersicht'!L26","v":0},{"$f":"'Einladungen | Übersicht'!M26","v":0},{"$f":"'Einladungen | Übersicht'!N26","v":0},{"$f":"'Einladungen | Übersicht'!O26","v":0},{"$f":"'Einladungen | Übersicht'!AA26","v":0},{"$f":"'Einladungen | Übersicht'!AB26","v":0},"0 0","",{"$f":"'Einladungen | Übersicht'!S26","v":0},{"$f":"'Einladungen | Übersicht'!U26","v":0},{"$f":"'Einladungen | Übersicht'!W26","v":0}]
[null,{"$f":"IF(B24=\"\",\"\",IF($C$2=\"\",\"\",$C$2))","v":""},{"$f":"IF(C24=\"\",\"\",IF($C$2=\"\",\"\",$C$2))","v":""},{"$f":"IF(D24=\"\",\"\",IF($C$2=\"\",\"\",$C$2))","v":""},{"$f":"IF(E24=\"\",\"\",IF($C$2=\"\",\"\",$C$2))","v":""},null,null,null,19,{"$f":"'Einladungen | Übersicht'!H27","v":0},{"$f":"'Einladungen | Übersicht'!K27","v":0},{"$f":"'Einladungen | Übersicht'!L27","v":0},{"$f":"'Einladungen | Übersicht'!M27","v":0},{"$f":"'Einladungen | Übersicht'!N27","v":0},{"$f":"'Einladungen | Übersicht'!O27","v":0},{"$f":"'Einladungen | Übersicht'!AA27","v":0},{"$f":"'Einladungen | Übersicht'!AB27","v":0},"0 0","",{"$f":"'Einladungen | Übersicht'!S27","v":0},{"$f":"'Einladungen | Übersicht'!U27","v":0},{"$f":"'Einladungen | Übersicht'!W27","v":0}]
[null,{"$f":"IF(VLOOKUP(B27,Gäste,6)=0,\"\",VLOOKUP(B27,Gäste,10))","v":""},{"$f":"IF(VLOOKUP(C27,Gäste,6)=0,\"\",VLOOKUP(C27,Gäste,10))","v":""},{"$f":"IF(VLOOKUP(D27,Gäste,6)=0,\"\",VLOOKUP(D27,Gäste,10))","v":""},{"$f":"IF(VLOOKUP(E27,Gäste,6)=0,\"\",VLOOKUP(E27,Gäste,10))","v":""},null,null,null,20,{"$f":"'Einladungen | Übersicht'!H28","v":0},{"$f":"'Einladungen | Übersicht'!K28","v":0},{"$f":"'Einladungen | Übersicht'!L28","v":0},{"$f":"'Einladungen | Übersicht'!M28","v":0},{"$f":"'Einladungen | Übersicht'!N28","v":0},{"$f":"'Einladungen | Übersicht'!O28","v":0},{"$f":"'Einladungen | Übersicht'!AA28","v":0},{"$f":"'Einladungen | Übersicht'!AB28","v":0},"0 0","",{"$f":"'Einladungen | Übersicht'!S28","v":0},{"$f":"'Einladungen | Übersicht'!U28","v":0},{"$f":"'Einladungen | Übersicht'!W28","v":0}]
[null,{"$f":"IF(VLOOKUP(B27,Gäste,3)=0,\"\",IF(VLOOKUP(B27,Gäste,6)=0,VLOOKUP(B27,Gäste,10),VLOOKUP(B27,Gäste,11)))","v":""},{"$f":"IF(VLOOKUP(C27,Gäste,3)=0,\"\",IF(VLOOKUP(C27,Gäste,6)=0,VLOOKUP(C27,Gäste,10),VLOOKUP(C27,Gäste,11)))","v":""},{"$f":"IF(VLOOKUP(D27,Gäste,3)=0,\"\",IF(VLOOKUP(D27,Gäste,6)=0,VLOOKUP(D27,Gäste,10),VLOOKUP(D27,Gäste,11)))","v":""},{"$f":"IF(VLOOKUP(E27,Gäste,3)=0,\"\",IF(VLOOKUP(E27,Gäste,6)=0,VLOOKUP(E27,Gäste,10),VLOOKUP(E27,Gäste,11)))","v":""},null,null,null,21,{"$f":"'Einladungen | Übersicht'!H29","v":0},{"$f":"'Einladungen | Übersicht'!K29","v":0},{"$f":"'Einladungen | Übersicht'!L29","v":0},{"$f":"'Einladungen | Übersicht'!M29","v":0},{"$f":"'Einladungen | Übersicht'!N29","v":0},{"$f":"'Einladungen | Übersicht'!O29","v":0},{"$f":"'Einladungen | Übersicht'!AA29","v":0},{"$f":"'Einladungen | Übersicht'!AB29","v":0},"0 0","",{"$f":"'Einladungen | Übersicht'!S29","v":0},{"$f":"'Einladungen | Übersicht'!U29","v":0},{"$f":"'Einladungen | Übersicht'!W29","v":0}]
[null,{"$f":"IF(VLOOKUP(B27,Gäste,8)=0,\"\",VLOOKUP(B27,Gäste,8))","v":""},{"$f":"IF(VLOOKUP(C27,Gäste,8)=0,\"\",VLOOKUP(C27,Gäste,8))","v":""},{"$f":"IF(VLOOKUP(D27,Gäste,8)=0,\"\",VLOOKUP(D27,Gäste,8))","v":""},{"$f":"IF(VLOOKUP(E27,Gäste,8)=0,\"\",VLOOKUP(E27,Gäste,8))","v":""},null,null,null,22,{"$f":"'Einladungen | Übersicht'!H30","v":0},{"$f":"'Einladungen | Übersicht'!K30","v":0},{"$f":"'Einladungen | Übersicht'!L30","v":0},{"$f":"'Einladungen | Übersicht'!M30","v":0},{"$f":"'Einladungen | Übersicht'!N30","v":0},{"$f":"'Einladungen | Übersicht'!O30","v":0},{"$f":"'Einladungen | Übersicht'!AA30","v":0},{"$f":"'Einladungen | Übersicht'!AB30","v":0},"0 0","",{"$f":"'Einladungen | Übersicht'!S30","v":0},{"$f":"'Einladungen | Übersicht'!U30","v":0},{"$f":"'Einladungen | Übersicht'!W30","v":0}]
[null,{"$f":"IF(VLOOKUP(B27,Gäste,9)=0,\"\",VLOOKUP(B27,Gäste,9))","v":""},{"$f":"IF(VLOOKUP(C27,Gäste,9)=0,\"\",VLOOKUP(C27,Gäste,9))","v":""},{"$f":"IF(VLOOKUP(D27,Gäste,9)=0,\"\",VLOOKUP(D27,Gäste,9))","v":""},{"$f":"IF(VLOOKUP(E27,Gäste,9)=0,\"\",VLOOKUP(E27,Gäste,9))","v":""},null,null,null,23,{"$f":"'Einladungen | Übersicht'!H31","v":0},{"$f":"'Einladungen | Übersicht'!K31","v":0},{"$f":"'Einladungen | Übersicht'!L31","v":0},{"$f":"'Einladungen | Übersicht'!M31","v":0},{"$f":"'Einladungen | Übersicht'!N31","v":0},{"$f":"'Einladungen | Übersicht'!O31","v":0},{"$f":"'Einladungen | Übersicht'!AA31","v":0},{"$f":"'Einladungen | Übersicht'!AB31","v":0},"0 0","",{"$f":"'Einladungen | Übersicht'!S31","v":0},{"$f":"'Einladungen | Übersicht'!U31","v":0},{"$f":"'Einladungen | Übersicht'!W31","v":0}]
[null,13,14,15,16,null,null,null,24,{"$f":"'Einladungen | Übersicht'!H32","v":0},{"$f":"'Einladungen | Übersicht'!K32","v":0},{"$f":"'Einladungen | Übersicht'!L32","v":0},{"$f":"'Einladungen | Übersicht'!M32","v":0},{"$f":"'Einladungen | Übersicht'!N32","v":0},{"$f":"'Einladungen | Übersicht'!O32","v":0},{"$f":"'Einladungen | Übersicht'!AA32","v":0},{"$f":"'Einladungen | Übersicht'!AB32","v":0},"0 0","",{"$f":"'Einladungen | Übersicht'!S32","v":0},{"$f":"'Einladungen | Übersicht'!U32","v":0},{"$f":"'Einladungen | Übersicht'!W32","v":0}]
[null,{"$f":"IF(B30=\"\",\"\",IF($C$2=\"\",\"\",$C$2))","v":""},{"$f":"IF(C30=\"\",\"\",IF($C$2=\"\",\"\",$C$2))","v":""},{"$f":"IF(D30=\"\",\"\",IF($C$2=\"\",\"\",$C$2))","v":""},{"$f":"IF(E30=\"\",\"\",IF($C$2=\"\",\"\",$C$2))","v":""},null,null,null,25,{"$f":"'Einladungen | Übersicht'!H33","v":0},{"$f":"'Einladungen | Übersicht'!K33","v":0},{"$f":"'Einladungen | Übersicht'!L33","v":0},{"$f":"'Einladungen | Übersicht'!M33","v":0},{"$f":"'Einladungen | Übersicht'!N33","v":0},{"$f":"'Einladungen | Übersicht'!O33","v":0},{"$f":"'Einladungen | Übersicht'!AA33","v":0},{"$f":"'Einladungen | Übersicht'!AB33","v":0},"0 0","",{"$f":"'Einladungen | Übersicht'!S33","v":0},{"$f":"'Einladungen | Übersicht'!U33","v":0},{"$f":"'Einladungen | Übersicht'!W33","v":0}]
[null,{"$f":"IF(VLOOKUP(B33,Gäste,6)=0,\"\",VLOOKUP(B33,Gäste,10))","v":""},{"$f":"IF(VLOOKUP(C33,Gäste,6)=0,\"\",VLOOKUP(C33,Gäste,10))","v":""},{"$f":"IF(VLOOKUP(D33,Gäste,6)=0,\"\",VLOOKUP(D33,Gäste,10))","v":""},{"$f":"IF(VLOOKUP(E33,Gäste,6)=0,\"\",VLOOKUP(E33,Gäste,10))","v":""},null,null,null,26,{"$f":"'Einladungen | Übersicht'!H34","v":0},{"$f":"'Einladungen | Übersicht'!K34","v":0},{"$f":"'Einladungen | Übersicht'!L34","v":0},{"$f":"'Einladungen | Übersicht'!M34","v":0},{"$f":"'Einladungen | Übersicht'!N34","v":0},{"$f":"'Einladungen | Übersicht'!O34","v":0},{"$f":"'Einladungen | Übersicht'!AA34","v":0},{"$f":"'Einladungen | Übersicht'!AB34","v":0},"0 0","",{"$f":"'Einladungen | Übersicht'!S34","v":0},{"$f":"'Einladungen | Übersicht'!U34","v":0},{"$f":"'Einladungen | Übersicht'!W34","v":0}]
[null,{"$f":"IF(VLOOKUP(B33,Gäste,3)=0,\"\",IF(VLOOKUP(B33,Gäste,6)=0,VLOOKUP(B33,Gäste,10),VLOOKUP(B33,Gäste,11)))","v":""},{"$f":"IF(VLOOKUP(C33,Gäste,3)=0,\"\",IF(VLOOKUP(C33,Gäste,6)=0,VLOOKUP(C33,Gäste,10),VLOOKUP(C33,Gäste,11)))","v":""},{"$f":"IF(VLOOKUP(D33,Gäste,3)=0,\"\",IF(VLOOKUP(D33,Gäste,6)=0,VLOOKUP(D33,Gäste,10),VLOOKUP(D33,Gäste,11)))","v":""},{"$f":"IF(VLOOKUP(E33,Gäste,3)=0,\"\",IF(VLOOKUP(E33,Gäste,6)=0,VLOOKUP(E33,Gäste,10),VLOOKUP(E33,Gäste,11)))","v":""},null,null,null,27,{"$f":"'Einladungen | Übersicht'!H35","v":0},{"$f":"'Einladungen | Übersicht'!K35","v":0},{"$f":"'Einladungen | Übersicht'!L35","v":0},{"$f":"'Einladungen | Übersicht'!M35","v":0},{"$f":"'Einladungen | Übersicht'!N35","v":0},{"$f":"'Einladungen | Übersicht'!O35","v":0},{"$f":"'Einladungen | Übersicht'!AA35","v":0},{"$f":"'Einladungen | Übersicht'!AB35","v":0},"0 0","",{"$f":"'Einladungen | Übersicht'!S35","v":0},{"$f":"'Einladungen | Übersicht'!U35","v":0},{"$f":"'Einladungen | Übersicht'!W35","v":0}]
[null,{"$f":"IF(VLOOKUP(B33,Gäste,8)=0,\"\",VLOOKUP(B33,Gäste,8))","v":""},{"$f":"IF(VLOOKUP(C33,Gäste,8)=0,\"\",VLOOKUP(C33,Gäste,8))","v":""},{"$f":"IF(VLOOKUP(D33,Gäste,8)=0,\"\",VLOOKUP(D33,Gäste,8))","v":""},{"$f":"IF(VLOOKUP(E33,Gäste,8)=0,\"\",VLOOKUP(E33,Gäste,8))","v":""},null,null,null,28,{"$f":"'Einladungen | Übersicht'!H36","v":0},{"$f":"'Einladungen | Übersicht'!K36","v":0},{"$f":"'Einladungen | Übersicht'!L36","v":0},{"$f":"'Einladungen | Übersicht'!M36","v":0},{"$f":"'Einladungen | Übersicht'!N36","v":0},{"$f":"'Einladungen | Übersicht'!O36","v":0},{"$f":"'Einladungen | Übersicht'!AA36","v":0},{"$f":"'Einladungen | Übersicht'!AB36","v":0},"0 0","",{"$f":"'Einladungen | Übersicht'!S36","v":0},{"$f":"'Einladungen | Übersicht'!U36","v":0},{"$f":"'Einladungen | Übersicht'!W36","v":0}]
[null,{"$f":"IF(VLOOKUP(B33,Gäste,9)=0,\"\",VLOOKUP(B33,Gäste,9))","v":""},{"$f":"IF(VLOOKUP(C33,Gäste,9)=0,\"\",VLOOKUP(C33,Gäste,9))","v":""},{"$f":"IF(VLOOKUP(D33,Gäste,9)=0,\"\",VLOOKUP(D33,Gäste,9))","v":""},{"$f":"IF(VLOOKUP(E33,Gäste,9)=0,\"\",VLOOKUP(E33,Gäste,9))","v":""},null,null,null,29,{"$f":"'Einladungen | Übersicht'!H37","v":0},{"$f":"'Einladungen | Übersicht'!K37","v":0},{"$f":"'Einladungen | Übersicht'!L37","v":0},{"$f":"'Einladungen | Übersicht'!M37","v":0},{"$f":"'Einladungen | Übersicht'!N37","v":0},{"$f":"'Einladungen | Übersicht'!O37","v":0},{"$f":"'Einladungen | Übersicht'!AA37","v":0},{"$f":"'Einladungen | Übersicht'!AB37","v":0},"0 0","",{"$f":"'Einladungen | Übersicht'!S37","v":0},{"$f":"'Einladungen | Übersicht'!U37","v":0},{"$f":"'Einladungen | Übersicht'!W37","v":0}]
["#1",17,18,19,20,null,null,null,30,{"$f":"'Einladungen | Übersicht'!H38","v":0},{"$f":"'Einladungen | Übersicht'!K38","v":0},{"$f":"'Einladungen | Übersicht'!L38","v":0},{"$f":"'Einladungen | Übersicht'!M38","v":0},{"$f":"'Einladungen | Übersicht'!N38","v":0},{"$f":"'Einladungen | Übersicht'!O38","v":0},{"$f":"'Einladungen | Übersicht'!AA38","v":0},{"$f":"'Einladungen | Übersicht'!AB38","v":0},"0 0","",{"$f":"'Einladungen | Übersicht'!S38","v":0},{"$f":"'Einladungen | Übersicht'!U38","v":0},{"$f":"'Einladungen | Übersicht'!W38","v":0}]
[null,{"$f":"IF(B36=\"\",\"\",IF($C$2=\"\",\"\",$C$2))","v":""},{"$f":"IF(C36=\"\",\"\",IF($C$2=\"\",\"\",$C$2))","v":""},{"$f":"IF(D36=\"\",\"\",IF($C$2=\"\",\"\",$C$2))","v":""},{"$f":"IF(E36=\"\",\"\",IF($C$2=\"\",\"\",$C$2))","v":""},null,null,null,31,{"$f":"'Einladungen | Übersicht'!H39","v":0},{"$f":"'Einladungen | Übersicht'!K39","v":0},{"$f":"'Einladungen | Übersicht'!L39","v":0},{"$f":"'Einladungen | Übersicht'!M39","v":0},{"$f":"'Einladungen | Übersicht'!N39","v":0},{"$f":"'Einladungen | Übersicht'!O39","v":0},{"$f":"'Einladungen | Übersicht'!AA39","v":0},{"$f":"'Einladungen | Übersicht'!AB39","v":0},"0 0","",{"$f":"'Einladungen | Übersicht'!S39","v":0},{"$f":"'Einladungen | Übersicht'!U39","v":0},{"$f":"'Einladungen | Übersicht'!W39","v":0}]
[null,{"$f":"IF(VLOOKUP(B39,Gäste,6)=0,\"\",VLOOKUP(B39,Gäste,10))","v":""},{"$f":"IF(VLOOKUP(C39,Gäste,6)=0,\"\",VLOOKUP(C39,Gäste,10))","v":""},{"$f":"IF(VLOOKUP(D39,Gäste,6)=0,\"\",VLOOKUP(D39,Gäste,10))","v":""},{"$f":"IF(VLOOKUP(E39,Gäste,6)=0,\"\",VLOOKUP(E39,Gäste,10))","v":""},null,null,null,32,{"$f":"'Einladungen | Übersicht'!H40","v":0},{"$f":"'Einladungen | Übersicht'!K40","v":0},{"$f":"'Einladungen | Übersicht'!L40","v":0},{"$f":"'Einladungen | Übersicht'!M40","v":0},{"$f":"'Einladungen | Übersicht'!N40","v":0},{"$f":"'Einladungen | Übersicht'!O40","v":0},{"$f":"'Einladungen | Übersicht'!AA40","v":0},{"$f":"'Einladungen | Übersicht'!AB40","v":0},"0 0","",{"$f":"'Einladungen | Übersicht'!S40","v":0},{"$f":"'Einladungen | Übersicht'!U40","v":0},{"$f":"'Einladungen | Übersicht'!W40","v":0}]
[null,{"$f":"IF(VLOOKUP(B39,Gäste,3)=0,\"\",IF(VLOOKUP(B39,Gäste,6)=0,VLOOKUP(B39,Gäste,10),VLOOKUP(B39,Gäste,11)))","v":""},{"$f":"IF(VLOOKUP(C39,Gäste,3)=0,\"\",IF(VLOOKUP(C39,Gäste,6)=0,VLOOKUP(C39,Gäste,10),VLOOKUP(C39,Gäste,11)))","v":""},{"$f":"IF(VLOOKUP(D39,Gäste,3)=0,\"\",IF(VLOOKUP(D39,Gäste,6)=0,VLOOKUP(D39,Gäste,10),VLOOKUP(D39,Gäste,11)))","v":""},{"$f":"IF(VLOOKUP(E39,Gäste,3)=0,\"\",IF(VLOOKUP(E39,Gäste,6)=0,VLOOKUP(E39,Gäste,10),VLOOKUP(E39,Gäste,11)))","v":""},null,null,null,33,{"$f":"'Einladungen | Übersicht'!H41","v":0},{"$f":"'Einladungen | Übersicht'!K41","v":0},{"$f":"'Einladungen | Übersicht'!L41","v":0},{"$f":"'Einladungen | Übersicht'!M41","v":0},{"$f":"'Einladungen | Übersicht'!N41","v":0},{"$f":"'Einladungen | Übersicht'!O41","v":0},{"$f":"'Einladungen | Übersicht'!AA41","v":0},{"$f":"'Einladungen | Übersicht'!AB41","v":0},"0 0","",{"$f":"'Einladungen | Übersicht'!S41","v":0},{"$f":"'Einladungen | Übersicht'!U41","v":0},{"$f":"'Einladungen | Übersicht'!W41","v":0}]
[null,{"$f":"IF(VLOOKUP(B39,Gäste,8)=0,\"\",VLOOKUP(B39,Gäste,8))","v":""},{"$f":"IF(VLOOKUP(C39,Gäste,8)=0,\"\",VLOOKUP(C39,Gäste,8))","v":""},{"$f":"IF(VLOOKUP(D39,Gäste,8)=0,\"\",VLOOKUP(D39,Gäste,8))","v":""},{"$f":"IF(VLOOKUP(E39,Gäste,8)=0,\"\",VLOOKUP(E39,Gäste,8))","v":""},null,null,null,34,{"$f":"'Einladungen | Übersicht'!H42","v":0},{"$f":"'Einladungen | Übersicht'!K42","v":0},{"$f":"'Einladungen | Übersicht'!L42","v":0},{"$f":"'Einladungen | Übersicht'!M42","v":0},{"$f":"'Einladungen | Übersicht'!N42","v":0},{"$f":"'Einladungen | Übersicht'!O42","v":0},{"$f":"'Einladungen | Übersicht'!AA42","v":0},{"$f":"'Einladungen | Übersicht'!AB42","v":0},"0 0","",{"$f":"'Einladungen | Übersicht'!S42","v":0},{"$f":"'Einladungen | Übersicht'!U42","v":0},{"$f":"'Einladungen | Übersicht'!W42","v":0}]
[null,{"$f":"IF(VLOOKUP(B39,Gäste,9)=0,\"\",VLOOKUP(B39,Gäste,9))","v":""},{"$f":"IF(VLOOKUP(C39,Gäste,9)=0,\"\",VLOOKUP(C39,Gäste,9))","v":""},{"$f":"IF(VLOOKUP(D39,Gäste,9)=0,\"\",VLOOKUP(D39,Gäste,9))","v":""},{"$f":"IF(VLOOKUP(E39,Gäste,9)=0,\"\",VLOOKUP(E39,Gäste,9))","v":""},null,null,null,35,{"$f":"'Einladungen | Übersicht'!H43","v":0},{"$f":"'Einladungen | Übersicht'!K43","v":0},{"$f":"'Einladungen | Übersicht'!L43","v":0},{"$f":"'Einladungen | Übersicht'!M43","v":0},{"$f":"'Einladungen | Übersicht'!N43","v":0},{"$f":"'Einladungen | Übersicht'!O43","v":0},{"$f":"'Einladungen | Übersicht'!AA43","v":0},{"$f":"'Einladungen | Übersicht'!AB43","v":0},"0 0","",{"$f":"'Einladungen | Übersicht'!S43","v":0},{"$f":"'Einladungen | Übersicht'!U43","v":0},{"$f":"'Einladungen | Übersicht'!W43","v":0}]
[null,21,22,23,24,null,null,null,36,{"$f":"'Einladungen | Übersicht'!H44","v":0},{"$f":"'Einladungen | Übersicht'!K44","v":0},{"$f":"'Einladungen | Übersicht'!L44","v":0},{"$f":"'Einladungen | Übersicht'!M44","v":0},{"$f":"'Einladungen | Übersicht'!N44","v":0},{"$f":"'Einladungen | Übersicht'!O44","v":0},{"$f":"'Einladungen | Übersicht'!AA44","v":0},{"$f":"'Einladungen | Übersicht'!AB44","v":0},"0 0","",{"$f":"'Einladungen | Übersicht'!S44","v":0},{"$f":"'Einladungen | Übersicht'!U44","v":0},{"$f":"'Einladungen | Übersicht'!W44","v":0}]
[null,{"$f":"IF(B42=\"\",\"\",IF($C$2=\"\",\"\",$C$2))","v":""},{"$f":"IF(C42=\"\",\"\",IF($C$2=\"\",\"\",$C$2))","v":""},{"$f":"IF(D42=\"\",\"\",IF($C$2=\"\",\"\",$C$2))","v":""},{"$f":"IF(E42=\"\",\"\",IF($C$2=\"\",\"\",$C$2))","v":""},null,null,null,37,{"$f":"'Einladungen | Übersicht'!H45","v":0},{"$f":"'Einladungen | Übersicht'!K45","v":0},{"$f":"'Einladungen | Übersicht'!L45","v":0},{"$f":"'Einladungen | Übersicht'!M45","v":0},{"$f":"'Einladungen | Übersicht'!N45","v":0},{"$f":"'Einladungen | Übersicht'!O45","v":0},{"$f":"'Einladungen | Übersicht'!AA45","v":0},{"$f":"'Einladungen | Übersicht'!AB45","v":0},"0 0","",{"$f":"'Einladungen | Übersicht'!S45","v":0},{"$f":"'Einladungen | Übersicht'!U45","v":0},{"$f":"'Einladungen | Übersicht'!W45","v":0}]
[null,{"$f":"IF(VLOOKUP(B45,Gäste,6)=0,\"\",VLOOKUP(B45,Gäste,10))","v":""},{"$f":"IF(VLOOKUP(C45,Gäste,6)=0,\"\",VLOOKUP(C45,Gäste,10))","v":""},{"$f":"IF(VLOOKUP(D45,Gäste,6)=0,\"\",VLOOKUP(D45,Gäste,10))","v":""},{"$f":"IF(VLOOKUP(E45,Gäste,6)=0,\"\",VLOOKUP(E45,Gäste,10))","v":""},null,null,null,38,{"$f":"'Einladungen | Übersicht'!H46","v":0},{"$f":"'Einladungen | Übersicht'!K46","v":0},{"$f":"'Einladungen | Übersicht'!L46","v":0},{"$f":"'Einladungen | Übersicht'!M46","v":0},{"$f":"'Einladungen | Übersicht'!N46","v":0},{"$f":"'Einladungen | Übersicht'!O46","v":0},{"$f":"'Einladungen | Übersicht'!AA46","v":0},{"$f":"'Einladungen | Übersicht'!AB46","v":0},"0 0","",{"$f":"'Einladungen | Übersicht'!S46","v":0},{"$f":"'Einladungen | Übersicht'!U46","v":0},{"$f":"'Einladungen | Übersicht'!W46","v":0}]
[null,{"$f":"IF(VLOOKUP(B45,Gäste,3)=0,\"\",IF(VLOOKUP(B45,Gäste,6)=0,VLOOKUP(B45,Gäste,10),VLOOKUP(B45,Gäste,11)))","v":""},{"$f":"IF(VLOOKUP(C45,Gäste,3)=0,\"\",IF(VLOOKUP(C45,Gäste,6)=0,VLOOKUP(C45,Gäste,10),VLOOKUP(C45,Gäste,11)))","v":""},{"$f":"IF(VLOOKUP(D45,Gäste,3)=0,\"\",IF(VLOOKUP(D45,Gäste,6)=0,VLOOKUP(D45,Gäste,10),VLOOKUP(D45,Gäste,11)))","v":""},{"$f":"IF(VLOOKUP(E45,Gäste,3)=0,\"\",IF(VLOOKUP(E45,Gäste,6)=0,VLOOKUP(E45,Gäste,10),VLOOKUP(E45,Gäste,11)))","v":""},null,null,null,39,{"$f":"'Einladungen | Übersicht'!H47","v":0},{"$f":"'Einladungen | Übersicht'!K47","v":0},{"$f":"'Einladungen | Übersicht'!L47","v":0},{"$f":"'Einladungen | Übersicht'!M47","v":0},{"$f":"'Einladungen | Übersicht'!N47","v":0},{"$f":"'Einladungen | Übersicht'!O47","v":0},{"$f":"'Einladungen | Übersicht'!AA47","v":0},{"$f":"'Einladungen | Übersicht'!AB47","v":0},"0 0","",{"$f":"'Einladungen | Übersicht'!S47","v":0},{"$f":"'Einladungen | Übersicht'!U47","v":0},{"$f":"'Einladungen | Übersicht'!W47","v":0}]
[null,{"$f":"IF(VLOOKUP(B45,Gäste,8)=0,\"\",VLOOKUP(B45,Gäste,8))","v":""},{"$f":"IF(VLOOKUP(C45,Gäste,8)=0,\"\",VLOOKUP(C45,Gäste,8))","v":""},{"$f":"IF(VLOOKUP(D45,Gäste,8)=0,\"\",VLOOKUP(D45,Gäste,8))","v":""},{"$f":"IF(VLOOKUP(E45,Gäste,8)=0,\"\",VLOOKUP(E45,Gäste,8))","v":""},null,null,null,40,{"$f":"'Einladungen | Übersicht'!H48","v":0},{"$f":"'Einladungen | Übersicht'!K48","v":0},{"$f":"'Einladungen | Übersicht'!L48","v":0},{"$f":"'Einladungen | Übersicht'!M48","v":0},{"$f":"'Einladungen | Übersicht'!N48","v":0},{"$f":"'Einladungen | Übersicht'!O48","v":0},{"$f":"'Einladungen | Übersicht'!AA48","v":0},{"$f":"'Einladungen | Übersicht'!AB48","v":0},"0 0","",{"$f":"'Einladungen | Übersicht'!S48","v":0},{"$f":"'Einladungen | Übersicht'!U48","v":0},{"$f":"'Einladungen | Übersicht'!W48","v":0}]
[null,{"$f":"IF(VLOOKUP(B45,Gäste,9)=0,\"\",VLOOKUP(B45,Gäste,9))","v":""},{"$f":"IF(VLOOKUP(C45,Gäste,9)=0,\"\",VLOOKUP(C45,Gäste,9))","v":""},{"$f":"IF(VLOOKUP(D45,Gäste,9)=0,\"\",VLOOKUP(D45,Gäste,9))","v":""},{"$f":"IF(VLOOKUP(E45,Gäste,9)=0,\"\",VLOOKUP(E45,Gäste,9))","v":""},null,null,null,41,{"$f":"'Einladungen | Übersicht'!H49","v":0},{"$f":"'Einladungen | Übersicht'!K49","v":0},{"$f":"'Einladungen | Übersicht'!L49","v":0},{"$f":"'Einladungen | Übersicht'!M49","v":0},{"$f":"'Einladungen | Übersicht'!N49","v":0},{"$f":"'Einladungen | Übersicht'!O49","v":0},{"$f":"'Einladungen | Übersicht'!AA49","v":0},{"$f":"'Einladungen | Übersicht'!AB49","v":0},"0 0","",{"$f":"'Einladungen | Übersicht'!S49","v":0},{"$f":"'Einladungen | Übersicht'!U49","v":0},{"$f":"'Einladungen | Übersicht'!W49","v":0}]
[null,25,26,27,28,null,null,null,42,{"$f":"'Einladungen | Übersicht'!H50","v":0},{"$f":"'Einladungen | Übersicht'!K50","v":0},{"$f":"'Einladungen | Übersicht'!L50","v":0},{"$f":"'Einladungen | Übersicht'!M50","v":0},{"$f":"'Einladungen | Übersicht'!N50","v":0},{"$f":"'Einladungen | Übersicht'!O50","v":0},{"$f":"'Einladungen | Übersicht'!AA50","v":0},{"$f":"'Einladungen | Übersicht'!AB50","v":0},"0 0","",{"$f":"'Einladungen | Übersicht'!S50","v":0},{"$f":"'Einladungen | Übersicht'!U50","v":0},{"$f":"'Einladungen | Übersicht'!W50","v":0}]
[null,{"$f":"IF(B48=\"\",\"\",IF($C$2=\"\",\"\",$C$2))","v":""},{"$f":"IF(C48=\"\",\"\",IF($C$2=\"\",\"\",$C$2))","v":""},{"$f":"IF(D48=\"\",\"\",IF($C$2=\"\",\"\",$C$2))","v":""},{"$f":"IF(E48=\"\",\"\",IF($C$2=\"\",\"\",$C$2))","v":""},null,null,null,43,{"$f":"'Einladungen | Übersicht'!H51","v":0},{"$f":"'Einladungen | Übersicht'!K51","v":0},{"$f":"'Einladungen | Übersicht'!L51","v":0},{"$f":"'Einladungen | Übersicht'!M51","v":0},{"$f":"'Einladungen | Übersicht'!N51","v":0},{"$f":"'Einladungen | Übersicht'!O51","v":0},{"$f":"'Einladungen | Übersicht'!AA51","v":0},{"$f":"'Einladungen | Übersicht'!AB51","v":0},"0 0","",{"$f":"'Einladungen | Übersicht'!S51","v":0},{"$f":"'Einladungen | Übersicht'!U51","v":0},{"$f":"'Einladungen | Übersicht'!W51","v":0}]
[null,{"$f":"IF(VLOOKUP(B51,Gäste,6)=0,\"\",VLOOKUP(B51,Gäste,10))","v":""},{"$f":"IF(VLOOKUP(C51,Gäste,6)=0,\"\",VLOOKUP(C51,Gäste,10))","v":""},{"$f":"IF(VLOOKUP(D51,Gäste,6)=0,\"\",VLOOKUP(D51,Gäste,10))","v":""},{"$f":"IF(VLOOKUP(E51,Gäste,6)=0,\"\",VLOOKUP(E51,Gäste,10))","v":""},null,null,null,44,{"$f":"'Einladungen | Übersicht'!H52","v":0},{"$f":"'Einladungen | Übersicht'!K52","v":0},{"$f":"'Einladungen | Übersicht'!L52","v":0},{"$f":"'Einladungen | Übersicht'!M52","v":0},{"$f":"'Einladungen | Übersicht'!N52","v":0},{"$f":"'Einladungen | Übersicht'!O52","v":0},{"$f":"'Einladungen | Übersicht'!AA52","v":0},{"$f":"'Einladungen | Übersicht'!AB52","v":0},"0 0","",{"$f":"'Einladungen | Übersicht'!S52","v":0},{"$f":"'Einladungen | Übersicht'!U52","v":0},{"$f":"'Einladungen | Übersicht'!W52","v":0}]
[null,{"$f":"IF(VLOOKUP(B51,Gäste,3)=0,\"\",IF(VLOOKUP(B51,Gäste,6)=0,VLOOKUP(B51,Gäste,10),VLOOKUP(B51,Gäste,11)))","v":""},{"$f":"IF(VLOOKUP(C51,Gäste,3)=0,\"\",IF(VLOOKUP(C51,Gäste,6)=0,VLOOKUP(C51,Gäste,10),VLOOKUP(C51,Gäste,11)))","v":""},{"$f":"IF(VLOOKUP(D51,Gäste,3)=0,\"\",IF(VLOOKUP(D51,Gäste,6)=0,VLOOKUP(D51,Gäste,10),VLOOKUP(D51,Gäste,11)))","v":""},{"$f":"IF(VLOOKUP(E51,Gäste,3)=0,\"\",IF(VLOOKUP(E51,Gäste,6)=0,VLOOKUP(E51,Gäste,10),VLOOKUP(E51,Gäste,11)))","v":""},null,null,null,45,{"$f":"'Einladungen | Übersicht'!H53","v":0},{"$f":"'Einladungen | Übersicht'!K53","v":0},{"$f":"'Einladungen | Übersicht'!L53","v":0},{"$f":"'Einladungen | Übersicht'!M53","v":0},{"$f":"'Einladungen | Übersicht'!N53","v":0},{"$f":"'Einladungen | Übersicht'!O53","v":0},{"$f":"'Einladungen | Übersicht'!AA53","v":0},{"$f":"'Einladungen | Übersicht'!AB53","v":0},"0 0","",{"$f":"'Einladungen | Übersicht'!S53","v":0},{"$f":"'Einladungen | Übersicht'!U53","v":0},{"$f":"'Einladungen | Übersicht'!W53","v":0}]
[null,{"$f":"IF(VLOOKUP(B51,Gäste,8)=0,\"\",VLOOKUP(B51,Gäste,8))","v":""},{"$f":"IF(VLOOKUP(C51,Gäste,8)=0,\"\",VLOOKUP(C51,Gäste,8))","v":""},{"$f":"IF(VLOOKUP(D51,Gäste,8)=0,\"\",VLOOKUP(D51,Gäste,8))","v":""},{"$f":"IF(VLOOKUP(E51,Gäste,8)=0,\"\",VLOOKUP(E51,Gäste,8))","v":""},null,null,null,46,{"$f":"'Einladungen | Übersicht'!H54","v":0},{"$f":"'Einladungen | Übersicht'!K54","v":0},{"$f":"'Einladungen | Übersicht'!L54","v":0},{"$f":"'Einladungen | Übersicht'!M54","v":0},{"$f":"'Einladungen | Übersicht'!N54","v":0},{"$f":"'Einladungen | Übersicht'!O54","v":0},{"$f":"'Einladungen | Übersicht'!AA54","v":0},{"$f":"'Einladungen | Übersicht'!AB54","v":0},"0 0","",{"$f":"'Einladungen | Übersicht'!S54","v":0},{"$f":"'Einladungen | Übersicht'!U54","v":0},{"$f":"'Einladungen | Übersicht'!W54","v":0}]
[null,{"$f":"IF(VLOOKUP(B51,Gäste,9)=0,\"\",VLOOKUP(B51,Gäste,9))","v":""},{"$f":"IF(VLOOKUP(C51,Gäste,9)=0,\"\",VLOOKUP(C51,Gäste,9))","v":""},{"$f":"IF(VLOOKUP(D51,Gäste,9)=0,\"\",VLOOKUP(D51,Gäste,9))","v":""},{"$f":"IF(VLOOKUP(E51,Gäste,9)=0,\"\",VLOOKUP(E51,Gäste,9))","v":""},null,null,null,47,{"$f":"'Einladungen | Übersicht'!H55","v":0},{"$f":"'Einladungen | Übersicht'!K55","v":0},{"$f":"'Einladungen | Übersicht'!L55","v":0},{"$f":"'Einladungen | Übersicht'!M55","v":0},{"$f":"'Einladungen | Übersicht'!N55","v":0},{"$f":"'Einladungen | Übersicht'!O55","v":0},{"$f":"'Einladungen | Übersicht'!AA55","v":0},{"$f":"'Einladungen | Übersicht'!AB55","v":0},"0 0","",{"$f":"'Einladungen | Übersicht'!S55","v":0},{"$f":"'Einladungen | Übersicht'!U55","v":0},{"$f":"'Einladungen | Übersicht'!W55","v":0}]
[null,29,30,31,32,null,null,null,48,{"$f":"'Einladungen | Übersicht'!H56","v":0},{"$f":"'Einladungen | Übersicht'!K56","v":0},{"$f":"'Einladungen | Übersicht'!L56","v":0},{"$f":"'Einladungen | Übersicht'!M56","v":0},{"$f":"'Einladungen | Übersicht'!N56","v":0},{"$f":"'Einladungen | Übersicht'!O56","v":0},{"$f":"'Einladungen | Übersicht'!AA56","v":0},{"$f":"'Einladungen | Übersicht'!AB56","v":0},"0 0","",{"$f":"'Einladungen | Übersicht'!S56","v":0},{"$f":"'Einladungen | Übersicht'!U56","v":0},{"$f":"'Einladungen | Übersicht'!W56","v":0}]
[null,{"$f":"IF(B54=\"\",\"\",IF($C$2=\"\",\"\",$C$2))","v":""},{"$f":"IF(C54=\"\",\"\",IF($C$2=\"\",\"\",$C$2))","v":""},{"$f":"IF(D54=\"\",\"\",IF($C$2=\"\",\"\",$C$2))","v":""},{"$f":"IF(E54=\"\",\"\",IF($C$2=\"\",\"\",$C$2))","v":""},null,null,null,49,{"$f":"'Einladungen | Übersicht'!H57","v":0},{"$f":"'Einladungen | Übersicht'!K57","v":0},{"$f":"'Einladungen | Übersicht'!L57","v":0},{"$f":"'Einladungen | Übersicht'!M57","v":0},{"$f":"'Einladungen | Übersicht'!N57","v":0},{"$f":"'Einladungen | Übersicht'!O57","v":0},{"$f":"'Einladungen | Übersicht'!AA57","v":0},{"$f":"'Einladungen | Übersicht'!AB57","v":0},"0 0","",{"$f":"'Einladungen | Übersicht'!S57","v":0},{"$f":"'Einladungen | Übersicht'!U57","v":0},{"$f":"'Einladungen | Übersicht'!W57","v":0}]
[null,{"$f":"IF(VLOOKUP(B57,Gäste,6)=0,\"\",VLOOKUP(B57,Gäste,10))","v":""},{"$f":"IF(VLOOKUP(C57,Gäste,6)=0,\"\",VLOOKUP(C57,Gäste,10))","v":""},{"$f":"IF(VLOOKUP(D57,Gäste,6)=0,\"\",VLOOKUP(D57,Gäste,10))","v":""},{"$f":"IF(VLOOKUP(E57,Gäste,6)=0,\"\",VLOOKUP(E57,Gäste,10))","v":""},null,null,null,50,{"$f":"'Einladungen | Übersicht'!H58","v":0},{"$f":"'Einladungen | Übersicht'!K58","v":0},{"$f":"'Einladungen | Übersicht'!L58","v":0},{"$f":"'Einladungen | Übersicht'!M58","v":0},{"$f":"'Einladungen | Übersicht'!N58","v":0},{"$f":"'Einladungen | Übersicht'!O58","v":0},{"$f":"'Einladungen | Übersicht'!AA58","v":0},{"$f":"'Einladungen | Übersicht'!AB58","v":0},"0 0","",{"$f":"'Einladungen | Übersicht'!S58","v":0},{"$f":"'Einladungen | Übersicht'!U58","v":0},{"$f":"'Einladungen | Übersicht'!W58","v":0}]
[null,{"$f":"IF(VLOOKUP(B57,Gäste,3)=0,\"\",IF(VLOOKUP(B57,Gäste,6)=0,VLOOKUP(B57,Gäste,10),VLOOKUP(B57,Gäste,11)))","v":""},{"$f":"IF(VLOOKUP(C57,Gäste,3)=0,\"\",IF(VLOOKUP(C57,Gäste,6)=0,VLOOKUP(C57,Gäste,10),VLOOKUP(C57,Gäste,11)))","v":""},{"$f":"IF(VLOOKUP(D57,Gäste,3)=0,\"\",IF(VLOOKUP(D57,Gäste,6)=0,VLOOKUP(D57,Gäste,10),VLOOKUP(D57,Gäste,11)))","v":""},{"$f":"IF(VLOOKUP(E57,Gäste,3)=0,\"\",IF(VLOOKUP(E57,Gäste,6)=0,VLOOKUP(E57,Gäste,10),VLOOKUP(E57,Gäste,11)))","v":""},null,null,null,51,{"$f":"'Einladungen | Übersicht'!H59","v":0},{"$f":"'Einladungen | Übersicht'!K59","v":0},{"$f":"'Einladungen | Übersicht'!L59","v":0},{"$f":"'Einladungen | Übersicht'!M59","v":0},{"$f":"'Einladungen | Übersicht'!N59","v":0},{"$f":"'Einladungen | Übersicht'!O59","v":0},{"$f":"'Einladungen | Übersicht'!AA59","v":0},{"$f":"'Einladungen | Übersicht'!AB59","v":0},"0 0","",{"$f":"'Einladungen | Übersicht'!S59","v":0},{"$f":"'Einladungen | Übersicht'!U59","v":0},{"$f":"'Einladungen | Übersicht'!W59","v":0}]
[null,{"$f":"IF(VLOOKUP(B57,Gäste,8)=0,\"\",VLOOKUP(B57,Gäste,8))","v":""},{"$f":"IF(VLOOKUP(C57,Gäste,8)=0,\"\",VLOOKUP(C57,Gäste,8))","v":""},{"$f":"IF(VLOOKUP(D57,Gäste,8)=0,\"\",VLOOKUP(D57,Gäste,8))","v":""},{"$f":"IF(VLOOKUP(E57,Gäste,8)=0,\"\",VLOOKUP(E57,Gäste,8))","v":""},null,null,null,52,{"$f":"'Einladungen | Übersicht'!H60","v":0},{"$f":"'Einladungen | Übersicht'!K60","v":0},{"$f":"'Einladungen | Übersicht'!L60","v":0},{"$f":"'Einladungen | Übersicht'!M60","v":0},{"$f":"'Einladungen | Übersicht'!N60","v":0},{"$f":"'Einladungen | Übersicht'!O60","v":0},{"$f":"'Einladungen | Übersicht'!AA60","v":0},{"$f":"'Einladungen | Übersicht'!AB60","v":0},"0 0","",{"$f":"'Einladungen | Übersicht'!S60","v":0},{"$f":"'Einladungen | Übersicht'!U60","v":0},{"$f":"'Einladungen | Übersicht'!W60","v":0}]
[null,{"$f":"IF(VLOOKUP(B57,Gäste,9)=0,\"\",VLOOKUP(B57,Gäste,9))","v":""},{"$f":"IF(VLOOKUP(C57,Gäste,9)=0,\"\",VLOOKUP(C57,Gäste,9))","v":""},{"$f":"IF(VLOOKUP(D57,Gäste,9)=0,\"\",VLOOKUP(D57,Gäste,9))","v":""},{"$f":"IF(VLOOKUP(E57,Gäste,9)=0,\"\",VLOOKUP(E57,Gäste,9))","v":""},null,null,null,53,{"$f":"'Einladungen | Übersicht'!H61","v":0},{"$f":"'Einladungen | Übersicht'!K61","v":0},{"$f":"'Einladungen | Übersicht'!L61","v":0},{"$f":"'Einladungen | Übersicht'!M61","v":0},{"$f":"'Einladungen | Übersicht'!N61","v":0},{"$f":"'Einladungen | Übersicht'!O61","v":0},{"$f":"'Einladungen | Übersicht'!AA61","v":0},{"$f":"'Einladungen | Übersicht'!AB61","v":0},"0 0","",{"$f":"'Einladungen | Übersicht'!S61","v":0},{"$f":"'Einladungen | Übersicht'!U61","v":0},{"$f":"'Einladungen | Übersicht'!W61","v":0}]
[null,33,34,35,36,null,null,null,54,{"$f":"'Einladungen | Übersicht'!H62","v":0},{"$f":"'Einladungen | Übersicht'!K62","v":0},{"$f":"'Einladungen | Übersicht'!L62","v":0},{"$f":"'Einladungen | Übersicht'!M62","v":0},{"$f":"'Einladungen | Übersicht'!N62","v":0},{"$f":"'Einladungen | Übersicht'!O62","v":0},{"$f":"'Einladungen | Übersicht'!AA62","v":0},{"$f":"'Einladungen | Übersicht'!AB62","v":0},"0 0","",{"$f":"'Einladungen | Übersicht'!S62","v":0},{"$f":"'Einladungen | Übersicht'!U62","v":0},{"$f":"'Einladungen | Übersicht'!W62","v":0}]
[null,{"$f":"IF(B60=\"\",\"\",IF($C$2=\"\",\"\",$C$2))","v":""},{"$f":"IF(C60=\"\",\"\",IF($C$2=\"\",\"\",$C$2))","v":""},{"$f":"IF(D60=\"\",\"\",IF($C$2=\"\",\"\",$C$2))","v":""},{"$f":"IF(E60=\"\",\"\",IF($C$2=\"\",\"\",$C$2))","v":""},null,null,null,55,{"$f":"'Einladungen | Übersicht'!H63","v":0},{"$f":"'Einladungen | Übersicht'!K63","v":0},{"$f":"'Einladungen | Übersicht'!L63","v":0},{"$f":"'Einladungen | Übersicht'!M63","v":0},{"$f":"'Einladungen | Übersicht'!N63","v":0},{"$f":"'Einladungen | Übersicht'!O63","v":0},{"$f":"'Einladungen | Übersicht'!AA63","v":0},{"$f":"'Einladungen | Übersicht'!AB63","v":0},"0 0","",{"$f":"'Einladungen | Übersicht'!S63","v":0},{"$f":"'Einladungen | Übersicht'!U63","v":0},{"$f":"'Einladungen | Übersicht'!W63","v":0}]
[null,{"$f":"IF(VLOOKUP(B63,Gäste,6)=0,\"\",VLOOKUP(B63,Gäste,10))","v":""},{"$f":"IF(VLOOKUP(C63,Gäste,6)=0,\"\",VLOOKUP(C63,Gäste,10))","v":""},{"$f":"IF(VLOOKUP(D63,Gäste,6)=0,\"\",VLOOKUP(D63,Gäste,10))","v":""},{"$f":"IF(VLOOKUP(E63,Gäste,6)=0,\"\",VLOOKUP(E63,Gäste,10))","v":""},null,null,null,56,{"$f":"'Einladungen | Übersicht'!H64","v":0},{"$f":"'Einladungen | Übersicht'!K64","v":0},{"$f":"'Einladungen | Übersicht'!L64","v":0},{"$f":"'Einladungen | Übersicht'!M64","v":0},{"$f":"'Einladungen | Übersicht'!N64","v":0},{"$f":"'Einladungen | Übersicht'!O64","v":0},{"$f":"'Einladungen | Übersicht'!AA64","v":0},{"$f":"'Einladungen | Übersicht'!AB64","v":0},"0 0","",{"$f":"'Einladungen | Übersicht'!S64","v":0},{"$f":"'Einladungen | Übersicht'!U64","v":0},{"$f":"'Einladungen | Übersicht'!W64","v":0}]
[null,{"$f":"IF(VLOOKUP(B63,Gäste,3)=0,\"\",IF(VLOOKUP(B63,Gäste,6)=0,VLOOKUP(B63,Gäste,10),VLOOKUP(B63,Gäste,11)))","v":""},{"$f":"IF(VLOOKUP(C63,Gäste,3)=0,\"\",IF(VLOOKUP(C63,Gäste,6)=0,VLOOKUP(C63,Gäste,10),VLOOKUP(C63,Gäste,11)))","v":""},{"$f":"IF(VLOOKUP(D63,Gäste,3)=0,\"\",IF(VLOOKUP(D63,Gäste,6)=0,VLOOKUP(D63,Gäste,10),VLOOKUP(D63,Gäste,11)))","v":""},{"$f":"IF(VLOOKUP(E63,Gäste,3)=0,\"\",IF(VLOOKUP(E63,Gäste,6)=0,VLOOKUP(E63,Gäste,10),VLOOKUP(E63,Gäste,11)))","v":""},null,null,null,57,{"$f":"'Einladungen | Übersicht'!H65","v":0},{"$f":"'Einladungen | Übersicht'!K65","v":0},{"$f":"'Einladungen | Übersicht'!L65","v":0},{"$f":"'Einladungen | Übersicht'!M65","v":0},{"$f":"'Einladungen | Übersicht'!N65","v":0},{"$f":"'Einladungen | Übersicht'!O65","v":0},{"$f":"'Einladungen | Übersicht'!AA65","v":0},{"$f":"'Einladungen | Übersicht'!AB65","v":0},"0 0","",{"$f":"'Einladungen | Übersicht'!S65","v":0},{"$f":"'Einladungen | Übersicht'!U65","v":0},{"$f":"'Einladungen | Übersicht'!W65","v":0}]
[null,{"$f":"IF(VLOOKUP(B63,Gäste,8)=0,\"\",VLOOKUP(B63,Gäste,8))","v":""},{"$f":"IF(VLOOKUP(C63,Gäste,8)=0,\"\",VLOOKUP(C63,Gäste,8))","v":""},{"$f":"IF(VLOOKUP(D63,Gäste,8)=0,\"\",VLOOKUP(D63,Gäste,8))","v":""},{"$f":"IF(VLOOKUP(E63,Gäste,8)=0,\"\",VLOOKUP(E63,Gäste,8))","v":""},null,null,null,58,{"$f":"'Einladungen | Übersicht'!H66","v":0},{"$f":"'Einladungen | Übersicht'!K66","v":0},{"$f":"'Einladungen | Übersicht'!L66","v":0},{"$f":"'Einladungen | Übersicht'!M66","v":0},{"$f":"'Einladungen | Übersicht'!N66","v":0},{"$f":"'Einladungen | Übersicht'!O66","v":0},{"$f":"'Einladungen | Übersicht'!AA66","v":0},{"$f":"'Einladungen | Übersicht'!AB66","v":0},"0 0","",{"$f":"'Einladungen | Übersicht'!S66","v":0},{"$f":"'Einladungen | Übersicht'!U66","v":0},{"$f":"'Einladungen | Übersicht'!W66","v":0}]
[null,{"$f":"IF(VLOOKUP(B63,Gäste,9)=0,\"\",VLOOKUP(B63,Gäste,9))","v":""},{"$f":"IF(VLOOKUP(C63,Gäste,9)=0,\"\",VLOOKUP(C63,Gäste,9))","v":""},{"$f":"IF(VLOOKUP(D63,Gäste,9)=0,\"\",VLOOKUP(D63,Gäste,9))","v":""},{"$f":"IF(VLOOKUP(E63,Gäste,9)=0,\"\",VLOOKUP(E63,Gäste,9))","v":""},null,null,null,59,{"$f":"'Einladungen | Übersicht'!H67","v":0},{"$f":"'Einladungen | Übersicht'!K67","v":0},{"$f":"'Einladungen | Übersicht'!L67","v":0},{"$f":"'Einladungen | Übersicht'!M67","v":0},{"$f":"'Einladungen | Übersicht'!N67","v":0},{"$f":"'Einladungen | Übersicht'!O67","v":0},{"$f":"'Einladungen | Übersicht'!AA67","v":0},{"$f":"'Einladungen | Übersicht'!AB67","v":0},"0 0","",{"$f":"'Einladungen | Übersicht'!S67","v":0},{"$f":"'Einladungen | Übersicht'!U67","v":0},{"$f":"'Einladungen | Übersicht'!W67","v":0}]
["#2",37,38,39,40,null,null,null,60,{"$f":"'Einladungen | Übersicht'!H68","v":0},{"$f":"'Einladungen | Übersicht'!K68","v":0},{"$f":"'Einladungen | Übersicht'!L68","v":0},{"$f":"'Einladungen | Übersicht'!M68","v":0},{"$f":"'Einladungen | Übersicht'!N68","v":0},{"$f":"'Einladungen | Übersicht'!O68","v":0},{"$f":"'Einladungen | Übersicht'!AA68","v":0},{"$f":"'Einladungen | Übersicht'!AB68","v":0},"0 0","",{"$f":"'Einladungen | Übersicht'!S68","v":0},{"$f":"'Einladungen | Übersicht'!U68","v":0},{"$f":"'Einladungen | Übersicht'!W68","v":0}]
[null,{"$f":"IF(B66=\"\",\"\",IF($C$2=\"\",\"\",$C$2))","v":""},{"$f":"IF(C66=\"\",\"\",IF($C$2=\"\",\"\",$C$2))","v":""},{"$f":"IF(D66=\"\",\"\",IF($C$2=\"\",\"\",$C$2))","v":""},{"$f":"IF(E66=\"\",\"\",IF($C$2=\"\",\"\",$C$2))","v":""},null,null,null,61,{"$f":"'Einladungen | Übersicht'!H69","v":0},{"$f":"'Einladungen | Übersicht'!K69","v":0},{"$f":"'Einladungen | Übersicht'!L69","v":0},{"$f":"'Einladungen | Übersicht'!M69","v":0},{"$f":"'Einladungen | Übersicht'!N69","v":0},{"$f":"'Einladungen | Übersicht'!O69","v":0},{"$f":"'Einladungen | Übersicht'!AA69","v":0},{"$f":"'Einladungen | Übersicht'!AB69","v":0},"0 0","",{"$f":"'Einladungen | Übersicht'!S69","v":0},{"$f":"'Einladungen | Übersicht'!U69","v":0},{"$f":"'Einladungen | Übersicht'!W69","v":0}]
[null,{"$f":"IF(VLOOKUP(B69,Gäste,6)=0,\"\",VLOOKUP(B69,Gäste,10))","v":""},{"$f":"IF(VLOOKUP(C69,Gäste,6)=0,\"\",VLOOKUP(C69,Gäste,10))","v":""},{"$f":"IF(VLOOKUP(D69,Gäste,6)=0,\"\",VLOOKUP(D69,Gäste,10))","v":""},{"$f":"IF(VLOOKUP(E69,Gäste,6)=0,\"\",VLOOKUP(E69,Gäste,10))","v":""},null,null,null,62,{"$f":"'Einladungen | Übersicht'!H70","v":0},{"$f":"'Einladungen | Übersicht'!K70","v":0},{"$f":"'Einladungen | Übersicht'!L70","v":0},{"$f":"'Einladungen | Übersicht'!M70","v":0},{"$f":"'Einladungen | Übersicht'!N70","v":0},{"$f":"'Einladungen | Übersicht'!O70","v":0},{"$f":"'Einladungen | Übersicht'!AA70","v":0},{"$f":"'Einladungen | Übersicht'!AB70","v":0},"0 0","",{"$f":"'Einladungen | Übersicht'!S70","v":0},{"$f":"'Einladungen | Übersicht'!U70","v":0},{"$f":"'Einladungen | Übersicht'!W70","v":0}]
[null,{"$f":"IF(VLOOKUP(B69,Gäste,3)=0,\"\",IF(VLOOKUP(B69,Gäste,6)=0,VLOOKUP(B69,Gäste,10),VLOOKUP(B69,Gäste,11)))","v":""},{"$f":"IF(VLOOKUP(C69,Gäste,3)=0,\"\",IF(VLOOKUP(C69,Gäste,6)=0,VLOOKUP(C69,Gäste,10),VLOOKUP(C69,Gäste,11)))","v":""},{"$f":"IF(VLOOKUP(D69,Gäste,3)=0,\"\",IF(VLOOKUP(D69,Gäste,6)=0,VLOOKUP(D69,Gäste,10),VLOOKUP(D69,Gäste,11)))","v":""},{"$f":"IF(VLOOKUP(E69,Gäste,3)=0,\"\",IF(VLOOKUP(E69,Gäste,6)=0,VLOOKUP(E69,Gäste,10),VLOOKUP(E69,Gäste,11)))","v":""},null,null,null,63,{"$f":"'Einladungen | Übersicht'!H71","v":0},{"$f":"'Einladungen | Übersicht'!K71","v":0},{"$f":"'Einladungen | Übersicht'!L71","v":0},{"$f":"'Einladungen | Übersicht'!M71","v":0},{"$f":"'Einladungen | Übersicht'!N71","v":0},{"$f":"'Einladungen | Übersicht'!O71","v":0},{"$f":"'Einladungen | Übersicht'!AA71","v":0},{"$f":"'Einladungen | Übersicht'!AB71","v":0},"0 0","",{"$f":"'Einladungen | Übersicht'!S71","v":0},{"$f":"'Einladungen | Übersicht'!U71","v":0},{"$f":"'Einladungen | Übersicht'!W71","v":0}]
[null,{"$f":"IF(VLOOKUP(B69,Gäste,8)=0,\"\",VLOOKUP(B69,Gäste,8))","v":""},{"$f":"IF(VLOOKUP(C69,Gäste,8)=0,\"\",VLOOKUP(C69,Gäste,8))","v":""},{"$f":"IF(VLOOKUP(D69,Gäste,8)=0,\"\",VLOOKUP(D69,Gäste,8))","v":""},{"$f":"IF(VLOOKUP(E69,Gäste,8)=0,\"\",VLOOKUP(E69,Gäste,8))","v":""},null,null,null,64,{"$f":"'Einladungen | Übersicht'!H72","v":0},{"$f":"'Einladungen | Übersicht'!K72","v":0},{"$f":"'Einladungen | Übersicht'!L72","v":0},{"$f":"'Einladungen | Übersicht'!M72","v":0},{"$f":"'Einladungen | Übersicht'!N72","v":0},{"$f":"'Einladungen | Übersicht'!O72","v":0},{"$f":"'Einladungen | Übersicht'!AA72","v":0},{"$f":"'Einladungen | Übersicht'!AB72","v":0},"0 0","",{"$f":"'Einladungen | Übersicht'!S72","v":0},{"$f":"'Einladungen | Übersicht'!U72","v":0},{"$f":"'Einladungen | Übersicht'!W72","v":0}]
[null,{"$f":"IF(VLOOKUP(B69,Gäste,9)=0,\"\",VLOOKUP(B69,Gäste,9))","v":""},{"$f":"IF(VLOOKUP(C69,Gäste,9)=0,\"\",VLOOKUP(C69,Gäste,9))","v":""},{"$f":"IF(VLOOKUP(D69,Gäste,9)=0,\"\",VLOOKUP(D69,Gäste,9))","v":""},{"$f":"IF(VLOOKUP(E69,Gäste,9)=0,\"\",VLOOKUP(E69,Gäste,9))","v":""},null,null,null,65,{"$f":"'Einladungen | Übersicht'!H73","v":0},{"$f":"'Einladungen | Übersicht'!K73","v":0},{"$f":"'Einladungen | Übersicht'!L73","v":0},{"$f":"'Einladungen | Übersicht'!M73","v":0},{"$f":"'Einladungen | Übersicht'!N73","v":0},{"$f":"'Einladungen | Übersicht'!O73","v":0},{"$f":"'Einladungen | Übersicht'!AA73","v":0},{"$f":"'Einladungen | Übersicht'!AB73","v":0},"0 0","",{"$f":"'Einladungen | Übersicht'!S73","v":0},{"$f":"'Einladungen | Übersicht'!U73","v":0},{"$f":"'Einladungen | Übersicht'!W73","v":0}]
[null,41,42,43,44,null,null,null,66,{"$f":"'Einladungen | Übersicht'!H74","v":0},{"$f":"'Einladungen | Übersicht'!K74","v":0},{"$f":"'Einladungen | Übersicht'!L74","v":0},{"$f":"'Einladungen | Übersicht'!M74","v":0},{"$f":"'Einladungen | Übersicht'!N74","v":0},{"$f":"'Einladungen | Übersicht'!O74","v":0},{"$f":"'Einladungen | Übersicht'!AA74","v":0},{"$f":"'Einladungen | Übersicht'!AB74","v":0},{"$f":"IF(M69=0,L69&\" \"&K69,L69&\" & \"&M69&\" \"&K69)","v":"0 0"},"",{"$f":"'Einladungen | Übersicht'!S74","v":0},{"$f":"'Einladungen | Übersicht'!U74","v":0},{"$f":"'Einladungen | Übersicht'!W74","v":0}]
[null,{"$f":"IF(B72=\"\",\"\",IF($C$2=\"\",\"\",$C$2))","v":""},{"$f":"IF(C72=\"\",\"\",IF($C$2=\"\",\"\",$C$2))","v":""},{"$f":"IF(D72=\"\",\"\",IF($C$2=\"\",\"\",$C$2))","v":""},{"$f":"IF(E72=\"\",\"\",IF($C$2=\"\",\"\",$C$2))","v":""},null,null,null,67,{"$f":"'Einladungen | Übersicht'!H75","v":0},{"$f":"'Einladungen | Übersicht'!K75","v":0},{"$f":"'Einladungen | Übersicht'!L75","v":0},{"$f":"'Einladungen | Übersicht'!M75","v":0},{"$f":"'Einladungen | Übersicht'!N75","v":0},{"$f":"'Einladungen | Übersicht'!O75","v":0},{"$f":"'Einladungen | Übersicht'!AA75","v":0},{"$f":"'Einladungen | Übersicht'!AB75","v":0},"0 0",{"$f":"IF(N70=0,\"\",\"und \"&O70&\" \"&N70)","v":""},{"$f":"'Einladungen | Übersicht'!S75","v":0},{"$f":"'Einladungen | Übersicht'!U75","v":0},{"$f":"'Einladungen | Übersicht'!W75","v":0}]
[null,{"$f":"IF(VLOOKUP(B75,Gäste,6)=0,\"\",VLOOKUP(B75,Gäste,10))","v":""},{"$f":"IF(VLOOKUP(C75,Gäste,6)=0,\"\",VLOOKUP(C75,Gäste,10))","v":""},{"$f":"IF(VLOOKUP(D75,Gäste,6)=0,\"\",VLOOKUP(D75,Gäste,10))","v":""},{"$f":"IF(VLOOKUP(E75,Gäste,6)=0,\"\",VLOOKUP(E75,Gäste,10))","v":""},null,null,null,68,{"$f":"'Einladungen | Übersicht'!H76","v":0},{"$f":"'Einladungen | Übersicht'!K76","v":0},{"$f":"'Einladungen | Übersicht'!L76","v":0},{"$f":"'Einladungen | Übersicht'!M76","v":0},{"$f":"'Einladungen | Übersicht'!N76","v":0},{"$f":"'Einladungen | Übersicht'!O76","v":0},{"$f":"'Einladungen | Übersicht'!AA76","v":0},{"$f":"'Einladungen | Übersicht'!AB76","v":0},"0 0","",{"$f":"'Einladungen | Übersicht'!S76","v":0},{"$f":"'Einladungen | Übersicht'!U76","v":0},{"$f":"'Einladungen | Übersicht'!W76","v":0}]
[null,{"$f":"IF(VLOOKUP(B75,Gäste,3)=0,\"\",IF(VLOOKUP(B75,Gäste,6)=0,VLOOKUP(B75,Gäste,10),VLOOKUP(B75,Gäste,11)))","v":""},{"$f":"IF(VLOOKUP(C75,Gäste,3)=0,\"\",IF(VLOOKUP(C75,Gäste,6)=0,VLOOKUP(C75,Gäste,10),VLOOKUP(C75,Gäste,11)))","v":""},{"$f":"IF(VLOOKUP(D75,Gäste,3)=0,\"\",IF(VLOOKUP(D75,Gäste,6)=0,VLOOKUP(D75,Gäste,10),VLOOKUP(D75,Gäste,11)))","v":""},{"$f":"IF(VLOOKUP(E75,Gäste,3)=0,\"\",IF(VLOOKUP(E75,Gäste,6)=0,VLOOKUP(E75,Gäste,10),VLOOKUP(E75,Gäste,11)))","v":""},null,null,null,69,{"$f":"'Einladungen | Übersicht'!H77","v":0},{"$f":"'Einladungen | Übersicht'!K77","v":0},{"$f":"'Einladungen | Übersicht'!L77","v":0},{"$f":"'Einladungen | Übersicht'!M77","v":0},{"$f":"'Einladungen | Übersicht'!N77","v":0},{"$f":"'Einladungen | Übersicht'!O77","v":0},{"$f":"'Einladungen | Übersicht'!AA77","v":0},{"$f":"'Einladungen | Übersicht'!AB77","v":0},"0 0","",{"$f":"'Einladungen | Übersicht'!S77","v":0},{"$f":"'Einladungen | Übersicht'!U77","v":0},{"$f":"'Einladungen | Übersicht'!W77","v":0}]
[null,{"$f":"IF(VLOOKUP(B75,Gäste,8)=0,\"\",VLOOKUP(B75,Gäste,8))","v":""},{"$f":"IF(VLOOKUP(C75,Gäste,8)=0,\"\",VLOOKUP(C75,Gäste,8))","v":""},{"$f":"IF(VLOOKUP(D75,Gäste,8)=0,\"\",VLOOKUP(D75,Gäste,8))","v":""},{"$f":"IF(VLOOKUP(E75,Gäste,8)=0,\"\",VLOOKUP(E75,Gäste,8))","v":""},null,null,null,70,{"$f":"'Einladungen | Übersicht'!H78","v":0},{"$f":"'Einladungen | Übersicht'!K78","v":0},{"$f":"'Einladungen | Übersicht'!L78","v":0},{"$f":"'Einladungen | Übersicht'!M78","v":0},{"$f":"'Einladungen | Übersicht'!N78","v":0},{"$f":"'Einladungen | Übersicht'!O78","v":0},{"$f":"'Einladungen | Übersicht'!AA78","v":0},{"$f":"'Einladungen | Übersicht'!AB78","v":0},"0 0","",{"$f":"'Einladungen | Übersicht'!S78","v":0},{"$f":"'Einladungen | Übersicht'!U78","v":0},{"$f":"'Einladungen | Übersicht'!W78","v":0}]
[null,{"$f":"IF(VLOOKUP(B75,Gäste,9)=0,\"\",VLOOKUP(B75,Gäste,9))","v":""},{"$f":"IF(VLOOKUP(C75,Gäste,9)=0,\"\",VLOOKUP(C75,Gäste,9))","v":""},{"$f":"IF(VLOOKUP(D75,Gäste,9)=0,\"\",VLOOKUP(D75,Gäste,9))","v":""},{"$f":"IF(VLOOKUP(E75,Gäste,9)=0,\"\",VLOOKUP(E75,Gäste,9))","v":""},null,null,null,71,{"$f":"'Einladungen | Übersicht'!H79","v":0},{"$f":"'Einladungen | Übersicht'!K79","v":0},{"$f":"'Einladungen | Übersicht'!L79","v":0},{"$f":"'Einladungen | Übersicht'!M79","v":0},{"$f":"'Einladungen | Übersicht'!N79","v":0},{"$f":"'Einladungen | Übersicht'!O79","v":0},{"$f":"'Einladungen | Übersicht'!AA79","v":0},{"$f":"'Einladungen | Übersicht'!AB79","v":0},"0 0","",{"$f":"'Einladungen | Übersicht'!S79","v":0},{"$f":"'Einladungen | Übersicht'!U79","v":0},{"$f":"'Einladungen | Übersicht'!W79","v":0}]
[null,45,46,47,48,null,null,null,72,{"$f":"'Einladungen | Übersicht'!H80","v":0},{"$f":"'Einladungen | Übersicht'!K80","v":0},{"$f":"'Einladungen | Übersicht'!L80","v":0},{"$f":"'Einladungen | Übersicht'!M80","v":0},{"$f":"'Einladungen | Übersicht'!N80","v":0},{"$f":"'Einladungen | Übersicht'!O80","v":0},{"$f":"'Einladungen | Übersicht'!AA80","v":0},{"$f":"'Einladungen | Übersicht'!AB80","v":0},"0 0","",{"$f":"'Einladungen | Übersicht'!S80","v":0},{"$f":"'Einladungen | Übersicht'!U80","v":0},{"$f":"'Einladungen | Übersicht'!W80","v":0}]
[null,{"$f":"IF(B78=\"\",\"\",IF($C$2=\"\",\"\",$C$2))","v":""},{"$f":"IF(C78=\"\",\"\",IF($C$2=\"\",\"\",$C$2))","v":""},{"$f":"IF(D78=\"\",\"\",IF($C$2=\"\",\"\",$C$2))","v":""},{"$f":"IF(E78=\"\",\"\",IF($C$2=\"\",\"\",$C$2))","v":""},null,null,null,73,{"$f":"'Einladungen | Übersicht'!H81","v":0},{"$f":"'Einladungen | Übersicht'!K81","v":0},{"$f":"'Einladungen | Übersicht'!L81","v":0},{"$f":"'Einladungen | Übersicht'!M81","v":0},{"$f":"'Einladungen | Übersicht'!N81","v":0},{"$f":"'Einladungen | Übersicht'!O81","v":0},{"$f":"'Einladungen | Übersicht'!AA81","v":0},{"$f":"'Einladungen | Übersicht'!AB81","v":0},"0 0","",{"$f":"'Einladungen | Übersicht'!S81","v":0},{"$f":"'Einladungen | Übersicht'!U81","v":0},{"$f":"'Einladungen | Übersicht'!W81","v":0}]
[null,{"$f":"IF(VLOOKUP(B81,Gäste,6)=0,\"\",VLOOKUP(B81,Gäste,10))","v":""},{"$f":"IF(VLOOKUP(C81,Gäste,6)=0,\"\",VLOOKUP(C81,Gäste,10))","v":""},{"$f":"IF(VLOOKUP(D81,Gäste,6)=0,\"\",VLOOKUP(D81,Gäste,10))","v":""},{"$f":"IF(VLOOKUP(E81,Gäste,6)=0,\"\",VLOOKUP(E81,Gäste,10))","v":""},null,null,null,74,{"$f":"'Einladungen | Übersicht'!H82","v":0},{"$f":"'Einladungen | Übersicht'!K82","v":0},{"$f":"'Einladungen | Übersicht'!L82","v":0},{"$f":"'Einladungen | Übersicht'!M82","v":0},{"$f":"'Einladungen | Übersicht'!N82","v":0},{"$f":"'Einladungen | Übersicht'!O82","v":0},{"$f":"'Einladungen | Übersicht'!AA82","v":0},{"$f":"'Einladungen | Übersicht'!AB82","v":0},"0 0","",{"$f":"'Einladungen | Übersicht'!S82","v":0},{"$f":"'Einladungen | Übersicht'!U82","v":0},{"$f":"'Einladungen | Übersicht'!W82","v":0}]
[null,{"$f":"IF(VLOOKUP(B81,Gäste,3)=0,\"\",IF(VLOOKUP(B81,Gäste,6)=0,VLOOKUP(B81,Gäste,10),VLOOKUP(B81,Gäste,11)))","v":""},{"$f":"IF(VLOOKUP(C81,Gäste,3)=0,\"\",IF(VLOOKUP(C81,Gäste,6)=0,VLOOKUP(C81,Gäste,10),VLOOKUP(C81,Gäste,11)))","v":""},{"$f":"IF(VLOOKUP(D81,Gäste,3)=0,\"\",IF(VLOOKUP(D81,Gäste,6)=0,VLOOKUP(D81,Gäste,10),VLOOKUP(D81,Gäste,11)))","v":""},{"$f":"IF(VLOOKUP(E81,Gäste,3)=0,\"\",IF(VLOOKUP(E81,Gäste,6)=0,VLOOKUP(E81,Gäste,10),VLOOKUP(E81,Gäste,11)))","v":""},null,null,null,75,{"$f":"'Einladungen | Übersicht'!H83","v":0},{"$f":"'Einladungen | Übersicht'!K83","v":0},{"$f":"'Einladungen | Übersicht'!L83","v":0},{"$f":"'Einladungen | Übersicht'!M83","v":0},{"$f":"'Einladungen | Übersicht'!N83","v":0},{"$f":"'Einladungen | Übersicht'!O83","v":0},{"$f":"'Einladungen | Übersicht'!AA83","v":0},{"$f":"'Einladungen | Übersicht'!AB83","v":0},"0 0","",{"$f":"'Einladungen | Übersicht'!S83","v":0},{"$f":"'Einladungen | Übersicht'!U83","v":0},{"$f":"'Einladungen | Übersicht'!W83","v":0}]
[null,{"$f":"IF(VLOOKUP(B81,Gäste,8)=0,\"\",VLOOKUP(B81,Gäste,8))","v":""},{"$f":"IF(VLOOKUP(C81,Gäste,8)=0,\"\",VLOOKUP(C81,Gäste,8))","v":""},{"$f":"IF(VLOOKUP(D81,Gäste,8)=0,\"\",VLOOKUP(D81,Gäste,8))","v":""},{"$f":"IF(VLOOKUP(E81,Gäste,8)=0,\"\",VLOOKUP(E81,Gäste,8))","v":""},null,null,null,76,{"$f":"'Einladungen | Übersicht'!H84","v":0},{"$f":"'Einladungen | Übersicht'!K84","v":0},{"$f":"'Einladungen | Übersicht'!L84","v":0},{"$f":"'Einladungen | Übersicht'!M84","v":0},{"$f":"'Einladungen | Übersicht'!N84","v":0},{"$f":"'Einladungen | Übersicht'!O84","v":0},{"$f":"'Einladungen | Übersicht'!AA84","v":0},{"$f":"'Einladungen | Übersicht'!AB84","v":0},"0 0","",{"$f":"'Einladungen | Übersicht'!S84","v":0},{"$f":"'Einladungen | Übersicht'!U84","v":0},{"$f":"'Einladungen | Übersicht'!W84","v":0}]
[null,{"$f":"IF(VLOOKUP(B81,Gäste,9)=0,\"\",VLOOKUP(B81,Gäste,9))","v":""},{"$f":"IF(VLOOKUP(C81,Gäste,9)=0,\"\",VLOOKUP(C81,Gäste,9))","v":""},{"$f":"IF(VLOOKUP(D81,Gäste,9)=0,\"\",VLOOKUP(D81,Gäste,9))","v":""},{"$f":"IF(VLOOKUP(E81,Gäste,9)=0,\"\",VLOOKUP(E81,Gäste,9))","v":""},null,null,null,77,{"$f":"'Einladungen | Übersicht'!H85","v":0},{"$f":"'Einladungen | Übersicht'!K85","v":0},{"$f":"'Einladungen | Übersicht'!L85","v":0},{"$f":"'Einladungen | Übersicht'!M85","v":0},{"$f":"'Einladungen | Übersicht'!N85","v":0},{"$f":"'Einladungen | Übersicht'!O85","v":0},{"$f":"'Einladungen | Übersicht'!AA85","v":0},{"$f":"'Einladungen | Übersicht'!AB85","v":0},"0 0","",{"$f":"'Einladungen | Übersicht'!S85","v":0},{"$f":"'Einladungen | Übersicht'!U85","v":0},{"$f":"'Einladungen | Übersicht'!W85","v":0}]
[null,49,50,51,52,null,null,null,78,{"$f":"'Einladungen | Übersicht'!H86","v":0},{"$f":"'Einladungen | Übersicht'!K86","v":0},{"$f":"'Einladungen | Übersicht'!L86","v":0},{"$f":"'Einladungen | Übersicht'!M86","v":0},{"$f":"'Einladungen | Übersicht'!N86","v":0},{"$f":"'Einladungen | Übersicht'!O86","v":0},{"$f":"'Einladungen | Übersicht'!AA86","v":0},{"$f":"'Einladungen | Übersicht'!AB86","v":0},"0 0","",{"$f":"'Einladungen | Übersicht'!S86","v":0},{"$f":"'Einladungen | Übersicht'!U86","v":0},{"$f":"'Einladungen | Übersicht'!W86","v":0}]
[null,{"$f":"IF(B84=\"\",\"\",IF($C$2=\"\",\"\",$C$2))","v":""},{"$f":"IF(C84=\"\",\"\",IF($C$2=\"\",\"\",$C$2))","v":""},{"$f":"IF(D84=\"\",\"\",IF($C$2=\"\",\"\",$C$2))","v":""},{"$f":"IF(E84=\"\",\"\",IF($C$2=\"\",\"\",$C$2))","v":""},null,null,null,79,{"$f":"'Einladungen | Übersicht'!H87","v":0},{"$f":"'Einladungen | Übersicht'!K87","v":0},{"$f":"'Einladungen | Übersicht'!L87","v":0},{"$f":"'Einladungen | Übersicht'!M87","v":0},{"$f":"'Einladungen | Übersicht'!N87","v":0},{"$f":"'Einladungen | Übersicht'!O87","v":0},{"$f":"'Einladungen | Übersicht'!AA87","v":0},{"$f":"'Einladungen | Übersicht'!AB87","v":0},"0 0","",{"$f":"'Einladungen | Übersicht'!S87","v":0},{"$f":"'Einladungen | Übersicht'!U87","v":0},{"$f":"'Einladungen | Übersicht'!W87","v":0}]
[null,{"$f":"IF(VLOOKUP(B87,Gäste,6)=0,\"\",VLOOKUP(B87,Gäste,10))","v":""},{"$f":"IF(VLOOKUP(C87,Gäste,6)=0,\"\",VLOOKUP(C87,Gäste,10))","v":""},{"$f":"IF(VLOOKUP(D87,Gäste,6)=0,\"\",VLOOKUP(D87,Gäste,10))","v":""},{"$f":"IF(VLOOKUP(E87,Gäste,6)=0,\"\",VLOOKUP(E87,Gäste,10))","v":""},null,null,null,80,{"$f":"'Einladungen | Übersicht'!H88","v":0},{"$f":"'Einladungen | Übersicht'!K88","v":0},{"$f":"'Einladungen | Übersicht'!L88","v":0},{"$f":"'Einladungen | Übersicht'!M88","v":0},{"$f":"'Einladungen | Übersicht'!N88","v":0},{"$f":"'Einladungen | Übersicht'!O88","v":0},{"$f":"'Einladungen | Übersicht'!AA88","v":0},{"$f":"'Einladungen | Übersicht'!AB88","v":0},"0 0","",{"$f":"'Einladungen | Übersicht'!S88","v":0},{"$f":"'Einladungen | Übersicht'!U88","v":0},{"$f":"'Einladungen | Übersicht'!W88","v":0}]
[null,{"$f":"IF(VLOOKUP(B87,Gäste,3)=0,\"\",IF(VLOOKUP(B87,Gäste,6)=0,VLOOKUP(B87,Gäste,10),VLOOKUP(B87,Gäste,11)))","v":""},{"$f":"IF(VLOOKUP(C87,Gäste,3)=0,\"\",IF(VLOOKUP(C87,Gäste,6)=0,VLOOKUP(C87,Gäste,10),VLOOKUP(C87,Gäste,11)))","v":""},{"$f":"IF(VLOOKUP(D87,Gäste,3)=0,\"\",IF(VLOOKUP(D87,Gäste,6)=0,VLOOKUP(D87,Gäste,10),VLOOKUP(D87,Gäste,11)))","v":""},{"$f":"IF(VLOOKUP(E87,Gäste,3)=0,\"\",IF(VLOOKUP(E87,Gäste,6)=0,VLOOKUP(E87,Gäste,10),VLOOKUP(E87,Gäste,11)))","v":""},null,null,null,81,{"$f":"'Einladungen | Übersicht'!H89","v":0},{"$f":"'Einladungen | Übersicht'!K89","v":0},{"$f":"'Einladungen | Übersicht'!L89","v":0},{"$f":"'Einladungen | Übersicht'!M89","v":0},{"$f":"'Einladungen | Übersicht'!N89","v":0},{"$f":"'Einladungen | Übersicht'!O89","v":0},{"$f":"'Einladungen | Übersicht'!AA89","v":0},{"$f":"'Einladungen | Übersicht'!AB89","v":0},"0 0","",{"$f":"'Einladungen | Übersicht'!S89","v":0},{"$f":"'Einladungen | Übersicht'!U89","v":0},{"$f":"'Einladungen | Übersicht'!W89","v":0}]
[null,{"$f":"IF(VLOOKUP(B87,Gäste,8)=0,\"\",VLOOKUP(B87,Gäste,8))","v":""},{"$f":"IF(VLOOKUP(C87,Gäste,8)=0,\"\",VLOOKUP(C87,Gäste,8))","v":""},{"$f":"IF(VLOOKUP(D87,Gäste,8)=0,\"\",VLOOKUP(D87,Gäste,8))","v":""},{"$f":"IF(VLOOKUP(E87,Gäste,8)=0,\"\",VLOOKUP(E87,Gäste,8))","v":""},null,null,null,82,{"$f":"'Einladungen | Übersicht'!H90","v":0},{"$f":"'Einladungen | Übersicht'!K90","v":0},{"$f":"'Einladungen | Übersicht'!L90","v":0},{"$f":"'Einladungen | Übersicht'!M90","v":0},{"$f":"'Einladungen | Übersicht'!N90","v":0},{"$f":"'Einladungen | Übersicht'!O90","v":0},{"$f":"'Einladungen | Übersicht'!AA90","v":0},{"$f":"'Einladungen | Übersicht'!AB90","v":0},"0 0","",{"$f":"'Einladungen | Übersicht'!S90","v":0},{"$f":"'Einladungen | Übersicht'!U90","v":0},{"$f":"'Einladungen | Übersicht'!W90","v":0}]
[null,{"$f":"IF(VLOOKUP(B87,Gäste,9)=0,\"\",VLOOKUP(B87,Gäste,9))","v":""},{"$f":"IF(VLOOKUP(C87,Gäste,9)=0,\"\",VLOOKUP(C87,Gäste,9))","v":""},{"$f":"IF(VLOOKUP(D87,Gäste,9)=0,\"\",VLOOKUP(D87,Gäste,9))","v":""},{"$f":"IF(VLOOKUP(E87,Gäste,9)=0,\"\",VLOOKUP(E87,Gäste,9))","v":""},null,null,null,83,{"$f":"'Einladungen | Übersicht'!H91","v":0},{"$f":"'Einladungen | Übersicht'!K91","v":0},{"$f":"'Einladungen | Übersicht'!L91","v":0},{"$f":"'Einladungen | Übersicht'!M91","v":0},{"$f":"'Einladungen | Übersicht'!N91","v":0},{"$f":"'Einladungen | Übersicht'!O91","v":0},{"$f":"'Einladungen | Übersicht'!AA91","v":0},{"$f":"'Einladungen | Übersicht'!AB91","v":0},"0 0","",{"$f":"'Einladungen | Übersicht'!S91","v":0},{"$f":"'Einladungen | Übersicht'!U91","v":0},{"$f":"'Einladungen | Übersicht'!W91","v":0}]
[null,53,54,55,56,null,null,null,84,{"$f":"'Einladungen | Übersicht'!H92","v":0},{"$f":"'Einladungen | Übersicht'!K92","v":0},{"$f":"'Einladungen | Übersicht'!L92","v":0},{"$f":"'Einladungen | Übersicht'!M92","v":0},{"$f":"'Einladungen | Übersicht'!N92","v":0},{"$f":"'Einladungen | Übersicht'!O92","v":0},{"$f":"'Einladungen | Übersicht'!AA92","v":0},{"$f":"'Einladungen | Übersicht'!AB92","v":0},"0 0","",{"$f":"'Einladungen | Übersicht'!S92","v":0},{"$f":"'Einladungen | Übersicht'!U92","v":0},{"$f":"'Einladungen | Übersicht'!W92","v":0}]
[null,{"$f":"IF(B90=\"\",\"\",IF($C$2=\"\",\"\",$C$2))","v":""},{"$f":"IF(C90=\"\",\"\",IF($C$2=\"\",\"\",$C$2))","v":""},{"$f":"IF(D90=\"\",\"\",IF($C$2=\"\",\"\",$C$2))","v":""},{"$f":"IF(E90=\"\",\"\",IF($C$2=\"\",\"\",$C$2))","v":""},null,null,null,85,{"$f":"'Einladungen | Übersicht'!H93","v":0},{"$f":"'Einladungen | Übersicht'!K93","v":0},{"$f":"'Einladungen | Übersicht'!L93","v":0},{"$f":"'Einladungen | Übersicht'!M93","v":0},{"$f":"'Einladungen | Übersicht'!N93","v":0},{"$f":"'Einladungen | Übersicht'!O93","v":0},{"$f":"'Einladungen | Übersicht'!AA93","v":0},{"$f":"'Einladungen | Übersicht'!AB93","v":0},"0 0","",{"$f":"'Einladungen | Übersicht'!S93","v":0},{"$f":"'Einladungen | Übersicht'!U93","v":0},{"$f":"'Einladungen | Übersicht'!W93","v":0}]
[null,{"$f":"IF(VLOOKUP(B93,Gäste,6)=0,\"\",VLOOKUP(B93,Gäste,10))","v":""},{"$f":"IF(VLOOKUP(C93,Gäste,6)=0,\"\",VLOOKUP(C93,Gäste,10))","v":""},{"$f":"IF(VLOOKUP(D93,Gäste,6)=0,\"\",VLOOKUP(D93,Gäste,10))","v":""},{"$f":"IF(VLOOKUP(E93,Gäste,6)=0,\"\",VLOOKUP(E93,Gäste,10))","v":""},null,null,null,86,{"$f":"'Einladungen | Übersicht'!H94","v":0},{"$f":"'Einladungen | Übersicht'!K94","v":0},{"$f":"'Einladungen | Übersicht'!L94","v":0},{"$f":"'Einladungen | Übersicht'!M94","v":0},{"$f":"'Einladungen | Übersicht'!N94","v":0},{"$f":"'Einladungen | Übersicht'!O94","v":0},{"$f":"'Einladungen | Übersicht'!AA94","v":0},{"$f":"'Einladungen | Übersicht'!AB94","v":0},"0 0","",{"$f":"'Einladungen | Übersicht'!S94","v":0},{"$f":"'Einladungen | Übersicht'!U94","v":0},{"$f":"'Einladungen | Übersicht'!W94","v":0}]
[null,{"$f":"IF(VLOOKUP(B93,Gäste,3)=0,\"\",IF(VLOOKUP(B93,Gäste,6)=0,VLOOKUP(B93,Gäste,10),VLOOKUP(B93,Gäste,11)))","v":""},{"$f":"IF(VLOOKUP(C93,Gäste,3)=0,\"\",IF(VLOOKUP(C93,Gäste,6)=0,VLOOKUP(C93,Gäste,10),VLOOKUP(C93,Gäste,11)))","v":""},{"$f":"IF(VLOOKUP(D93,Gäste,3)=0,\"\",IF(VLOOKUP(D93,Gäste,6)=0,VLOOKUP(D93,Gäste,10),VLOOKUP(D93,Gäste,11)))","v":""},{"$f":"IF(VLOOKUP(E93,Gäste,3)=0,\"\",IF(VLOOKUP(E93,Gäste,6)=0,VLOOKUP(E93,Gäste,10),VLOOKUP(E93,Gäste,11)))","v":""},null,null,null,87,{"$f":"'Einladungen | Übersicht'!H95","v":0},{"$f":"'Einladungen | Übersicht'!K95","v":0},{"$f":"'Einladungen | Übersicht'!L95","v":0},{"$f":"'Einladungen | Übersicht'!M95","v":0},{"$f":"'Einladungen | Übersicht'!N95","v":0},{"$f":"'Einladungen | Übersicht'!O95","v":0},{"$f":"'Einladungen | Übersicht'!AA95","v":0},{"$f":"'Einladungen | Übersicht'!AB95","v":0},"0 0","",{"$f":"'Einladungen | Übersicht'!S95","v":0},{"$f":"'Einladungen | Übersicht'!U95","v":0},{"$f":"'Einladungen | Übersicht'!W95","v":0}]
[null,{"$f":"IF(VLOOKUP(B93,Gäste,8)=0,\"\",VLOOKUP(B93,Gäste,8))","v":""},{"$f":"IF(VLOOKUP(C93,Gäste,8)=0,\"\",VLOOKUP(C93,Gäste,8))","v":""},{"$f":"IF(VLOOKUP(D93,Gäste,8)=0,\"\",VLOOKUP(D93,Gäste,8))","v":""},{"$f":"IF(VLOOKUP(E93,Gäste,8)=0,\"\",VLOOKUP(E93,Gäste,8))","v":""},null,null,null,88,{"$f":"'Einladungen | Übersicht'!H96","v":0},{"$f":"'Einladungen | Übersicht'!K96","v":0},{"$f":"'Einladungen | Übersicht'!L96","v":0},{"$f":"'Einladungen | Übersicht'!M96","v":0},{"$f":"'Einladungen | Übersicht'!N96","v":0},{"$f":"'Einladungen | Übersicht'!O96","v":0},{"$f":"'Einladungen | Übersicht'!AA96","v":0},{"$f":"'Einladungen | Übersicht'!AB96","v":0},"0 0","",{"$f":"'Einladungen | Übersicht'!S96","v":0},{"$f":"'Einladungen | Übersicht'!U96","v":0},{"$f":"'Einladungen | Übersicht'!W96","v":0}]
[null,{"$f":"IF(VLOOKUP(B93,Gäste,9)=0,\"\",VLOOKUP(B93,Gäste,9))","v":""},{"$f":"IF(VLOOKUP(C93,Gäste,9)=0,\"\",VLOOKUP(C93,Gäste,9))","v":""},{"$f":"IF(VLOOKUP(D93,Gäste,9)=0,\"\",VLOOKUP(D93,Gäste,9))","v":""},{"$f":"IF(VLOOKUP(E93,Gäste,9)=0,\"\",VLOOKUP(E93,Gäste,9))","v":""},null,null,null,89,{"$f":"'Einladungen | Übersicht'!H97","v":0},{"$f":"'Einladungen | Übersicht'!K97","v":0},{"$f":"'Einladungen | Übersicht'!L97","v":0},{"$f":"'Einladungen | Übersicht'!M97","v":0},{"$f":"'Einladungen | Übersicht'!N97","v":0},{"$f":"'Einladungen | Übersicht'!O97","v":0},{"$f":"'Einladungen | Übersicht'!AA97","v":0},{"$f":"'Einladungen | Übersicht'!AB97","v":0},"0 0","",{"$f":"'Einladungen | Übersicht'!S97","v":0},{"$f":"'Einladungen | Übersicht'!U97","v":0},{"$f":"'Einladungen | Übersicht'!W97","v":0}]
["#3",57,58,59,60,null,null,null,90,{"$f":"'Einladungen | Übersicht'!H98","v":0},{"$f":"'Einladungen | Übersicht'!K98","v":0},{"$f":"'Einladungen | Übersicht'!L98","v":0},{"$f":"'Einladungen | Übersicht'!M98","v":0},{"$f":"'Einladungen | Übersicht'!N98","v":0},{"$f":"'Einladungen | Übersicht'!O98","v":0},{"$f":"'Einladungen | Übersicht'!AA98","v":0},{"$f":"'Einladungen | Übersicht'!AB98","v":0},"0 0","",{"$f":"'Einladungen | Übersicht'!S98","v":0},{"$f":"'Einladungen | Übersicht'!U98","v":0},{"$f":"'Einladungen | Übersicht'!W98","v":0}]
[null,{"$f":"IF(B96=\"\",\"\",IF($C$2=\"\",\"\",$C$2))","v":""},{"$f":"IF(C96=\"\",\"\",IF($C$2=\"\",\"\",$C$2))","v":""},{"$f":"IF(D96=\"\",\"\",IF($C$2=\"\",\"\",$C$2))","v":""},{"$f":"IF(E96=\"\",\"\",IF($C$2=\"\",\"\",$C$2))","v":""},null,null,null,91,{"$f":"'Einladungen | Übersicht'!H99","v":0},{"$f":"'Einladungen | Übersicht'!K99","v":0},{"$f":"'Einladungen | Übersicht'!L99","v":0},{"$f":"'Einladungen | Übersicht'!M99","v":0},{"$f":"'Einladungen | Übersicht'!N99","v":0},{"$f":"'Einladungen | Übersicht'!O99","v":0},{"$f":"'Einladungen | Übersicht'!AA99","v":0},{"$f":"'Einladungen | Übersicht'!AB99","v":0},"0 0","",{"$f":"'Einladungen | Übersicht'!S99","v":0},{"$f":"'Einladungen | Übersicht'!U99","v":0},{"$f":"'Einladungen | Übersicht'!W99","v":0}]
[null,{"$f":"IF(VLOOKUP(B99,Gäste,6)=0,\"\",VLOOKUP(B99,Gäste,10))","v":""},{"$f":"IF(VLOOKUP(C99,Gäste,6)=0,\"\",VLOOKUP(C99,Gäste,10))","v":""},{"$f":"IF(VLOOKUP(D99,Gäste,6)=0,\"\",VLOOKUP(D99,Gäste,10))","v":""},{"$f":"IF(VLOOKUP(E99,Gäste,6)=0,\"\",VLOOKUP(E99,Gäste,10))","v":""},null,null,null,92,{"$f":"'Einladungen | Übersicht'!H100","v":0},{"$f":"'Einladungen | Übersicht'!K100","v":0},{"$f":"'Einladungen | Übersicht'!L100","v":0},{"$f":"'Einladungen | Übersicht'!M100","v":0},{"$f":"'Einladungen | Übersicht'!N100","v":0},{"$f":"'Einladungen | Übersicht'!O100","v":0},{"$f":"'Einladungen | Übersicht'!AA100","v":0},{"$f":"'Einladungen | Übersicht'!AB100","v":0},"0 0","",{"$f":"'Einladungen | Übersicht'!S100","v":0},{"$f":"'Einladungen | Übersicht'!U100","v":0},{"$f":"'Einladungen | Übersicht'!W100","v":0}]
[null,{"$f":"IF(VLOOKUP(B99,Gäste,3)=0,\"\",IF(VLOOKUP(B99,Gäste,6)=0,VLOOKUP(B99,Gäste,10),VLOOKUP(B99,Gäste,11)))","v":""},{"$f":"IF(VLOOKUP(C99,Gäste,3)=0,\"\",IF(VLOOKUP(C99,Gäste,6)=0,VLOOKUP(C99,Gäste,10),VLOOKUP(C99,Gäste,11)))","v":""},{"$f":"IF(VLOOKUP(D99,Gäste,3)=0,\"\",IF(VLOOKUP(D99,Gäste,6)=0,VLOOKUP(D99,Gäste,10),VLOOKUP(D99,Gäste,11)))","v":""},{"$f":"IF(VLOOKUP(E99,Gäste,3)=0,\"\",IF(VLOOKUP(E99,Gäste,6)=0,VLOOKUP(E99,Gäste,10),VLOOKUP(E99,Gäste,11)))","v":""},null,null,null,93,{"$f":"'Einladungen | Übersicht'!H101","v":0},{"$f":"'Einladungen | Übersicht'!K101","v":0},{"$f":"'Einladungen | Übersicht'!L101","v":0},{"$f":"'Einladungen | Übersicht'!M101","v":0},{"$f":"'Einladungen | Übersicht'!N101","v":0},{"$f":"'Einladungen | Übersicht'!O101","v":0},{"$f":"'Einladungen | Übersicht'!AA101","v":0},{"$f":"'Einladungen | Übersicht'!AB101","v":0},"0 0","",{"$f":"'Einladungen | Übersicht'!S101","v":0},{"$f":"'Einladungen | Übersicht'!U101","v":0},{"$f":"'Einladungen | Übersicht'!W101","v":0}]
[null,{"$f":"IF(VLOOKUP(B99,Gäste,8)=0,\"\",VLOOKUP(B99,Gäste,8))","v":""},{"$f":"IF(VLOOKUP(C99,Gäste,8)=0,\"\",VLOOKUP(C99,Gäste,8))","v":""},{"$f":"IF(VLOOKUP(D99,Gäste,8)=0,\"\",VLOOKUP(D99,Gäste,8))","v":""},{"$f":"IF(VLOOKUP(E99,Gäste,8)=0,\"\",VLOOKUP(E99,Gäste,8))","v":""},null,null,null,94,{"$f":"'Einladungen | Übersicht'!H102","v":0},{"$f":"'Einladungen | Übersicht'!K102","v":0},{"$f":"'Einladungen | Übersicht'!L102","v":0},{"$f":"'Einladungen | Übersicht'!M102","v":0},{"$f":"'Einladungen | Übersicht'!N102","v":0},{"$f":"'Einladungen | Übersicht'!O102","v":0},{"$f":"'Einladungen | Übersicht'!AA102","v":0},{"$f":"'Einladungen | Übersicht'!AB102","v":0},"0 0","",{"$f":"'Einladungen | Übersicht'!S102","v":0},{"$f":"'Einladungen | Übersicht'!U102","v":0},{"$f":"'Einladungen | Übersicht'!W102","v":0}]
[null,{"$f":"IF(VLOOKUP(B99,Gäste,9)=0,\"\",VLOOKUP(B99,Gäste,9))","v":""},{"$f":"IF(VLOOKUP(C99,Gäste,9)=0,\"\",VLOOKUP(C99,Gäste,9))","v":""},{"$f":"IF(VLOOKUP(D99,Gäste,9)=0,\"\",VLOOKUP(D99,Gäste,9))","v":""},{"$f":"IF(VLOOKUP(E99,Gäste,9)=0,\"\",VLOOKUP(E99,Gäste,9))","v":""},null,null,null,95,{"$f":"'Einladungen | Übersicht'!H103","v":0},{"$f":"'Einladungen | Übersicht'!K103","v":0},{"$f":"'Einladungen | Übersicht'!L103","v":0},{"$f":"'Einladungen | Übersicht'!M103","v":0},{"$f":"'Einladungen | Übersicht'!N103","v":0},{"$f":"'Einladungen | Übersicht'!O103","v":0},{"$f":"'Einladungen | Übersicht'!AA103","v":0},{"$f":"'Einladungen | Übersicht'!AB103","v":0},"0 0","",{"$f":"'Einladungen | Übersicht'!S103","v":0},{"$f":"'Einladungen | Übersicht'!U103","v":0},{"$f":"'Einladungen | Übersicht'!W103","v":0}]
[null,61,62,63,64,null,null,null,96,{"$f":"'Einladungen | Übersicht'!H104","v":0},{"$f":"'Einladungen | Übersicht'!K104","v":0},{"$f":"'Einladungen | Übersicht'!L104","v":0},{"$f":"'Einladungen | Übersicht'!M104","v":0},{"$f":"'Einladungen | Übersicht'!N104","v":0},{"$f":"'Einladungen | Übersicht'!O104","v":0},{"$f":"'Einladungen | Übersicht'!AA104","v":0},{"$f":"'Einladungen | Übersicht'!AB104","v":0},"0 0","",{"$f":"'Einladungen | Übersicht'!S104","v":0},{"$f":"'Einladungen | Übersicht'!U104","v":0},{"$f":"'Einladungen | Übersicht'!W104","v":0}]
[null,{"$f":"IF(B102=\"\",\"\",IF($C$2=\"\",\"\",$C$2))","v":""},{"$f":"IF(C102=\"\",\"\",IF($C$2=\"\",\"\",$C$2))","v":""},{"$f":"IF(D102=\"\",\"\",IF($C$2=\"\",\"\",$C$2))","v":""},{"$f":"IF(E102=\"\",\"\",IF($C$2=\"\",\"\",$C$2))","v":""},null,null,null,97,{"$f":"'Einladungen | Übersicht'!H105","v":0},{"$f":"'Einladungen | Übersicht'!K105","v":0},{"$f":"'Einladungen | Übersicht'!L105","v":0},{"$f":"'Einladungen | Übersicht'!M105","v":0},{"$f":"'Einladungen | Übersicht'!N105","v":0},{"$f":"'Einladungen | Übersicht'!O105","v":0},{"$f":"'Einladungen | Übersicht'!AA105","v":0},{"$f":"'Einladungen | Übersicht'!AB105","v":0},"0 0","",{"$f":"'Einladungen | Übersicht'!S105","v":0},{"$f":"'Einladungen | Übersicht'!U105","v":0},{"$f":"'Einladungen | Übersicht'!W105","v":0}]
[null,{"$f":"IF(VLOOKUP(B105,Gäste,6)=0,\"\",VLOOKUP(B105,Gäste,10))","v":""},{"$f":"IF(VLOOKUP(C105,Gäste,6)=0,\"\",VLOOKUP(C105,Gäste,10))","v":""},{"$f":"IF(VLOOKUP(D105,Gäste,6)=0,\"\",VLOOKUP(D105,Gäste,10))","v":""},{"$f":"IF(VLOOKUP(E105,Gäste,6)=0,\"\",VLOOKUP(E105,Gäste,10))","v":""},null,null,null,98,{"$f":"'Einladungen | Übersicht'!H106","v":0},{"$f":"'Einladungen | Übersicht'!K106","v":0},{"$f":"'Einladungen | Übersicht'!L106","v":0},{"$f":"'Einladungen | Übersicht'!M106","v":0},{"$f":"'Einladungen | Übersicht'!N106","v":0},{"$f":"'Einladungen | Übersicht'!O106","v":0},{"$f":"'Einladungen | Übersicht'!AA106","v":0},{"$f":"'Einladungen | Übersicht'!AB106","v":0},"0 0","",{"$f":"'Einladungen | Übersicht'!S106","v":0},{"$f":"'Einladungen | Übersicht'!U106","v":0},{"$f":"'Einladungen | Übersicht'!W106","v":0}]
[null,{"$f":"IF(VLOOKUP(B105,Gäste,3)=0,\"\",IF(VLOOKUP(B105,Gäste,6)=0,VLOOKUP(B105,Gäste,10),VLOOKUP(B105,Gäste,11)))","v":""},{"$f":"IF(VLOOKUP(C105,Gäste,3)=0,\"\",IF(VLOOKUP(C105,Gäste,6)=0,VLOOKUP(C105,Gäste,10),VLOOKUP(C105,Gäste,11)))","v":""},{"$f":"IF(VLOOKUP(D105,Gäste,3)=0,\"\",IF(VLOOKUP(D105,Gäste,6)=0,VLOOKUP(D105,Gäste,10),VLOOKUP(D105,Gäste,11)))","v":""},{"$f":"IF(VLOOKUP(E105,Gäste,3)=0,\"\",IF(VLOOKUP(E105,Gäste,6)=0,VLOOKUP(E105,Gäste,10),VLOOKUP(E105,Gäste,11)))","v":""},null,null,null,99,{"$f":"'Einladungen | Übersicht'!H107","v":0},{"$f":"'Einladungen | Übersicht'!K107","v":0},{"$f":"'Einladungen | Übersicht'!L107","v":0},{"$f":"'Einladungen | Übersicht'!M107","v":0},{"$f":"'Einladungen | Übersicht'!N107","v":0},{"$f":"'Einladungen | Übersicht'!O107","v":0},{"$f":"'Einladungen | Übersicht'!AA107","v":0},{"$f":"'Einladungen | Übersicht'!AB107","v":0},"0 0","",{"$f":"'Einladungen | Übersicht'!S107","v":0},{"$f":"'Einladungen | Übersicht'!U107","v":0},{"$f":"'Einladungen | Übersicht'!W107","v":0}]
[null,{"$f":"IF(VLOOKUP(B105,Gäste,8)=0,\"\",VLOOKUP(B105,Gäste,8))","v":""},{"$f":"IF(VLOOKUP(C105,Gäste,8)=0,\"\",VLOOKUP(C105,Gäste,8))","v":""},{"$f":"IF(VLOOKUP(D105,Gäste,8)=0,\"\",VLOOKUP(D105,Gäste,8))","v":""},{"$f":"IF(VLOOKUP(E105,Gäste,8)=0,\"\",VLOOKUP(E105,Gäste,8))","v":""},null,null,null,100,{"$f":"'Einladungen | Übersicht'!H108","v":0},{"$f":"'Einladungen | Übersicht'!K108","v":0},{"$f":"'Einladungen | Übersicht'!L108","v":0},{"$f":"'Einladungen | Übersicht'!M108","v":0},{"$f":"'Einladungen | Übersicht'!N108","v":0},{"$f":"'Einladungen | Übersicht'!O108","v":0},{"$f":"'Einladungen | Übersicht'!AA108","v":0},{"$f":"'Einladungen | Übersicht'!AB108","v":0},"0 0","",{"$f":"'Einladungen | Übersicht'!S108","v":0},{"$f":"'Einladungen | Übersicht'!U108","v":0},{"$f":"'Einladungen | Übersicht'!W108","v":0}]
[null,{"$f":"IF(VLOOKUP(B105,Gäste,9)=0,\"\",VLOOKUP(B105,Gäste,9))","v":""},{"$f":"IF(VLOOKUP(C105,Gäste,9)=0,\"\",VLOOKUP(C105,Gäste,9))","v":""},{"$f":"IF(VLOOKUP(D105,Gäste,9)=0,\"\",VLOOKUP(D105,Gäste,9))","v":""},{"$f":"IF(VLOOKUP(E105,Gäste,9)=0,\"\",VLOOKUP(E105,Gäste,9))","v":""},null,null,null,101,{"$f":"'Einladungen | Übersicht'!H109","v":0},{"$f":"'Einladungen | Übersicht'!K109","v":0},{"$f":"'Einladungen | Übersicht'!L109","v":0},{"$f":"'Einladungen | Übersicht'!M109","v":0},{"$f":"'Einladungen | Übersicht'!N109","v":0},{"$f":"'Einladungen | Übersicht'!O109","v":0},{"$f":"'Einladungen | Übersicht'!AA109","v":0},{"$f":"'Einladungen | Übersicht'!AB109","v":0},"0 0","",{"$f":"'Einladungen | Übersicht'!S109","v":0},{"$f":"'Einladungen | Übersicht'!U109","v":0},{"$f":"'Einladungen | Übersicht'!W109","v":0}]
[null,65,66,67,68,null,null,null,102,{"$f":"'Einladungen | Übersicht'!H110","v":0},{"$f":"'Einladungen | Übersicht'!K110","v":0},{"$f":"'Einladungen | Übersicht'!L110","v":0},{"$f":"'Einladungen | Übersicht'!M110","v":0},{"$f":"'Einladungen | Übersicht'!N110","v":0},{"$f":"'Einladungen | Übersicht'!O110","v":0},{"$f":"'Einladungen | Übersicht'!AA110","v":0},{"$f":"'Einladungen | Übersicht'!AB110","v":0},"0 0","",{"$f":"'Einladungen | Übersicht'!S110","v":0},{"$f":"'Einladungen | Übersicht'!U110","v":0},{"$f":"'Einladungen | Übersicht'!W110","v":0}]
[null,{"$f":"IF(B108=\"\",\"\",IF($C$2=\"\",\"\",$C$2))","v":""},{"$f":"IF(C108=\"\",\"\",IF($C$2=\"\",\"\",$C$2))","v":""},{"$f":"IF(D108=\"\",\"\",IF($C$2=\"\",\"\",$C$2))","v":""},{"$f":"IF(E108=\"\",\"\",IF($C$2=\"\",\"\",$C$2))","v":""},null,null,null,103,{"$f":"'Einladungen | Übersicht'!H111","v":0},{"$f":"'Einladungen | Übersicht'!K111","v":0},{"$f":"'Einladungen | Übersicht'!L111","v":0},{"$f":"'Einladungen | Übersicht'!M111","v":0},{"$f":"'Einladungen | Übersicht'!N111","v":0},{"$f":"'Einladungen | Übersicht'!O111","v":0},{"$f":"'Einladungen | Übersicht'!AA111","v":0},{"$f":"'Einladungen | Übersicht'!AB111","v":0},"0 0","",{"$f":"'Einladungen | Übersicht'!S111","v":0},{"$f":"'Einladungen | Übersicht'!U111","v":0},{"$f":"'Einladungen | Übersicht'!W111","v":0}]
[null,{"$f":"IF(VLOOKUP(B111,Gäste,6)=0,\"\",VLOOKUP(B111,Gäste,10))","v":""},{"$f":"IF(VLOOKUP(C111,Gäste,6)=0,\"\",VLOOKUP(C111,Gäste,10))","v":""},{"$f":"IF(VLOOKUP(D111,Gäste,6)=0,\"\",VLOOKUP(D111,Gäste,10))","v":""},{"$f":"IF(VLOOKUP(E111,Gäste,6)=0,\"\",VLOOKUP(E111,Gäste,10))","v":""},null,null,null,104,{"$f":"'Einladungen | Übersicht'!H112","v":0},{"$f":"'Einladungen | Übersicht'!K112","v":0},{"$f":"'Einladungen | Übersicht'!L112","v":0},{"$f":"'Einladungen | Übersicht'!M112","v":0},{"$f":"'Einladungen | Übersicht'!N112","v":0},{"$f":"'Einladungen | Übersicht'!O112","v":0},{"$f":"'Einladungen | Übersicht'!AA112","v":0},{"$f":"'Einladungen | Übersicht'!AB112","v":0},"0 0","",{"$f":"'Einladungen | Übersicht'!S112","v":0},{"$f":"'Einladungen | Übersicht'!U112","v":0},{"$f":"'Einladungen | Übersicht'!W112","v":0}]
[null,{"$f":"IF(VLOOKUP(B111,Gäste,3)=0,\"\",IF(VLOOKUP(B111,Gäste,6)=0,VLOOKUP(B111,Gäste,10),VLOOKUP(B111,Gäste,11)))","v":""},{"$f":"IF(VLOOKUP(C111,Gäste,3)=0,\"\",IF(VLOOKUP(C111,Gäste,6)=0,VLOOKUP(C111,Gäste,10),VLOOKUP(C111,Gäste,11)))","v":""},{"$f":"IF(VLOOKUP(D111,Gäste,3)=0,\"\",IF(VLOOKUP(D111,Gäste,6)=0,VLOOKUP(D111,Gäste,10),VLOOKUP(D111,Gäste,11)))","v":""},{"$f":"IF(VLOOKUP(E111,Gäste,3)=0,\"\",IF(VLOOKUP(E111,Gäste,6)=0,VLOOKUP(E111,Gäste,10),VLOOKUP(E111,Gäste,11)))","v":""},null,null,null,105,{"$f":"'Einladungen | Übersicht'!H113","v":0},{"$f":"'Einladungen | Übersicht'!K113","v":0},{"$f":"'Einladungen | Übersicht'!L113","v":0},{"$f":"'Einladungen | Übersicht'!M113","v":0},{"$f":"'Einladungen | Übersicht'!N113","v":0},{"$f":"'Einladungen | Übersicht'!O113","v":0},{"$f":"'Einladungen | Übersicht'!AA113","v":0},{"$f":"'Einladungen | Übersicht'!AB113","v":0},"0 0","",{"$f":"'Einladungen | Übersicht'!S113","v":0},{"$f":"'Einladungen | Übersicht'!U113","v":0},{"$f":"'Einladungen | Übersicht'!W113","v":0}]
[null,{"$f":"IF(VLOOKUP(B111,Gäste,8)=0,\"\",VLOOKUP(B111,Gäste,8))","v":""},{"$f":"IF(VLOOKUP(C111,Gäste,8)=0,\"\",VLOOKUP(C111,Gäste,8))","v":""},{"$f":"IF(VLOOKUP(D111,Gäste,8)=0,\"\",VLOOKUP(D111,Gäste,8))","v":""},{"$f":"IF(VLOOKUP(E111,Gäste,8)=0,\"\",VLOOKUP(E111,Gäste,8))","v":""},null,null,null,106,{"$f":"'Einladungen | Übersicht'!H114","v":0},{"$f":"'Einladungen | Übersicht'!K114","v":0},{"$f":"'Einladungen | Übersicht'!L114","v":0},{"$f":"'Einladungen | Übersicht'!M114","v":0},{"$f":"'Einladungen | Übersicht'!N114","v":0},{"$f":"'Einladungen | Übersicht'!O114","v":0},{"$f":"'Einladungen | Übersicht'!AA114","v":0},{"$f":"'Einladungen | Übersicht'!AB114","v":0},"0 0","",{"$f":"'Einladungen | Übersicht'!S114","v":0},{"$f":"'Einladungen | Übersicht'!U114","v":0},{"$f":"'Einladungen | Übersicht'!W114","v":0}]
[null,{"$f":"IF(VLOOKUP(B111,Gäste,9)=0,\"\",VLOOKUP(B111,Gäste,9))","v":""},{"$f":"IF(VLOOKUP(C111,Gäste,9)=0,\"\",VLOOKUP(C111,Gäste,9))","v":""},{"$f":"IF(VLOOKUP(D111,Gäste,9)=0,\"\",VLOOKUP(D111,Gäste,9))","v":""},{"$f":"IF(VLOOKUP(E111,Gäste,9)=0,\"\",VLOOKUP(E111,Gäste,9))","v":""},null,null,null,107,{"$f":"'Einladungen | Übersicht'!H115","v":0},{"$f":"'Einladungen | Übersicht'!K115","v":0},{"$f":"'Einladungen | Übersicht'!L115","v":0},{"$f":"'Einladungen | Übersicht'!M115","v":0},{"$f":"'Einladungen | Übersicht'!N115","v":0},{"$f":"'Einladungen | Übersicht'!O115","v":0},{"$f":"'Einladungen | Übersicht'!AA115","v":0},{"$f":"'Einladungen | Übersicht'!AB115","v":0},"0 0","",{"$f":"'Einladungen | Übersicht'!S115","v":0},{"$f":"'Einladungen | Übersicht'!U115","v":0},{"$f":"'Einladungen | Übersicht'!W115","v":0}]
[null,69,70,71,72,null,null,null,108,{"$f":"'Einladungen | Übersicht'!H116","v":0},{"$f":"'Einladungen | Übersicht'!K116","v":0},{"$f":"'Einladungen | Übersicht'!L116","v":0},{"$f":"'Einladungen | Übersicht'!M116","v":0},{"$f":"'Einladungen | Übersicht'!N116","v":0},{"$f":"'Einladungen | Übersicht'!O116","v":0},{"$f":"'Einladungen | Übersicht'!AA116","v":0},{"$f":"'Einladungen | Übersicht'!AB116","v":0},"0 0","",{"$f":"'Einladungen | Übersicht'!S116","v":0},{"$f":"'Einladungen | Übersicht'!U116","v":0},{"$f":"'Einladungen | Übersicht'!W116","v":0}]
[null,{"$f":"IF(B114=\"\",\"\",IF($C$2=\"\",\"\",$C$2))","v":""},{"$f":"IF(C114=\"\",\"\",IF($C$2=\"\",\"\",$C$2))","v":""},{"$f":"IF(D114=\"\",\"\",IF($C$2=\"\",\"\",$C$2))","v":""},{"$f":"IF(E114=\"\",\"\",IF($C$2=\"\",\"\",$C$2))","v":""},null,null,null,109,{"$f":"'Einladungen | Übersicht'!H117","v":0},{"$f":"'Einladungen | Übersicht'!K117","v":0},{"$f":"'Einladungen | Übersicht'!L117","v":0},{"$f":"'Einladungen | Übersicht'!M117","v":0},{"$f":"'Einladungen | Übersicht'!N117","v":0},{"$f":"'Einladungen | Übersicht'!O117","v":0},{"$f":"'Einladungen | Übersicht'!AA117","v":0},{"$f":"'Einladungen | Übersicht'!AB117","v":0},"0 0","",{"$f":"'Einladungen | Übersicht'!S117","v":0},{"$f":"'Einladungen | Übersicht'!U117","v":0},{"$f":"'Einladungen | Übersicht'!W117","v":0}]
[null,{"$f":"IF(VLOOKUP(B117,Gäste,6)=0,\"\",VLOOKUP(B117,Gäste,10))","v":""},{"$f":"IF(VLOOKUP(C117,Gäste,6)=0,\"\",VLOOKUP(C117,Gäste,10))","v":""},{"$f":"IF(VLOOKUP(D117,Gäste,6)=0,\"\",VLOOKUP(D117,Gäste,10))","v":""},{"$f":"IF(VLOOKUP(E117,Gäste,6)=0,\"\",VLOOKUP(E117,Gäste,10))","v":""},null,null,null,110,{"$f":"'Einladungen | Übersicht'!H118","v":0},{"$f":"'Einladungen | Übersicht'!K118","v":0},{"$f":"'Einladungen | Übersicht'!L118","v":0},{"$f":"'Einladungen | Übersicht'!M118","v":0},{"$f":"'Einladungen | Übersicht'!N118","v":0},{"$f":"'Einladungen | Übersicht'!O118","v":0},{"$f":"'Einladungen | Übersicht'!AA118","v":0},{"$f":"'Einladungen | Übersicht'!AB118","v":0},"0 0","",{"$f":"'Einladungen | Übersicht'!S118","v":0},{"$f":"'Einladungen | Übersicht'!U118","v":0},{"$f":"'Einladungen | Übersicht'!W118","v":0}]
[null,{"$f":"IF(VLOOKUP(B117,Gäste,3)=0,\"\",IF(VLOOKUP(B117,Gäste,6)=0,VLOOKUP(B117,Gäste,10),VLOOKUP(B117,Gäste,11)))","v":""},{"$f":"IF(VLOOKUP(C117,Gäste,3)=0,\"\",IF(VLOOKUP(C117,Gäste,6)=0,VLOOKUP(C117,Gäste,10),VLOOKUP(C117,Gäste,11)))","v":""},{"$f":"IF(VLOOKUP(D117,Gäste,3)=0,\"\",IF(VLOOKUP(D117,Gäste,6)=0,VLOOKUP(D117,Gäste,10),VLOOKUP(D117,Gäste,11)))","v":""},{"$f":"IF(VLOOKUP(E117,Gäste,3)=0,\"\",IF(VLOOKUP(E117,Gäste,6)=0,VLOOKUP(E117,Gäste,10),VLOOKUP(E117,Gäste,11)))","v":""},null,null,null,111,{"$f":"'Einladungen | Übersicht'!H119","v":0},{"$f":"'Einladungen | Übersicht'!K119","v":0},{"$f":"'Einladungen | Übersicht'!L119","v":0},{"$f":"'Einladungen | Übersicht'!M119","v":0},{"$f":"'Einladungen | Übersicht'!N119","v":0},{"$f":"'Einladungen | Übersicht'!O119","v":0},{"$f":"'Einladungen | Übersicht'!AA119","v":0},{"$f":"'Einladungen | Übersicht'!AB119","v":0},"0 0","",{"$f":"'Einladungen | Übersicht'!S119","v":0},{"$f":"'Einladungen | Übersicht'!U119","v":0},{"$f":"'Einladungen | Übersicht'!W119","v":0}]
[null,{"$f":"IF(VLOOKUP(B117,Gäste,8)=0,\"\",VLOOKUP(B117,Gäste,8))","v":""},{"$f":"IF(VLOOKUP(C117,Gäste,8)=0,\"\",VLOOKUP(C117,Gäste,8))","v":""},{"$f":"IF(VLOOKUP(D117,Gäste,8)=0,\"\",VLOOKUP(D117,Gäste,8))","v":""},{"$f":"IF(VLOOKUP(E117,Gäste,8)=0,\"\",VLOOKUP(E117,Gäste,8))","v":""},null,null,null,112,{"$f":"'Einladungen | Übersicht'!H120","v":0},{"$f":"'Einladungen | Übersicht'!K120","v":0},{"$f":"'Einladungen | Übersicht'!L120","v":0},{"$f":"'Einladungen | Übersicht'!M120","v":0},{"$f":"'Einladungen | Übersicht'!N120","v":0},{"$f":"'Einladungen | Übersicht'!O120","v":0},{"$f":"'Einladungen | Übersicht'!AA120","v":0},{"$f":"'Einladungen | Übersicht'!AB120","v":0},"0 0","",{"$f":"'Einladungen | Übersicht'!S120","v":0},{"$f":"'Einladungen | Übersicht'!U120","v":0},{"$f":"'Einladungen | Übersicht'!W120","v":0}]
[null,{"$f":"IF(VLOOKUP(B117,Gäste,9)=0,\"\",VLOOKUP(B117,Gäste,9))","v":""},{"$f":"IF(VLOOKUP(C117,Gäste,9)=0,\"\",VLOOKUP(C117,Gäste,9))","v":""},{"$f":"IF(VLOOKUP(D117,Gäste,9)=0,\"\",VLOOKUP(D117,Gäste,9))","v":""},{"$f":"IF(VLOOKUP(E117,Gäste,9)=0,\"\",VLOOKUP(E117,Gäste,9))","v":""},null,null,null,113,{"$f":"'Einladungen | Übersicht'!H121","v":0},{"$f":"'Einladungen | Übersicht'!K121","v":0},{"$f":"'Einladungen | Übersicht'!L121","v":0},{"$f":"'Einladungen | Übersicht'!M121","v":0},{"$f":"'Einladungen | Übersicht'!N121","v":0},{"$f":"'Einladungen | Übersicht'!O121","v":0},{"$f":"'Einladungen | Übersicht'!AA121","v":0},{"$f":"'Einladungen | Übersicht'!AB121","v":0},"0 0","",{"$f":"'Einladungen | Übersicht'!S121","v":0},{"$f":"'Einladungen | Übersicht'!U121","v":0},{"$f":"'Einladungen | Übersicht'!W121","v":0}]
[null,73,74,75,76,null,null,null,114,{"$f":"'Einladungen | Übersicht'!H122","v":0},{"$f":"'Einladungen | Übersicht'!K122","v":0},{"$f":"'Einladungen | Übersicht'!L122","v":0},{"$f":"'Einladungen | Übersicht'!M122","v":0},{"$f":"'Einladungen | Übersicht'!N122","v":0},{"$f":"'Einladungen | Übersicht'!O122","v":0},{"$f":"'Einladungen | Übersicht'!AA122","v":0},{"$f":"'Einladungen | Übersicht'!AB122","v":0},"0 0","",{"$f":"'Einladungen | Übersicht'!S122","v":0},{"$f":"'Einladungen | Übersicht'!U122","v":0},{"$f":"'Einladungen | Übersicht'!W122","v":0}]
[null,{"$f":"IF(B120=\"\",\"\",IF($C$2=\"\",\"\",$C$2))","v":""},{"$f":"IF(C120=\"\",\"\",IF($C$2=\"\",\"\",$C$2))","v":""},{"$f":"IF(D120=\"\",\"\",IF($C$2=\"\",\"\",$C$2))","v":""},{"$f":"IF(E120=\"\",\"\",IF($C$2=\"\",\"\",$C$2))","v":""},null,null,null,115,{"$f":"'Einladungen | Übersicht'!H123","v":0},{"$f":"'Einladungen | Übersicht'!K123","v":0},{"$f":"'Einladungen | Übersicht'!L123","v":0},{"$f":"'Einladungen | Übersicht'!M123","v":0},{"$f":"'Einladungen | Übersicht'!N123","v":0},{"$f":"'Einladungen | Übersicht'!O123","v":0},{"$f":"'Einladungen | Übersicht'!AA123","v":0},{"$f":"'Einladungen | Übersicht'!AB123","v":0},"0 0","",{"$f":"'Einladungen | Übersicht'!S123","v":0},{"$f":"'Einladungen | Übersicht'!U123","v":0},{"$f":"'Einladungen | Übersicht'!W123","v":0}]
[null,{"$f":"IF(VLOOKUP(B123,Gäste,6)=0,\"\",VLOOKUP(B123,Gäste,10))","v":""},{"$f":"IF(VLOOKUP(C123,Gäste,6)=0,\"\",VLOOKUP(C123,Gäste,10))","v":""},{"$f":"IF(VLOOKUP(D123,Gäste,6)=0,\"\",VLOOKUP(D123,Gäste,10))","v":""},{"$f":"IF(VLOOKUP(E123,Gäste,6)=0,\"\",VLOOKUP(E123,Gäste,10))","v":""},null,null,null,116,{"$f":"'Einladungen | Übersicht'!H124","v":0},{"$f":"'Einladungen | Übersicht'!K124","v":0},{"$f":"'Einladungen | Übersicht'!L124","v":0},{"$f":"'Einladungen | Übersicht'!M124","v":0},{"$f":"'Einladungen | Übersicht'!N124","v":0},{"$f":"'Einladungen | Übersicht'!O124","v":0},{"$f":"'Einladungen | Übersicht'!AA124","v":0},{"$f":"'Einladungen | Übersicht'!AB124","v":0},"0 0","",{"$f":"'Einladungen | Übersicht'!S124","v":0},{"$f":"'Einladungen | Übersicht'!U124","v":0},{"$f":"'Einladungen | Übersicht'!W124","v":0}]
[null,{"$f":"IF(VLOOKUP(B123,Gäste,3)=0,\"\",IF(VLOOKUP(B123,Gäste,6)=0,VLOOKUP(B123,Gäste,10),VLOOKUP(B123,Gäste,11)))","v":""},{"$f":"IF(VLOOKUP(C123,Gäste,3)=0,\"\",IF(VLOOKUP(C123,Gäste,6)=0,VLOOKUP(C123,Gäste,10),VLOOKUP(C123,Gäste,11)))","v":""},{"$f":"IF(VLOOKUP(D123,Gäste,3)=0,\"\",IF(VLOOKUP(D123,Gäste,6)=0,VLOOKUP(D123,Gäste,10),VLOOKUP(D123,Gäste,11)))","v":""},{"$f":"IF(VLOOKUP(E123,Gäste,3)=0,\"\",IF(VLOOKUP(E123,Gäste,6)=0,VLOOKUP(E123,Gäste,10),VLOOKUP(E123,Gäste,11)))","v":""},null,null,null,117,{"$f":"'Einladungen | Übersicht'!H125","v":0},{"$f":"'Einladungen | Übersicht'!K125","v":0},{"$f":"'Einladungen | Übersicht'!L125","v":0},{"$f":"'Einladungen | Übersicht'!M125","v":0},{"$f":"'Einladungen | Übersicht'!N125","v":0},{"$f":"'Einladungen | Übersicht'!O125","v":0},{"$f":"'Einladungen | Übersicht'!AA125","v":0},{"$f":"'Einladungen | Übersicht'!AB125","v":0},"0 0","",{"$f":"'Einladungen | Übersicht'!S125","v":0},{"$f":"'Einladungen | Übersicht'!U125","v":0},{"$f":"'Einladungen | Übersicht'!W125","v":0}]
[null,{"$f":"IF(VLOOKUP(B123,Gäste,8)=0,\"\",VLOOKUP(B123,Gäste,8))","v":""},{"$f":"IF(VLOOKUP(C123,Gäste,8)=0,\"\",VLOOKUP(C123,Gäste,8))","v":""},{"$f":"IF(VLOOKUP(D123,Gäste,8)=0,\"\",VLOOKUP(D123,Gäste,8))","v":""},{"$f":"IF(VLOOKUP(E123,Gäste,8)=0,\"\",VLOOKUP(E123,Gäste,8))","v":""},null,null,null,118,{"$f":"'Einladungen | Übersicht'!H126","v":0},{"$f":"'Einladungen | Übersicht'!K126","v":0},{"$f":"'Einladungen | Übersicht'!L126","v":0},{"$f":"'Einladungen | Übersicht'!M126","v":0},{"$f":"'Einladungen | Übersicht'!N126","v":0},{"$f":"'Einladungen | Übersicht'!O126","v":0},{"$f":"'Einladungen | Übersicht'!AA126","v":0},{"$f":"'Einladungen | Übersicht'!AB126","v":0},"0 0","",{"$f":"'Einladungen | Übersicht'!S126","v":0},{"$f":"'Einladungen | Übersicht'!U126","v":0},{"$f":"'Einladungen | Übersicht'!W126","v":0}]
[null,{"$f":"IF(VLOOKUP(B123,Gäste,9)=0,\"\",VLOOKUP(B123,Gäste,9))","v":""},{"$f":"IF(VLOOKUP(C123,Gäste,9)=0,\"\",VLOOKUP(C123,Gäste,9))","v":""},{"$f":"IF(VLOOKUP(D123,Gäste,9)=0,\"\",VLOOKUP(D123,Gäste,9))","v":""},{"$f":"IF(VLOOKUP(E123,Gäste,9)=0,\"\",VLOOKUP(E123,Gäste,9))","v":""},null,null,null,119,{"$f":"'Einladungen | Übersicht'!H127","v":0},{"$f":"'Einladungen | Übersicht'!K127","v":0},{"$f":"'Einladungen | Übersicht'!L127","v":0},{"$f":"'Einladungen | Übersicht'!M127","v":0},{"$f":"'Einladungen | Übersicht'!N127","v":0},{"$f":"'Einladungen | Übersicht'!O127","v":0},{"$f":"'Einladungen | Übersicht'!AA127","v":0},{"$f":"'Einladungen | Übersicht'!AB127","v":0},"0 0","",{"$f":"'Einladungen | Übersicht'!S127","v":0},{"$f":"'Einladungen | Übersicht'!U127","v":0},{"$f":"'Einladungen | Übersicht'!W127","v":0}]
["#4",77,78,79,80,null,null,null,120,{"$f":"'Einladungen | Übersicht'!H128","v":0},{"$f":"'Einladungen | Übersicht'!K128","v":0},{"$f":"'Einladungen | Übersicht'!L128","v":0},{"$f":"'Einladungen | Übersicht'!M128","v":0},{"$f":"'Einladungen | Übersicht'!N128","v":0},{"$f":"'Einladungen | Übersicht'!O128","v":0},{"$f":"'Einladungen | Übersicht'!AA128","v":0},{"$f":"'Einladungen | Übersicht'!AB128","v":0},"0 0","",{"$f":"'Einladungen | Übersicht'!S128","v":0},{"$f":"'Einladungen | Übersicht'!U128","v":0},{"$f":"'Einladungen | Übersicht'!W128","v":0}]
[null,{"$f":"IF(B126=\"\",\"\",IF($C$2=\"\",\"\",$C$2))","v":""},{"$f":"IF(C126=\"\",\"\",IF($C$2=\"\",\"\",$C$2))","v":""},{"$f":"IF(D126=\"\",\"\",IF($C$2=\"\",\"\",$C$2))","v":""},{"$f":"IF(E126=\"\",\"\",IF($C$2=\"\",\"\",$C$2))","v":""},null,null,null,121,{"$f":"'Einladungen | Übersicht'!H129","v":0},{"$f":"'Einladungen | Übersicht'!K129","v":0},{"$f":"'Einladungen | Übersicht'!L129","v":0},{"$f":"'Einladungen | Übersicht'!M129","v":0},{"$f":"'Einladungen | Übersicht'!N129","v":0},{"$f":"'Einladungen | Übersicht'!O129","v":0},{"$f":"'Einladungen | Übersicht'!AA129","v":0},{"$f":"'Einladungen | Übersicht'!AB129","v":0},"0 0","",{"$f":"'Einladungen | Übersicht'!S129","v":0},{"$f":"'Einladungen | Übersicht'!U129","v":0},{"$f":"'Einladungen | Übersicht'!W129","v":0}]
[null,{"$f":"IF(VLOOKUP(B129,Gäste,6)=0,\"\",VLOOKUP(B129,Gäste,10))","v":""},{"$f":"IF(VLOOKUP(C129,Gäste,6)=0,\"\",VLOOKUP(C129,Gäste,10))","v":""},{"$f":"IF(VLOOKUP(D129,Gäste,6)=0,\"\",VLOOKUP(D129,Gäste,10))","v":""},{"$f":"IF(VLOOKUP(E129,Gäste,6)=0,\"\",VLOOKUP(E129,Gäste,10))","v":""},null,null,null,122,{"$f":"'Einladungen | Übersicht'!H130","v":0},{"$f":"'Einladungen | Übersicht'!K130","v":0},{"$f":"'Einladungen | Übersicht'!L130","v":0},{"$f":"'Einladungen | Übersicht'!M130","v":0},{"$f":"'Einladungen | Übersicht'!N130","v":0},{"$f":"'Einladungen | Übersicht'!O130","v":0},{"$f":"'Einladungen | Übersicht'!AA130","v":0},{"$f":"'Einladungen | Übersicht'!AB130","v":0},"0 0","",{"$f":"'Einladungen | Übersicht'!S130","v":0},{"$f":"'Einladungen | Übersicht'!U130","v":0},{"$f":"'Einladungen | Übersicht'!W130","v":0}]
[null,{"$f":"IF(VLOOKUP(B129,Gäste,3)=0,\"\",IF(VLOOKUP(B129,Gäste,6)=0,VLOOKUP(B129,Gäste,10),VLOOKUP(B129,Gäste,11)))","v":""},{"$f":"IF(VLOOKUP(C129,Gäste,3)=0,\"\",IF(VLOOKUP(C129,Gäste,6)=0,VLOOKUP(C129,Gäste,10),VLOOKUP(C129,Gäste,11)))","v":""},{"$f":"IF(VLOOKUP(D129,Gäste,3)=0,\"\",IF(VLOOKUP(D129,Gäste,6)=0,VLOOKUP(D129,Gäste,10),VLOOKUP(D129,Gäste,11)))","v":""},{"$f":"IF(VLOOKUP(E129,Gäste,3)=0,\"\",IF(VLOOKUP(E129,Gäste,6)=0,VLOOKUP(E129,Gäste,10),VLOOKUP(E129,Gäste,11)))","v":""},null,null,null,123,{"$f":"'Einladungen | Übersicht'!H131","v":0},{"$f":"'Einladungen | Übersicht'!K131","v":0},{"$f":"'Einladungen | Übersicht'!L131","v":0},{"$f":"'Einladungen | Übersicht'!M131","v":0},{"$f":"'Einladungen | Übersicht'!N131","v":0},{"$f":"'Einladungen | Übersicht'!O131","v":0},{"$f":"'Einladungen | Übersicht'!AA131","v":0},{"$f":"'Einladungen | Übersicht'!AB131","v":0},"0 0","",{"$f":"'Einladungen | Übersicht'!S131","v":0},{"$f":"'Einladungen | Übersicht'!U131","v":0},{"$f":"'Einladungen | Übersicht'!W131","v":0}]
[null,{"$f":"IF(VLOOKUP(B129,Gäste,8)=0,\"\",VLOOKUP(B129,Gäste,8))","v":""},{"$f":"IF(VLOOKUP(C129,Gäste,8)=0,\"\",VLOOKUP(C129,Gäste,8))","v":""},{"$f":"IF(VLOOKUP(D129,Gäste,8)=0,\"\",VLOOKUP(D129,Gäste,8))","v":""},{"$f":"IF(VLOOKUP(E129,Gäste,8)=0,\"\",VLOOKUP(E129,Gäste,8))","v":""},null,null,null,124,{"$f":"'Einladungen | Übersicht'!H132","v":0},{"$f":"'Einladungen | Übersicht'!K132","v":0},{"$f":"'Einladungen | Übersicht'!L132","v":0},{"$f":"'Einladungen | Übersicht'!M132","v":0},{"$f":"'Einladungen | Übersicht'!N132","v":0},{"$f":"'Einladungen | Übersicht'!O132","v":0},{"$f":"'Einladungen | Übersicht'!AA132","v":0},{"$f":"'Einladungen | Übersicht'!AB132","v":0},"0 0","",{"$f":"'Einladungen | Übersicht'!S132","v":0},{"$f":"'Einladungen | Übersicht'!U132","v":0},{"$f":"'Einladungen | Übersicht'!W132","v":0}]
[null,{"$f":"IF(VLOOKUP(B129,Gäste,9)=0,\"\",VLOOKUP(B129,Gäste,9))","v":""},{"$f":"IF(VLOOKUP(C129,Gäste,9)=0,\"\",VLOOKUP(C129,Gäste,9))","v":""},{"$f":"IF(VLOOKUP(D129,Gäste,9)=0,\"\",VLOOKUP(D129,Gäste,9))","v":""},{"$f":"IF(VLOOKUP(E129,Gäste,9)=0,\"\",VLOOKUP(E129,Gäste,9))","v":""},null,null,null,125,{"$f":"'Einladungen | Übersicht'!H133","v":0},{"$f":"'Einladungen | Übersicht'!K133","v":0},{"$f":"'Einladungen | Übersicht'!L133","v":0},{"$f":"'Einladungen | Übersicht'!M133","v":0},{"$f":"'Einladungen | Übersicht'!N133","v":0},{"$f":"'Einladungen | Übersicht'!O133","v":0},{"$f":"'Einladungen | Übersicht'!AA133","v":0},{"$f":"'Einladungen | Übersicht'!AB133","v":0},"0 0","",{"$f":"'Einladungen | Übersicht'!S133","v":0},{"$f":"'Einladungen | Übersicht'!U133","v":0},{"$f":"'Einladungen | Übersicht'!W133","v":0}]
[null,81,82,83,84,null,null,null,126,{"$f":"'Einladungen | Übersicht'!H134","v":0},{"$f":"'Einladungen | Übersicht'!K134","v":0},{"$f":"'Einladungen | Übersicht'!L134","v":0},{"$f":"'Einladungen | Übersicht'!M134","v":0},{"$f":"'Einladungen | Übersicht'!N134","v":0},{"$f":"'Einladungen | Übersicht'!O134","v":0},{"$f":"'Einladungen | Übersicht'!AA134","v":0},{"$f":"'Einladungen | Übersicht'!AB134","v":0},"0 0","",{"$f":"'Einladungen | Übersicht'!S134","v":0},{"$f":"'Einladungen | Übersicht'!U134","v":0},{"$f":"'Einladungen | Übersicht'!W134","v":0}]
[null,{"$f":"IF(B132=\"\",\"\",IF($C$2=\"\",\"\",$C$2))","v":""},{"$f":"IF(C132=\"\",\"\",IF($C$2=\"\",\"\",$C$2))","v":""},{"$f":"IF(D132=\"\",\"\",IF($C$2=\"\",\"\",$C$2))","v":""},{"$f":"IF(E132=\"\",\"\",IF($C$2=\"\",\"\",$C$2))","v":""},null,null,null,127,{"$f":"'Einladungen | Übersicht'!H135","v":0},{"$f":"'Einladungen | Übersicht'!K135","v":0},{"$f":"'Einladungen | Übersicht'!L135","v":0},{"$f":"'Einladungen | Übersicht'!M135","v":0},{"$f":"'Einladungen | Übersicht'!N135","v":0},{"$f":"'Einladungen | Übersicht'!O135","v":0},{"$f":"'Einladungen | Übersicht'!AA135","v":0},{"$f":"'Einladungen | Übersicht'!AB135","v":0},"0 0","",{"$f":"'Einladungen | Übersicht'!S135","v":0},{"$f":"'Einladungen | Übersicht'!U135","v":0},{"$f":"'Einladungen | Übersicht'!W135","v":0}]
[null,{"$f":"IF(VLOOKUP(B135,Gäste,6)=0,\"\",VLOOKUP(B135,Gäste,10))","v":""},{"$f":"IF(VLOOKUP(C135,Gäste,6)=0,\"\",VLOOKUP(C135,Gäste,10))","v":""},{"$f":"IF(VLOOKUP(D135,Gäste,6)=0,\"\",VLOOKUP(D135,Gäste,10))","v":""},{"$f":"IF(VLOOKUP(E135,Gäste,6)=0,\"\",VLOOKUP(E135,Gäste,10))","v":""},null,null,null,128,{"$f":"'Einladungen | Übersicht'!H136","v":0},{"$f":"'Einladungen | Übersicht'!K136","v":0},{"$f":"'Einladungen | Übersicht'!L136","v":0},{"$f":"'Einladungen | Übersicht'!M136","v":0},{"$f":"'Einladungen | Übersicht'!N136","v":0},{"$f":"'Einladungen | Übersicht'!O136","v":0},{"$f":"'Einladungen | Übersicht'!AA136","v":0},{"$f":"'Einladungen | Übersicht'!AB136","v":0},"0 0","",{"$f":"'Einladungen | Übersicht'!S136","v":0},{"$f":"'Einladungen | Übersicht'!U136","v":0},{"$f":"'Einladungen | Übersicht'!W136","v":0}]
[null,{"$f":"IF(VLOOKUP(B135,Gäste,3)=0,\"\",IF(VLOOKUP(B135,Gäste,6)=0,VLOOKUP(B135,Gäste,10),VLOOKUP(B135,Gäste,11)))","v":""},{"$f":"IF(VLOOKUP(C135,Gäste,3)=0,\"\",IF(VLOOKUP(C135,Gäste,6)=0,VLOOKUP(C135,Gäste,10),VLOOKUP(C135,Gäste,11)))","v":""},{"$f":"IF(VLOOKUP(D135,Gäste,3)=0,\"\",IF(VLOOKUP(D135,Gäste,6)=0,VLOOKUP(D135,Gäste,10),VLOOKUP(D135,Gäste,11)))","v":""},{"$f":"IF(VLOOKUP(E135,Gäste,3)=0,\"\",IF(VLOOKUP(E135,Gäste,6)=0,VLOOKUP(E135,Gäste,10),VLOOKUP(E135,Gäste,11)))","v":""},null,null,null,129,{"$f":"'Einladungen | Übersicht'!H137","v":0},{"$f":"'Einladungen | Übersicht'!K137","v":0},{"$f":"'Einladungen | Übersicht'!L137","v":0},{"$f":"'Einladungen | Übersicht'!M137","v":0},{"$f":"'Einladungen | Übersicht'!N137","v":0},{"$f":"'Einladungen | Übersicht'!O137","v":0},{"$f":"'Einladungen | Übersicht'!AA137","v":0},{"$f":"'Einladungen | Übersicht'!AB137","v":0},"0 0","",{"$f":"'Einladungen | Übersicht'!S137","v":0},{"$f":"'Einladungen | Übersicht'!U137","v":0},{"$f":"'Einladungen | Übersicht'!W137","v":0}]
[null,{"$f":"IF(VLOOKUP(B135,Gäste,8)=0,\"\",VLOOKUP(B135,Gäste,8))","v":""},{"$f":"IF(VLOOKUP(C135,Gäste,8)=0,\"\",VLOOKUP(C135,Gäste,8))","v":""},{"$f":"IF(VLOOKUP(D135,Gäste,8)=0,\"\",VLOOKUP(D135,Gäste,8))","v":""},{"$f":"IF(VLOOKUP(E135,Gäste,8)=0,\"\",VLOOKUP(E135,Gäste,8))","v":""},null,null,null,130,{"$f":"'Einladungen | Übersicht'!H138","v":0},{"$f":"'Einladungen | Übersicht'!K138","v":0},{"$f":"'Einladungen | Übersicht'!L138","v":0},{"$f":"'Einladungen | Übersicht'!M138","v":0},{"$f":"'Einladungen | Übersicht'!N138","v":0},{"$f":"'Einladungen | Übersicht'!O138","v":0},{"$f":"'Einladungen | Übersicht'!AA138","v":0},{"$f":"'Einladungen | Übersicht'!AB138","v":0},{"$f":"IF(M133=0,L133&\" \"&K133,L133&\" & \"&M133&\" \"&K133)","v":"0 0"},"",{"$f":"'Einladungen | Übersicht'!S138","v":0},{"$f":"'Einladungen | Übersicht'!U138","v":0},{"$f":"'Einladungen | Übersicht'!W138","v":0}]
[null,{"$f":"IF(VLOOKUP(B135,Gäste,9)=0,\"\",VLOOKUP(B135,Gäste,9))","v":""},{"$f":"IF(VLOOKUP(C135,Gäste,9)=0,\"\",VLOOKUP(C135,Gäste,9))","v":""},{"$f":"IF(VLOOKUP(D135,Gäste,9)=0,\"\",VLOOKUP(D135,Gäste,9))","v":""},{"$f":"IF(VLOOKUP(E135,Gäste,9)=0,\"\",VLOOKUP(E135,Gäste,9))","v":""},null,null,null,131,{"$f":"'Einladungen | Übersicht'!H139","v":0},{"$f":"'Einladungen | Übersicht'!K139","v":0},{"$f":"'Einladungen | Übersicht'!L139","v":0},{"$f":"'Einladungen | Übersicht'!M139","v":0},{"$f":"'Einladungen | Übersicht'!N139","v":0},{"$f":"'Einladungen | Übersicht'!O139","v":0},{"$f":"'Einladungen | Übersicht'!AA139","v":0},{"$f":"'Einladungen | Übersicht'!AB139","v":0},"0 0",{"$f":"IF(N134=0,\"\",\"und \"&O134&\" \"&N134)","v":""},{"$f":"'Einladungen | Übersicht'!S139","v":0},{"$f":"'Einladungen | Übersicht'!U139","v":0},{"$f":"'Einladungen | Übersicht'!W139","v":0}]
[null,85,86,87,88,null,null,null,132,{"$f":"'Einladungen | Übersicht'!H140","v":0},{"$f":"'Einladungen | Übersicht'!K140","v":0},{"$f":"'Einladungen | Übersicht'!L140","v":0},{"$f":"'Einladungen | Übersicht'!M140","v":0},{"$f":"'Einladungen | Übersicht'!N140","v":0},{"$f":"'Einladungen | Übersicht'!O140","v":0},{"$f":"'Einladungen | Übersicht'!AA140","v":0},{"$f":"'Einladungen | Übersicht'!AB140","v":0},"0 0","",{"$f":"'Einladungen | Übersicht'!S140","v":0},{"$f":"'Einladungen | Übersicht'!U140","v":0},{"$f":"'Einladungen | Übersicht'!W140","v":0}]
[null,{"$f":"IF(B138=\"\",\"\",IF($C$2=\"\",\"\",$C$2))","v":""},{"$f":"IF(C138=\"\",\"\",IF($C$2=\"\",\"\",$C$2))","v":""},{"$f":"IF(D138=\"\",\"\",IF($C$2=\"\",\"\",$C$2))","v":""},{"$f":"IF(E138=\"\",\"\",IF($C$2=\"\",\"\",$C$2))","v":""},null,null,null,133,{"$f":"'Einladungen | Übersicht'!H141","v":0},{"$f":"'Einladungen | Übersicht'!K141","v":0},{"$f":"'Einladungen | Übersicht'!L141","v":0},{"$f":"'Einladungen | Übersicht'!M141","v":0},{"$f":"'Einladungen | Übersicht'!N141","v":0},{"$f":"'Einladungen | Übersicht'!O141","v":0},{"$f":"'Einladungen | Übersicht'!AA141","v":0},{"$f":"'Einladungen | Übersicht'!AB141","v":0},"0 0","",{"$f":"'Einladungen | Übersicht'!S141","v":0},{"$f":"'Einladungen | Übersicht'!U141","v":0},{"$f":"'Einladungen | Übersicht'!W141","v":0}]
[null,{"$f":"IF(VLOOKUP(B141,Gäste,6)=0,\"\",VLOOKUP(B141,Gäste,10))","v":""},{"$f":"IF(VLOOKUP(C141,Gäste,6)=0,\"\",VLOOKUP(C141,Gäste,10))","v":""},{"$f":"IF(VLOOKUP(D141,Gäste,6)=0,\"\",VLOOKUP(D141,Gäste,10))","v":""},{"$f":"IF(VLOOKUP(E141,Gäste,6)=0,\"\",VLOOKUP(E141,Gäste,10))","v":""},null,null,null,134,{"$f":"'Einladungen | Übersicht'!H142","v":0},{"$f":"'Einladungen | Übersicht'!K142","v":0},{"$f":"'Einladungen | Übersicht'!L142","v":0},{"$f":"'Einladungen | Übersicht'!M142","v":0},{"$f":"'Einladungen | Übersicht'!N142","v":0},{"$f":"'Einladungen | Übersicht'!O142","v":0},{"$f":"'Einladungen | Übersicht'!AA142","v":0},{"$f":"'Einladungen | Übersicht'!AB142","v":0},"0 0","",{"$f":"'Einladungen | Übersicht'!S142","v":0},{"$f":"'Einladungen | Übersicht'!U142","v":0},{"$f":"'Einladungen | Übersicht'!W142","v":0}]
[null,{"$f":"IF(VLOOKUP(B141,Gäste,3)=0,\"\",IF(VLOOKUP(B141,Gäste,6)=0,VLOOKUP(B141,Gäste,10),VLOOKUP(B141,Gäste,11)))","v":""},{"$f":"IF(VLOOKUP(C141,Gäste,3)=0,\"\",IF(VLOOKUP(C141,Gäste,6)=0,VLOOKUP(C141,Gäste,10),VLOOKUP(C141,Gäste,11)))","v":""},{"$f":"IF(VLOOKUP(D141,Gäste,3)=0,\"\",IF(VLOOKUP(D141,Gäste,6)=0,VLOOKUP(D141,Gäste,10),VLOOKUP(D141,Gäste,11)))","v":""},{"$f":"IF(VLOOKUP(E141,Gäste,3)=0,\"\",IF(VLOOKUP(E141,Gäste,6)=0,VLOOKUP(E141,Gäste,10),VLOOKUP(E141,Gäste,11)))","v":""},null,null,null,135,{"$f":"'Einladungen | Übersicht'!H143","v":0},{"$f":"'Einladungen | Übersicht'!K143","v":0},{"$f":"'Einladungen | Übersicht'!L143","v":0},{"$f":"'Einladungen | Übersicht'!M143","v":0},{"$f":"'Einladungen | Übersicht'!N143","v":0},{"$f":"'Einladungen | Übersicht'!O143","v":0},{"$f":"'Einladungen | Übersicht'!AA143","v":0},{"$f":"'Einladungen | Übersicht'!AB143","v":0},"0 0","",{"$f":"'Einladungen | Übersicht'!S143","v":0},{"$f":"'Einladungen | Übersicht'!U143","v":0},{"$f":"'Einladungen | Übersicht'!W143","v":0}]
[null,{"$f":"IF(VLOOKUP(B141,Gäste,8)=0,\"\",VLOOKUP(B141,Gäste,8))","v":""},{"$f":"IF(VLOOKUP(C141,Gäste,8)=0,\"\",VLOOKUP(C141,Gäste,8))","v":""},{"$f":"IF(VLOOKUP(D141,Gäste,8)=0,\"\",VLOOKUP(D141,Gäste,8))","v":""},{"$f":"IF(VLOOKUP(E141,Gäste,8)=0,\"\",VLOOKUP(E141,Gäste,8))","v":""},null,null,null,136,{"$f":"'Einladungen | Übersicht'!H144","v":0},{"$f":"'Einladungen | Übersicht'!K144","v":0},{"$f":"'Einladungen | Übersicht'!L144","v":0},{"$f":"'Einladungen | Übersicht'!M144","v":0},{"$f":"'Einladungen | Übersicht'!N144","v":0},{"$f":"'Einladungen | Übersicht'!O144","v":0},{"$f":"'Einladungen | Übersicht'!AA144","v":0},{"$f":"'Einladungen | Übersicht'!AB144","v":0},"0 0","",{"$f":"'Einladungen | Übersicht'!S144","v":0},{"$f":"'Einladungen | Übersicht'!U144","v":0},{"$f":"'Einladungen | Übersicht'!W144","v":0}]
[null,{"$f":"IF(VLOOKUP(B141,Gäste,9)=0,\"\",VLOOKUP(B141,Gäste,9))","v":""},{"$f":"IF(VLOOKUP(C141,Gäste,9)=0,\"\",VLOOKUP(C141,Gäste,9))","v":""},{"$f":"IF(VLOOKUP(D141,Gäste,9)=0,\"\",VLOOKUP(D141,Gäste,9))","v":""},{"$f":"IF(VLOOKUP(E141,Gäste,9)=0,\"\",VLOOKUP(E141,Gäste,9))","v":""},null,null,null,137,{"$f":"'Einladungen | Übersicht'!H145","v":0},{"$f":"'Einladungen | Übersicht'!K145","v":0},{"$f":"'Einladungen | Übersicht'!L145","v":0},{"$f":"'Einladungen | Übersicht'!M145","v":0},{"$f":"'Einladungen | Übersicht'!N145","v":0},{"$f":"'Einladungen | Übersicht'!O145","v":0},{"$f":"'Einladungen | Übersicht'!AA145","v":0},{"$f":"'Einladungen | Übersicht'!AB145","v":0},"0 0","",{"$f":"'Einladungen | Übersicht'!S145","v":0},{"$f":"'Einladungen | Übersicht'!U145","v":0},{"$f":"'Einladungen | Übersicht'!W145","v":0}]
[null,89,90,91,92,null,null,null,138,{"$f":"'Einladungen | Übersicht'!H146","v":0},{"$f":"'Einladungen | Übersicht'!K146","v":0},{"$f":"'Einladungen | Übersicht'!L146","v":0},{"$f":"'Einladungen | Übersicht'!M146","v":0},{"$f":"'Einladungen | Übersicht'!N146","v":0},{"$f":"'Einladungen | Übersicht'!O146","v":0},{"$f":"'Einladungen | Übersicht'!AA146","v":0},{"$f":"'Einladungen | Übersicht'!AB146","v":0},"0 0","",{"$f":"'Einladungen | Übersicht'!S146","v":0},{"$f":"'Einladungen | Übersicht'!U146","v":0},{"$f":"'Einladungen | Übersicht'!W146","v":0}]
[null,{"$f":"IF(B144=\"\",\"\",IF($C$2=\"\",\"\",$C$2))","v":""},{"$f":"IF(C144=\"\",\"\",IF($C$2=\"\",\"\",$C$2))","v":""},{"$f":"IF(D144=\"\",\"\",IF($C$2=\"\",\"\",$C$2))","v":""},{"$f":"IF(E144=\"\",\"\",IF($C$2=\"\",\"\",$C$2))","v":""},null,null,null,139,{"$f":"'Einladungen | Übersicht'!H147","v":0},{"$f":"'Einladungen | Übersicht'!K147","v":0},{"$f":"'Einladungen | Übersicht'!L147","v":0},{"$f":"'Einladungen | Übersicht'!M147","v":0},{"$f":"'Einladungen | Übersicht'!N147","v":0},{"$f":"'Einladungen | Übersicht'!O147","v":0},{"$f":"'Einladungen | Übersicht'!AA147","v":0},{"$f":"'Einladungen | Übersicht'!AB147","v":0},"0 0","",{"$f":"'Einladungen | Übersicht'!S147","v":0},{"$f":"'Einladungen | Übersicht'!U147","v":0},{"$f":"'Einladungen | Übersicht'!W147","v":0}]
[null,{"$f":"IF(VLOOKUP(B147,Gäste,6)=0,\"\",VLOOKUP(B147,Gäste,10))","v":""},{"$f":"IF(VLOOKUP(C147,Gäste,6)=0,\"\",VLOOKUP(C147,Gäste,10))","v":""},{"$f":"IF(VLOOKUP(D147,Gäste,6)=0,\"\",VLOOKUP(D147,Gäste,10))","v":""},{"$f":"IF(VLOOKUP(E147,Gäste,6)=0,\"\",VLOOKUP(E147,Gäste,10))","v":""},null,null,null,140,{"$f":"'Einladungen | Übersicht'!H148","v":0},{"$f":"'Einladungen | Übersicht'!K148","v":0},{"$f":"'Einladungen | Übersicht'!L148","v":0},{"$f":"'Einladungen | Übersicht'!M148","v":0},{"$f":"'Einladungen | Übersicht'!N148","v":0},{"$f":"'Einladungen | Übersicht'!O148","v":0},{"$f":"'Einladungen | Übersicht'!AA148","v":0},{"$f":"'Einladungen | Übersicht'!AB148","v":0},"0 0","",{"$f":"'Einladungen | Übersicht'!S148","v":0},{"$f":"'Einladungen | Übersicht'!U148","v":0},{"$f":"'Einladungen | Übersicht'!W148","v":0}]
[null,{"$f":"IF(VLOOKUP(B147,Gäste,3)=0,\"\",IF(VLOOKUP(B147,Gäste,6)=0,VLOOKUP(B147,Gäste,10),VLOOKUP(B147,Gäste,11)))","v":""},{"$f":"IF(VLOOKUP(C147,Gäste,3)=0,\"\",IF(VLOOKUP(C147,Gäste,6)=0,VLOOKUP(C147,Gäste,10),VLOOKUP(C147,Gäste,11)))","v":""},{"$f":"IF(VLOOKUP(D147,Gäste,3)=0,\"\",IF(VLOOKUP(D147,Gäste,6)=0,VLOOKUP(D147,Gäste,10),VLOOKUP(D147,Gäste,11)))","v":""},{"$f":"IF(VLOOKUP(E147,Gäste,3)=0,\"\",IF(VLOOKUP(E147,Gäste,6)=0,VLOOKUP(E147,Gäste,10),VLOOKUP(E147,Gäste,11)))","v":""},null,null,null,141,{"$f":"'Einladungen | Übersicht'!H149","v":0},{"$f":"'Einladungen | Übersicht'!K149","v":0},{"$f":"'Einladungen | Übersicht'!L149","v":0},{"$f":"'Einladungen | Übersicht'!M149","v":0},{"$f":"'Einladungen | Übersicht'!N149","v":0},{"$f":"'Einladungen | Übersicht'!O149","v":0},{"$f":"'Einladungen | Übersicht'!AA149","v":0},{"$f":"'Einladungen | Übersicht'!AB149","v":0},"0 0","",{"$f":"'Einladungen | Übersicht'!S149","v":0},{"$f":"'Einladungen | Übersicht'!U149","v":0},{"$f":"'Einladungen | Übersicht'!W149","v":0}]
[null,{"$f":"IF(VLOOKUP(B147,Gäste,8)=0,\"\",VLOOKUP(B147,Gäste,8))","v":""},{"$f":"IF(VLOOKUP(C147,Gäste,8)=0,\"\",VLOOKUP(C147,Gäste,8))","v":""},{"$f":"IF(VLOOKUP(D147,Gäste,8)=0,\"\",VLOOKUP(D147,Gäste,8))","v":""},{"$f":"IF(VLOOKUP(E147,Gäste,8)=0,\"\",VLOOKUP(E147,Gäste,8))","v":""},null,null,null,142,{"$f":"'Einladungen | Übersicht'!H150","v":0},{"$f":"'Einladungen | Übersicht'!K150","v":0},{"$f":"'Einladungen | Übersicht'!L150","v":0},{"$f":"'Einladungen | Übersicht'!M150","v":0},{"$f":"'Einladungen | Übersicht'!N150","v":0},{"$f":"'Einladungen | Übersicht'!O150","v":0},{"$f":"'Einladungen | Übersicht'!AA150","v":0},{"$f":"'Einladungen | Übersicht'!AB150","v":0},"0 0","",{"$f":"'Einladungen | Übersicht'!S150","v":0},{"$f":"'Einladungen | Übersicht'!U150","v":0},{"$f":"'Einladungen | Übersicht'!W150","v":0}]
[null,{"$f":"IF(VLOOKUP(B147,Gäste,9)=0,\"\",VLOOKUP(B147,Gäste,9))","v":""},{"$f":"IF(VLOOKUP(C147,Gäste,9)=0,\"\",VLOOKUP(C147,Gäste,9))","v":""},{"$f":"IF(VLOOKUP(D147,Gäste,9)=0,\"\",VLOOKUP(D147,Gäste,9))","v":""},{"$f":"IF(VLOOKUP(E147,Gäste,9)=0,\"\",VLOOKUP(E147,Gäste,9))","v":""},null,null,null,143,{"$f":"'Einladungen | Übersicht'!H151","v":0},{"$f":"'Einladungen | Übersicht'!K151","v":0},{"$f":"'Einladungen | Übersicht'!L151","v":0},{"$f":"'Einladungen | Übersicht'!M151","v":0},{"$f":"'Einladungen | Übersicht'!N151","v":0},{"$f":"'Einladungen | Übersicht'!O151","v":0},{"$f":"'Einladungen | Übersicht'!AA151","v":0},{"$f":"'Einladungen | Übersicht'!AB151","v":0},"0 0","",{"$f":"'Einladungen | Übersicht'!S151","v":0},{"$f":"'Einladungen | Übersicht'!U151","v":0},{"$f":"'Einladungen | Übersicht'!W151","v":0}]
[null,93,94,95,96,null,null,null,144,{"$f":"'Einladungen | Übersicht'!H152","v":0},{"$f":"'Einladungen | Übersicht'!K152","v":0},{"$f":"'Einladungen | Übersicht'!L152","v":0},{"$f":"'Einladungen | Übersicht'!M152","v":0},{"$f":"'Einladungen | Übersicht'!N152","v":0},{"$f":"'Einladungen | Übersicht'!O152","v":0},{"$f":"'Einladungen | Übersicht'!AA152","v":0},{"$f":"'Einladungen | Übersicht'!AB152","v":0},"0 0","",{"$f":"'Einladungen | Übersicht'!S152","v":0},{"$f":"'Einladungen | Übersicht'!U152","v":0},{"$f":"'Einladungen | Übersicht'!W152","v":0}]
[null,{"$f":"IF(B150=\"\",\"\",IF($C$2=\"\",\"\",$C$2))","v":""},{"$f":"IF(C150=\"\",\"\",IF($C$2=\"\",\"\",$C$2))","v":""},{"$f":"IF(D150=\"\",\"\",IF($C$2=\"\",\"\",$C$2))","v":""},{"$f":"IF(E150=\"\",\"\",IF($C$2=\"\",\"\",$C$2))","v":""},null,null,null,145,{"$f":"'Einladungen | Übersicht'!H153","v":0},{"$f":"'Einladungen | Übersicht'!K153","v":0},{"$f":"'Einladungen | Übersicht'!L153","v":0},{"$f":"'Einladungen | Übersicht'!M153","v":0},{"$f":"'Einladungen | Übersicht'!N153","v":0},{"$f":"'Einladungen | Übersicht'!O153","v":0},{"$f":"'Einladungen | Übersicht'!AA153","v":0},{"$f":"'Einladungen | Übersicht'!AB153","v":0},"0 0","",{"$f":"'Einladungen | Übersicht'!S153","v":0},{"$f":"'Einladungen | Übersicht'!U153","v":0},{"$f":"'Einladungen | Übersicht'!W153","v":0}]
[null,{"$f":"IF(VLOOKUP(B153,Gäste,6)=0,\"\",VLOOKUP(B153,Gäste,10))","v":""},{"$f":"IF(VLOOKUP(C153,Gäste,6)=0,\"\",VLOOKUP(C153,Gäste,10))","v":""},{"$f":"IF(VLOOKUP(D153,Gäste,6)=0,\"\",VLOOKUP(D153,Gäste,10))","v":""},{"$f":"IF(VLOOKUP(E153,Gäste,6)=0,\"\",VLOOKUP(E153,Gäste,10))","v":""},null,null,null,146,{"$f":"'Einladungen | Übersicht'!H154","v":0},{"$f":"'Einladungen | Übersicht'!K154","v":0},{"$f":"'Einladungen | Übersicht'!L154","v":0},{"$f":"'Einladungen | Übersicht'!M154","v":0},{"$f":"'Einladungen | Übersicht'!N154","v":0},{"$f":"'Einladungen | Übersicht'!O154","v":0},{"$f":"'Einladungen | Übersicht'!AA154","v":0},{"$f":"'Einladungen | Übersicht'!AB154","v":0},"0 0","",{"$f":"'Einladungen | Übersicht'!S154","v":0},{"$f":"'Einladungen | Übersicht'!U154","v":0},{"$f":"'Einladungen | Übersicht'!W154","v":0}]
[null,{"$f":"IF(VLOOKUP(B153,Gäste,3)=0,\"\",IF(VLOOKUP(B153,Gäste,6)=0,VLOOKUP(B153,Gäste,10),VLOOKUP(B153,Gäste,11)))","v":""},{"$f":"IF(VLOOKUP(C153,Gäste,3)=0,\"\",IF(VLOOKUP(C153,Gäste,6)=0,VLOOKUP(C153,Gäste,10),VLOOKUP(C153,Gäste,11)))","v":""},{"$f":"IF(VLOOKUP(D153,Gäste,3)=0,\"\",IF(VLOOKUP(D153,Gäste,6)=0,VLOOKUP(D153,Gäste,10),VLOOKUP(D153,Gäste,11)))","v":""},{"$f":"IF(VLOOKUP(E153,Gäste,3)=0,\"\",IF(VLOOKUP(E153,Gäste,6)=0,VLOOKUP(E153,Gäste,10),VLOOKUP(E153,Gäste,11)))","v":""},null,null,null,147,{"$f":"'Einladungen | Übersicht'!H155","v":0},{"$f":"'Einladungen | Übersicht'!K155","v":0},{"$f":"'Einladungen | Übersicht'!L155","v":0},{"$f":"'Einladungen | Übersicht'!M155","v":0},{"$f":"'Einladungen | Übersicht'!N155","v":0},{"$f":"'Einladungen | Übersicht'!O155","v":0},{"$f":"'Einladungen | Übersicht'!AA155","v":0},{"$f":"'Einladungen | Übersicht'!AB155","v":0},"0 0","",{"$f":"'Einladungen | Übersicht'!S155","v":0},{"$f":"'Einladungen | Übersicht'!U155","v":0},{"$f":"'Einladungen | Übersicht'!W155","v":0}]
[null,{"$f":"IF(VLOOKUP(B153,Gäste,8)=0,\"\",VLOOKUP(B153,Gäste,8))","v":""},{"$f":"IF(VLOOKUP(C153,Gäste,8)=0,\"\",VLOOKUP(C153,Gäste,8))","v":""},{"$f":"IF(VLOOKUP(D153,Gäste,8)=0,\"\",VLOOKUP(D153,Gäste,8))","v":""},{"$f":"IF(VLOOKUP(E153,Gäste,8)=0,\"\",VLOOKUP(E153,Gäste,8))","v":""},null,null,null,148,{"$f":"'Einladungen | Übersicht'!H156","v":0},{"$f":"'Einladungen | Übersicht'!K156","v":0},{"$f":"'Einladungen | Übersicht'!L156","v":0},{"$f":"'Einladungen | Übersicht'!M156","v":0},{"$f":"'Einladungen | Übersicht'!N156","v":0},{"$f":"'Einladungen | Übersicht'!O156","v":0},{"$f":"'Einladungen | Übersicht'!AA156","v":0},{"$f":"'Einladungen | Übersicht'!AB156","v":0},"0 0","",{"$f":"'Einladungen | Übersicht'!S156","v":0},{"$f":"'Einladungen | Übersicht'!U156","v":0},{"$f":"'Einladungen | Übersicht'!W156","v":0}]
[null,{"$f":"IF(VLOOKUP(B153,Gäste,9)=0,\"\",VLOOKUP(B153,Gäste,9))","v":""},{"$f":"IF(VLOOKUP(C153,Gäste,9)=0,\"\",VLOOKUP(C153,Gäste,9))","v":""},{"$f":"IF(VLOOKUP(D153,Gäste,9)=0,\"\",VLOOKUP(D153,Gäste,9))","v":""},{"$f":"IF(VLOOKUP(E153,Gäste,9)=0,\"\",VLOOKUP(E153,Gäste,9))","v":""},null,null,null,149,{"$f":"'Einladungen | Übersicht'!H157","v":0},{"$f":"'Einladungen | Übersicht'!K157","v":0},{"$f":"'Einladungen | Übersicht'!L157","v":0},{"$f":"'Einladungen | Übersicht'!M157","v":0},{"$f":"'Einladungen | Übersicht'!N157","v":0},{"$f":"'Einladungen | Übersicht'!O157","v":0},{"$f":"'Einladungen | Übersicht'!AA157","v":0},{"$f":"'Einladungen | Übersicht'!AB157","v":0},"0 0","",{"$f":"'Einladungen | Übersicht'!S157","v":0},{"$f":"'Einladungen | Übersicht'!U157","v":0},{"$f":"'Einladungen | Übersicht'!W157","v":0}]
["#5",97,98,99,100,null,null,null,150,{"$f":"'Einladungen | Übersicht'!H158","v":0},{"$f":"'Einladungen | Übersicht'!K158","v":0},{"$f":"'Einladungen | Übersicht'!L158","v":0},{"$f":"'Einladungen | Übersicht'!M158","v":0},{"$f":"'Einladungen | Übersicht'!N158","v":0},{"$f":"'Einladungen | Übersicht'!O158","v":0},{"$f":"'Einladungen | Übersicht'!AA158","v":0},{"$f":"'Einladungen | Übersicht'!AB158","v":0},"0 0","",{"$f":"'Einladungen | Übersicht'!S158","v":0},{"$f":"'Einladungen | Übersicht'!U158","v":0},{"$f":"'Einladungen | Übersicht'!W158","v":0}]
[null,{"$f":"IF(B156=\"\",\"\",IF($C$2=\"\",\"\",$C$2))","v":""},{"$f":"IF(C156=\"\",\"\",IF($C$2=\"\",\"\",$C$2))","v":""},{"$f":"IF(D156=\"\",\"\",IF($C$2=\"\",\"\",$C$2))","v":""},{"$f":"IF(E156=\"\",\"\",IF($C$2=\"\",\"\",$C$2))","v":""},null,null,null,151,{"$f":"'Einladungen | Übersicht'!H159","v":0},{"$f":"'Einladungen | Übersicht'!K159","v":0},{"$f":"'Einladungen | Übersicht'!L159","v":0},{"$f":"'Einladungen | Übersicht'!M159","v":0},{"$f":"'Einladungen | Übersicht'!N159","v":0},{"$f":"'Einladungen | Übersicht'!O159","v":0},{"$f":"'Einladungen | Übersicht'!AA159","v":0},{"$f":"'Einladungen | Übersicht'!AB159","v":0},"0 0","",{"$f":"'Einladungen | Übersicht'!S159","v":0},{"$f":"'Einladungen | Übersicht'!U159","v":0},{"$f":"'Einladungen | Übersicht'!W159","v":0}]
[null,{"$f":"IF(VLOOKUP(B159,Gäste,6)=0,\"\",VLOOKUP(B159,Gäste,10))","v":""},{"$f":"IF(VLOOKUP(C159,Gäste,6)=0,\"\",VLOOKUP(C159,Gäste,10))","v":""},{"$f":"IF(VLOOKUP(D159,Gäste,6)=0,\"\",VLOOKUP(D159,Gäste,10))","v":""},{"$f":"IF(VLOOKUP(E159,Gäste,6)=0,\"\",VLOOKUP(E159,Gäste,10))","v":""},null,null,null,152,{"$f":"'Einladungen | Übersicht'!H160","v":0},{"$f":"'Einladungen | Übersicht'!K160","v":0},{"$f":"'Einladungen | Übersicht'!L160","v":0},{"$f":"'Einladungen | Übersicht'!M160","v":0},{"$f":"'Einladungen | Übersicht'!N160","v":0},{"$f":"'Einladungen | Übersicht'!O160","v":0},{"$f":"'Einladungen | Übersicht'!AA160","v":0},{"$f":"'Einladungen | Übersicht'!AB160","v":0},"0 0","",{"$f":"'Einladungen | Übersicht'!S160","v":0},{"$f":"'Einladungen | Übersicht'!U160","v":0},{"$f":"'Einladungen | Übersicht'!W160","v":0}]
[null,{"$f":"IF(VLOOKUP(B159,Gäste,3)=0,\"\",IF(VLOOKUP(B159,Gäste,6)=0,VLOOKUP(B159,Gäste,10),VLOOKUP(B159,Gäste,11)))","v":""},{"$f":"IF(VLOOKUP(C159,Gäste,3)=0,\"\",IF(VLOOKUP(C159,Gäste,6)=0,VLOOKUP(C159,Gäste,10),VLOOKUP(C159,Gäste,11)))","v":""},{"$f":"IF(VLOOKUP(D159,Gäste,3)=0,\"\",IF(VLOOKUP(D159,Gäste,6)=0,VLOOKUP(D159,Gäste,10),VLOOKUP(D159,Gäste,11)))","v":""},{"$f":"IF(VLOOKUP(E159,Gäste,3)=0,\"\",IF(VLOOKUP(E159,Gäste,6)=0,VLOOKUP(E159,Gäste,10),VLOOKUP(E159,Gäste,11)))","v":""},null,null,null,153,{"$f":"'Einladungen | Übersicht'!H161","v":0},{"$f":"'Einladungen | Übersicht'!K161","v":0},{"$f":"'Einladungen | Übersicht'!L161","v":0},{"$f":"'Einladungen | Übersicht'!M161","v":0},{"$f":"'Einladungen | Übersicht'!N161","v":0},{"$f":"'Einladungen | Übersicht'!O161","v":0},{"$f":"'Einladungen | Übersicht'!AA161","v":0},{"$f":"'Einladungen | Übersicht'!AB161","v":0},"0 0","",{"$f":"'Einladungen | Übersicht'!S161","v":0},{"$f":"'Einladungen | Übersicht'!U161","v":0},{"$f":"'Einladungen | Übersicht'!W161","v":0}]
[null,{"$f":"IF(VLOOKUP(B159,Gäste,8)=0,\"\",VLOOKUP(B159,Gäste,8))","v":""},{"$f":"IF(VLOOKUP(C159,Gäste,8)=0,\"\",VLOOKUP(C159,Gäste,8))","v":""},{"$f":"IF(VLOOKUP(D159,Gäste,8)=0,\"\",VLOOKUP(D159,Gäste,8))","v":""},{"$f":"IF(VLOOKUP(E159,Gäste,8)=0,\"\",VLOOKUP(E159,Gäste,8))","v":""},null,null,null,154,{"$f":"'Einladungen | Übersicht'!H162","v":0},{"$f":"'Einladungen | Übersicht'!K162","v":0},{"$f":"'Einladungen | Übersicht'!L162","v":0},{"$f":"'Einladungen | Übersicht'!M162","v":0},{"$f":"'Einladungen | Übersicht'!N162","v":0},{"$f":"'Einladungen | Übersicht'!O162","v":0},{"$f":"'Einladungen | Übersicht'!AA162","v":0},{"$f":"'Einladungen | Übersicht'!AB162","v":0},"0 0","",{"$f":"'Einladungen | Übersicht'!S162","v":0},{"$f":"'Einladungen | Übersicht'!U162","v":0},{"$f":"'Einladungen | Übersicht'!W162","v":0}]
[null,{"$f":"IF(VLOOKUP(B159,Gäste,9)=0,\"\",VLOOKUP(B159,Gäste,9))","v":""},{"$f":"IF(VLOOKUP(C159,Gäste,9)=0,\"\",VLOOKUP(C159,Gäste,9))","v":""},{"$f":"IF(VLOOKUP(D159,Gäste,9)=0,\"\",VLOOKUP(D159,Gäste,9))","v":""},{"$f":"IF(VLOOKUP(E159,Gäste,9)=0,\"\",VLOOKUP(E159,Gäste,9))","v":""},null,null,null,155,{"$f":"'Einladungen | Übersicht'!H163","v":0},{"$f":"'Einladungen | Übersicht'!K163","v":0},{"$f":"'Einladungen | Übersicht'!L163","v":0},{"$f":"'Einladungen | Übersicht'!M163","v":0},{"$f":"'Einladungen | Übersicht'!N163","v":0},{"$f":"'Einladungen | Übersicht'!O163","v":0},{"$f":"'Einladungen | Übersicht'!AA163","v":0},{"$f":"'Einladungen | Übersicht'!AB163","v":0},"0 0","",{"$f":"'Einladungen | Übersicht'!S163","v":0},{"$f":"'Einladungen | Übersicht'!U163","v":0},{"$f":"'Einladungen | Übersicht'!W163","v":0}]
[null,101,102,103,104,null,null,null,156,{"$f":"'Einladungen | Übersicht'!H164","v":0},{"$f":"'Einladungen | Übersicht'!K164","v":0},{"$f":"'Einladungen | Übersicht'!L164","v":0},{"$f":"'Einladungen | Übersicht'!M164","v":0},{"$f":"'Einladungen | Übersicht'!N164","v":0},{"$f":"'Einladungen | Übersicht'!O164","v":0},{"$f":"'Einladungen | Übersicht'!AA164","v":0},{"$f":"'Einladungen | Übersicht'!AB164","v":0},"0 0","",{"$f":"'Einladungen | Übersicht'!S164","v":0},{"$f":"'Einladungen | Übersicht'!U164","v":0},{"$f":"'Einladungen | Übersicht'!W164","v":0}]
[null,{"$f":"IF(B162=\"\",\"\",IF($C$2=\"\",\"\",$C$2))","v":""},{"$f":"IF(C162=\"\",\"\",IF($C$2=\"\",\"\",$C$2))","v":""},{"$f":"IF(D162=\"\",\"\",IF($C$2=\"\",\"\",$C$2))","v":""},{"$f":"IF(E162=\"\",\"\",IF($C$2=\"\",\"\",$C$2))","v":""},null,null,null,157,{"$f":"'Einladungen | Übersicht'!H165","v":0},{"$f":"'Einladungen | Übersicht'!K165","v":0},{"$f":"'Einladungen | Übersicht'!L165","v":0},{"$f":"'Einladungen | Übersicht'!M165","v":0},{"$f":"'Einladungen | Übersicht'!N165","v":0},{"$f":"'Einladungen | Übersicht'!O165","v":0},{"$f":"'Einladungen | Übersicht'!AA165","v":0},{"$f":"'Einladungen | Übersicht'!AB165","v":0},"0 0","",{"$f":"'Einladungen | Übersicht'!S165","v":0},{"$f":"'Einladungen | Übersicht'!U165","v":0},{"$f":"'Einladungen | Übersicht'!W165","v":0}]
[null,{"$f":"IF(VLOOKUP(B165,Gäste,6)=0,\"\",VLOOKUP(B165,Gäste,10))","v":""},{"$f":"IF(VLOOKUP(C165,Gäste,6)=0,\"\",VLOOKUP(C165,Gäste,10))","v":""},{"$f":"IF(VLOOKUP(D165,Gäste,6)=0,\"\",VLOOKUP(D165,Gäste,10))","v":""},{"$f":"IF(VLOOKUP(E165,Gäste,6)=0,\"\",VLOOKUP(E165,Gäste,10))","v":""},null,null,null,158,{"$f":"'Einladungen | Übersicht'!H166","v":0},{"$f":"'Einladungen | Übersicht'!K166","v":0},{"$f":"'Einladungen | Übersicht'!L166","v":0},{"$f":"'Einladungen | Übersicht'!M166","v":0},{"$f":"'Einladungen | Übersicht'!N166","v":0},{"$f":"'Einladungen | Übersicht'!O166","v":0},{"$f":"'Einladungen | Übersicht'!AA166","v":0},{"$f":"'Einladungen | Übersicht'!AB166","v":0},"0 0","",{"$f":"'Einladungen | Übersicht'!S166","v":0},{"$f":"'Einladungen | Übersicht'!U166","v":0},{"$f":"'Einladungen | Übersicht'!W166","v":0}]
[null,{"$f":"IF(VLOOKUP(B165,Gäste,3)=0,\"\",IF(VLOOKUP(B165,Gäste,6)=0,VLOOKUP(B165,Gäste,10),VLOOKUP(B165,Gäste,11)))","v":""},{"$f":"IF(VLOOKUP(C165,Gäste,3)=0,\"\",IF(VLOOKUP(C165,Gäste,6)=0,VLOOKUP(C165,Gäste,10),VLOOKUP(C165,Gäste,11)))","v":""},{"$f":"IF(VLOOKUP(D165,Gäste,3)=0,\"\",IF(VLOOKUP(D165,Gäste,6)=0,VLOOKUP(D165,Gäste,10),VLOOKUP(D165,Gäste,11)))","v":""},{"$f":"IF(VLOOKUP(E165,Gäste,3)=0,\"\",IF(VLOOKUP(E165,Gäste,6)=0,VLOOKUP(E165,Gäste,10),VLOOKUP(E165,Gäste,11)))","v":""},null,null,null,159,{"$f":"'Einladungen | Übersicht'!H167","v":0},{"$f":"'Einladungen | Übersicht'!K167","v":0},{"$f":"'Einladungen | Übersicht'!L167","v":0},{"$f":"'Einladungen | Übersicht'!M167","v":0},{"$f":"'Einladungen | Übersicht'!N167","v":0},{"$f":"'Einladungen | Übersicht'!O167","v":0},{"$f":"'Einladungen | Übersicht'!AA167","v":0},{"$f":"'Einladungen | Übersicht'!AB167","v":0},"0 0","",{"$f":"'Einladungen | Übersicht'!S167","v":0},{"$f":"'Einladungen | Übersicht'!U167","v":0},{"$f":"'Einladungen | Übersicht'!W167","v":0}]
[null,{"$f":"IF(VLOOKUP(B165,Gäste,8)=0,\"\",VLOOKUP(B165,Gäste,8))","v":""},{"$f":"IF(VLOOKUP(C165,Gäste,8)=0,\"\",VLOOKUP(C165,Gäste,8))","v":""},{"$f":"IF(VLOOKUP(D165,Gäste,8)=0,\"\",VLOOKUP(D165,Gäste,8))","v":""},{"$f":"IF(VLOOKUP(E165,Gäste,8)=0,\"\",VLOOKUP(E165,Gäste,8))","v":""},null,null,null,160,{"$f":"'Einladungen | Übersicht'!H168","v":0},{"$f":"'Einladungen | Übersicht'!K168","v":0},{"$f":"'Einladungen | Übersicht'!L168","v":0},{"$f":"'Einladungen | Übersicht'!M168","v":0},{"$f":"'Einladungen | Übersicht'!N168","v":0},{"$f":"'Einladungen | Übersicht'!O168","v":0},{"$f":"'Einladungen | Übersicht'!AA168","v":0},{"$f":"'Einladungen | Übersicht'!AB168","v":0},"0 0","",{"$f":"'Einladungen | Übersicht'!S168","v":0},{"$f":"'Einladungen | Übersicht'!U168","v":0},{"$f":"'Einladungen | Übersicht'!W168","v":0}]
[null,{"$f":"IF(VLOOKUP(B165,Gäste,9)=0,\"\",VLOOKUP(B165,Gäste,9))","v":""},{"$f":"IF(VLOOKUP(C165,Gäste,9)=0,\"\",VLOOKUP(C165,Gäste,9))","v":""},{"$f":"IF(VLOOKUP(D165,Gäste,9)=0,\"\",VLOOKUP(D165,Gäste,9))","v":""},{"$f":"IF(VLOOKUP(E165,Gäste,9)=0,\"\",VLOOKUP(E165,Gäste,9))","v":""},null,null,null,161,{"$f":"'Einladungen | Übersicht'!H169","v":0},{"$f":"'Einladungen | Übersicht'!K169","v":0},{"$f":"'Einladungen | Übersicht'!L169","v":0},{"$f":"'Einladungen | Übersicht'!M169","v":0},{"$f":"'Einladungen | Übersicht'!N169","v":0},{"$f":"'Einladungen | Übersicht'!O169","v":0},{"$f":"'Einladungen | Übersicht'!AA169","v":0},{"$f":"'Einladungen | Übersicht'!AB169","v":0},"0 0","",{"$f":"'Einladungen | Übersicht'!S169","v":0},{"$f":"'Einladungen | Übersicht'!U169","v":0},{"$f":"'Einladungen | Übersicht'!W169","v":0}]
[null,105,106,107,108,null,null,null,162,{"$f":"'Einladungen | Übersicht'!H170","v":0},{"$f":"'Einladungen | Übersicht'!K170","v":0},{"$f":"'Einladungen | Übersicht'!L170","v":0},{"$f":"'Einladungen | Übersicht'!M170","v":0},{"$f":"'Einladungen | Übersicht'!N170","v":0},{"$f":"'Einladungen | Übersicht'!O170","v":0},{"$f":"'Einladungen | Übersicht'!AA170","v":0},{"$f":"'Einladungen | Übersicht'!AB170","v":0},"0 0","",{"$f":"'Einladungen | Übersicht'!S170","v":0},{"$f":"'Einladungen | Übersicht'!U170","v":0},{"$f":"'Einladungen | Übersicht'!W170","v":0}]
[null,{"$f":"IF(B168=\"\",\"\",IF($C$2=\"\",\"\",$C$2))","v":""},{"$f":"IF(C168=\"\",\"\",IF($C$2=\"\",\"\",$C$2))","v":""},{"$f":"IF(D168=\"\",\"\",IF($C$2=\"\",\"\",$C$2))","v":""},{"$f":"IF(E168=\"\",\"\",IF($C$2=\"\",\"\",$C$2))","v":""},null,null,null,163,{"$f":"'Einladungen | Übersicht'!H171","v":0},{"$f":"'Einladungen | Übersicht'!K171","v":0},{"$f":"'Einladungen | Übersicht'!L171","v":0},{"$f":"'Einladungen | Übersicht'!M171","v":0},{"$f":"'Einladungen | Übersicht'!N171","v":0},{"$f":"'Einladungen | Übersicht'!O171","v":0},{"$f":"'Einladungen | Übersicht'!AA171","v":0},{"$f":"'Einladungen | Übersicht'!AB171","v":0},"0 0","",{"$f":"'Einladungen | Übersicht'!S171","v":0},{"$f":"'Einladungen | Übersicht'!U171","v":0},{"$f":"'Einladungen | Übersicht'!W171","v":0}]
[null,{"$f":"IF(VLOOKUP(B171,Gäste,6)=0,\"\",VLOOKUP(B171,Gäste,10))","v":""},{"$f":"IF(VLOOKUP(C171,Gäste,6)=0,\"\",VLOOKUP(C171,Gäste,10))","v":""},{"$f":"IF(VLOOKUP(D171,Gäste,6)=0,\"\",VLOOKUP(D171,Gäste,10))","v":""},{"$f":"IF(VLOOKUP(E171,Gäste,6)=0,\"\",VLOOKUP(E171,Gäste,10))","v":""},null,null,null,164,{"$f":"'Einladungen | Übersicht'!H172","v":0},{"$f":"'Einladungen | Übersicht'!K172","v":0},{"$f":"'Einladungen | Übersicht'!L172","v":0},{"$f":"'Einladungen | Übersicht'!M172","v":0},{"$f":"'Einladungen | Übersicht'!N172","v":0},{"$f":"'Einladungen | Übersicht'!O172","v":0},{"$f":"'Einladungen | Übersicht'!AA172","v":0},{"$f":"'Einladungen | Übersicht'!AB172","v":0},"0 0","",{"$f":"'Einladungen | Übersicht'!S172","v":0},{"$f":"'Einladungen | Übersicht'!U172","v":0},{"$f":"'Einladungen | Übersicht'!W172","v":0}]
[null,{"$f":"IF(VLOOKUP(B171,Gäste,3)=0,\"\",IF(VLOOKUP(B171,Gäste,6)=0,VLOOKUP(B171,Gäste,10),VLOOKUP(B171,Gäste,11)))","v":""},{"$f":"IF(VLOOKUP(C171,Gäste,3)=0,\"\",IF(VLOOKUP(C171,Gäste,6)=0,VLOOKUP(C171,Gäste,10),VLOOKUP(C171,Gäste,11)))","v":""},{"$f":"IF(VLOOKUP(D171,Gäste,3)=0,\"\",IF(VLOOKUP(D171,Gäste,6)=0,VLOOKUP(D171,Gäste,10),VLOOKUP(D171,Gäste,11)))","v":""},{"$f":"IF(VLOOKUP(E171,Gäste,3)=0,\"\",IF(VLOOKUP(E171,Gäste,6)=0,VLOOKUP(E171,Gäste,10),VLOOKUP(E171,Gäste,11)))","v":""},null,null,null,165,{"$f":"'Einladungen | Übersicht'!H173","v":0},{"$f":"'Einladungen | Übersicht'!K173","v":0},{"$f":"'Einladungen | Übersicht'!L173","v":0},{"$f":"'Einladungen | Übersicht'!M173","v":0},{"$f":"'Einladungen | Übersicht'!N173","v":0},{"$f":"'Einladungen | Übersicht'!O173","v":0},{"$f":"'Einladungen | Übersicht'!AA173","v":0},{"$f":"'Einladungen | Übersicht'!AB173","v":0},"0 0","",{"$f":"'Einladungen | Übersicht'!S173","v":0},{"$f":"'Einladungen | Übersicht'!U173","v":0},{"$f":"'Einladungen | Übersicht'!W173","v":0}]
[null,{"$f":"IF(VLOOKUP(B171,Gäste,8)=0,\"\",VLOOKUP(B171,Gäste,8))","v":""},{"$f":"IF(VLOOKUP(C171,Gäste,8)=0,\"\",VLOOKUP(C171,Gäste,8))","v":""},{"$f":"IF(VLOOKUP(D171,Gäste,8)=0,\"\",VLOOKUP(D171,Gäste,8))","v":""},{"$f":"IF(VLOOKUP(E171,Gäste,8)=0,\"\",VLOOKUP(E171,Gäste,8))","v":""},null,null,null,166,{"$f":"'Einladungen | Übersicht'!H174","v":0},{"$f":"'Einladungen | Übersicht'!K174","v":0},{"$f":"'Einladungen | Übersicht'!L174","v":0},{"$f":"'Einladungen | Übersicht'!M174","v":0},{"$f":"'Einladungen | Übersicht'!N174","v":0},{"$f":"'Einladungen | Übersicht'!O174","v":0},{"$f":"'Einladungen | Übersicht'!AA174","v":0},{"$f":"'Einladungen | Übersicht'!AB174","v":0},"0 0","",{"$f":"'Einladungen | Übersicht'!S174","v":0},{"$f":"'Einladungen | Übersicht'!U174","v":0},{"$f":"'Einladungen | Übersicht'!W174","v":0}]
[null,{"$f":"IF(VLOOKUP(B171,Gäste,9)=0,\"\",VLOOKUP(B171,Gäste,9))","v":""},{"$f":"IF(VLOOKUP(C171,Gäste,9)=0,\"\",VLOOKUP(C171,Gäste,9))","v":""},{"$f":"IF(VLOOKUP(D171,Gäste,9)=0,\"\",VLOOKUP(D171,Gäste,9))","v":""},{"$f":"IF(VLOOKUP(E171,Gäste,9)=0,\"\",VLOOKUP(E171,Gäste,9))","v":""},null,null,null,167,{"$f":"'Einladungen | Übersicht'!H175","v":0},{"$f":"'Einladungen | Übersicht'!K175","v":0},{"$f":"'Einladungen | Übersicht'!L175","v":0},{"$f":"'Einladungen | Übersicht'!M175","v":0},{"$f":"'Einladungen | Übersicht'!N175","v":0},{"$f":"'Einladungen | Übersicht'!O175","v":0},{"$f":"'Einladungen | Übersicht'!AA175","v":0},{"$f":"'Einladungen | Übersicht'!AB175","v":0},"0 0","",{"$f":"'Einladungen | Übersicht'!S175","v":0},{"$f":"'Einladungen | Übersicht'!U175","v":0},{"$f":"'Einladungen | Übersicht'!W175","v":0}]
[null,109,110,111,112,null,null,null,168,{"$f":"'Einladungen | Übersicht'!H176","v":0},{"$f":"'Einladungen | Übersicht'!K176","v":0},{"$f":"'Einladungen | Übersicht'!L176","v":0},{"$f":"'Einladungen | Übersicht'!M176","v":0},{"$f":"'Einladungen | Übersicht'!N176","v":0},{"$f":"'Einladungen | Übersicht'!O176","v":0},{"$f":"'Einladungen | Übersicht'!AA176","v":0},{"$f":"'Einladungen | Übersicht'!AB176","v":0},"0 0","",{"$f":"'Einladungen | Übersicht'!S176","v":0},{"$f":"'Einladungen | Übersicht'!U176","v":0},{"$f":"'Einladungen | Übersicht'!W176","v":0}]
[null,{"$f":"IF(B174=\"\",\"\",IF($C$2=\"\",\"\",$C$2))","v":""},{"$f":"IF(C174=\"\",\"\",IF($C$2=\"\",\"\",$C$2))","v":""},{"$f":"IF(D174=\"\",\"\",IF($C$2=\"\",\"\",$C$2))","v":""},{"$f":"IF(E174=\"\",\"\",IF($C$2=\"\",\"\",$C$2))","v":""},null,null,null,169,{"$f":"'Einladungen | Übersicht'!H177","v":0},{"$f":"'Einladungen | Übersicht'!K177","v":0},{"$f":"'Einladungen | Übersicht'!L177","v":0},{"$f":"'Einladungen | Übersicht'!M177","v":0},{"$f":"'Einladungen | Übersicht'!N177","v":0},{"$f":"'Einladungen | Übersicht'!O177","v":0},{"$f":"'Einladungen | Übersicht'!AA177","v":0},{"$f":"'Einladungen | Übersicht'!AB177","v":0},"0 0","",{"$f":"'Einladungen | Übersicht'!S177","v":0},{"$f":"'Einladungen | Übersicht'!U177","v":0},{"$f":"'Einladungen | Übersicht'!W177","v":0}]
[null,{"$f":"IF(VLOOKUP(B177,Gäste,6)=0,\"\",VLOOKUP(B177,Gäste,10))","v":""},{"$f":"IF(VLOOKUP(C177,Gäste,6)=0,\"\",VLOOKUP(C177,Gäste,10))","v":""},{"$f":"IF(VLOOKUP(D177,Gäste,6)=0,\"\",VLOOKUP(D177,Gäste,10))","v":""},{"$f":"IF(VLOOKUP(E177,Gäste,6)=0,\"\",VLOOKUP(E177,Gäste,10))","v":""},null,null,null,170,{"$f":"'Einladungen | Übersicht'!H178","v":0},{"$f":"'Einladungen | Übersicht'!K178","v":0},{"$f":"'Einladungen | Übersicht'!L178","v":0},{"$f":"'Einladungen | Übersicht'!M178","v":0},{"$f":"'Einladungen | Übersicht'!N178","v":0},{"$f":"'Einladungen | Übersicht'!O178","v":0},{"$f":"'Einladungen | Übersicht'!AA178","v":0},{"$f":"'Einladungen | Übersicht'!AB178","v":0},"0 0","",{"$f":"'Einladungen | Übersicht'!S178","v":0},{"$f":"'Einladungen | Übersicht'!U178","v":0},{"$f":"'Einladungen | Übersicht'!W178","v":0}]
[null,{"$f":"IF(VLOOKUP(B177,Gäste,3)=0,\"\",IF(VLOOKUP(B177,Gäste,6)=0,VLOOKUP(B177,Gäste,10),VLOOKUP(B177,Gäste,11)))","v":""},{"$f":"IF(VLOOKUP(C177,Gäste,3)=0,\"\",IF(VLOOKUP(C177,Gäste,6)=0,VLOOKUP(C177,Gäste,10),VLOOKUP(C177,Gäste,11)))","v":""},{"$f":"IF(VLOOKUP(D177,Gäste,3)=0,\"\",IF(VLOOKUP(D177,Gäste,6)=0,VLOOKUP(D177,Gäste,10),VLOOKUP(D177,Gäste,11)))","v":""},{"$f":"IF(VLOOKUP(E177,Gäste,3)=0,\"\",IF(VLOOKUP(E177,Gäste,6)=0,VLOOKUP(E177,Gäste,10),VLOOKUP(E177,Gäste,11)))","v":""},null,null,null,171,{"$f":"'Einladungen | Übersicht'!H179","v":0},{"$f":"'Einladungen | Übersicht'!K179","v":0},{"$f":"'Einladungen | Übersicht'!L179","v":0},{"$f":"'Einladungen | Übersicht'!M179","v":0},{"$f":"'Einladungen | Übersicht'!N179","v":0},{"$f":"'Einladungen | Übersicht'!O179","v":0},{"$f":"'Einladungen | Übersicht'!AA179","v":0},{"$f":"'Einladungen | Übersicht'!AB179","v":0},"0 0","",{"$f":"'Einladungen | Übersicht'!S179","v":0},{"$f":"'Einladungen | Übersicht'!U179","v":0},{"$f":"'Einladungen | Übersicht'!W179","v":0}]
[null,{"$f":"IF(VLOOKUP(B177,Gäste,8)=0,\"\",VLOOKUP(B177,Gäste,8))","v":""},{"$f":"IF(VLOOKUP(C177,Gäste,8)=0,\"\",VLOOKUP(C177,Gäste,8))","v":""},{"$f":"IF(VLOOKUP(D177,Gäste,8)=0,\"\",VLOOKUP(D177,Gäste,8))","v":""},{"$f":"IF(VLOOKUP(E177,Gäste,8)=0,\"\",VLOOKUP(E177,Gäste,8))","v":""},null,null,null,172,{"$f":"'Einladungen | Übersicht'!H180","v":0},{"$f":"'Einladungen | Übersicht'!K180","v":0},{"$f":"'Einladungen | Übersicht'!L180","v":0},{"$f":"'Einladungen | Übersicht'!M180","v":0},{"$f":"'Einladungen | Übersicht'!N180","v":0},{"$f":"'Einladungen | Übersicht'!O180","v":0},{"$f":"'Einladungen | Übersicht'!AA180","v":0},{"$f":"'Einladungen | Übersicht'!AB180","v":0},"0 0","",{"$f":"'Einladungen | Übersicht'!S180","v":0},{"$f":"'Einladungen | Übersicht'!U180","v":0},{"$f":"'Einladungen | Übersicht'!W180","v":0}]
[null,{"$f":"IF(VLOOKUP(B177,Gäste,9)=0,\"\",VLOOKUP(B177,Gäste,9))","v":""},{"$f":"IF(VLOOKUP(C177,Gäste,9)=0,\"\",VLOOKUP(C177,Gäste,9))","v":""},{"$f":"IF(VLOOKUP(D177,Gäste,9)=0,\"\",VLOOKUP(D177,Gäste,9))","v":""},{"$f":"IF(VLOOKUP(E177,Gäste,9)=0,\"\",VLOOKUP(E177,Gäste,9))","v":""},null,null,null,173,{"$f":"'Einladungen | Übersicht'!H181","v":0},{"$f":"'Einladungen | Übersicht'!K181","v":0},{"$f":"'Einladungen | Übersicht'!L181","v":0},{"$f":"'Einladungen | Übersicht'!M181","v":0},{"$f":"'Einladungen | Übersicht'!N181","v":0},{"$f":"'Einladungen | Übersicht'!O181","v":0},{"$f":"'Einladungen | Übersicht'!AA181","v":0},{"$f":"'Einladungen | Übersicht'!AB181","v":0},"0 0","",{"$f":"'Einladungen | Übersicht'!S181","v":0},{"$f":"'Einladungen | Übersicht'!U181","v":0},{"$f":"'Einladungen | Übersicht'!W181","v":0}]
[null,113,114,115,116,null,null,null,174,{"$f":"'Einladungen | Übersicht'!H182","v":0},{"$f":"'Einladungen | Übersicht'!K182","v":0},{"$f":"'Einladungen | Übersicht'!L182","v":0},{"$f":"'Einladungen | Übersicht'!M182","v":0},{"$f":"'Einladungen | Übersicht'!N182","v":0},{"$f":"'Einladungen | Übersicht'!O182","v":0},{"$f":"'Einladungen | Übersicht'!AA182","v":0},{"$f":"'Einladungen | Übersicht'!AB182","v":0},"0 0","",{"$f":"'Einladungen | Übersicht'!S182","v":0},{"$f":"'Einladungen | Übersicht'!U182","v":0},{"$f":"'Einladungen | Übersicht'!W182","v":0}]
[null,{"$f":"IF(B180=\"\",\"\",IF($C$2=\"\",\"\",$C$2))","v":""},{"$f":"IF(C180=\"\",\"\",IF($C$2=\"\",\"\",$C$2))","v":""},{"$f":"IF(D180=\"\",\"\",IF($C$2=\"\",\"\",$C$2))","v":""},{"$f":"IF(E180=\"\",\"\",IF($C$2=\"\",\"\",$C$2))","v":""},null,null,null,175,{"$f":"'Einladungen | Übersicht'!H183","v":0},{"$f":"'Einladungen | Übersicht'!K183","v":0},{"$f":"'Einladungen | Übersicht'!L183","v":0},{"$f":"'Einladungen | Übersicht'!M183","v":0},{"$f":"'Einladungen | Übersicht'!N183","v":0},{"$f":"'Einladungen | Übersicht'!O183","v":0},{"$f":"'Einladungen | Übersicht'!AA183","v":0},{"$f":"'Einladungen | Übersicht'!AB183","v":0},"0 0","",{"$f":"'Einladungen | Übersicht'!S183","v":0},{"$f":"'Einladungen | Übersicht'!U183","v":0},{"$f":"'Einladungen | Übersicht'!W183","v":0}]
[null,{"$f":"IF(VLOOKUP(B183,Gäste,6)=0,\"\",VLOOKUP(B183,Gäste,10))","v":""},{"$f":"IF(VLOOKUP(C183,Gäste,6)=0,\"\",VLOOKUP(C183,Gäste,10))","v":""},{"$f":"IF(VLOOKUP(D183,Gäste,6)=0,\"\",VLOOKUP(D183,Gäste,10))","v":""},{"$f":"IF(VLOOKUP(E183,Gäste,6)=0,\"\",VLOOKUP(E183,Gäste,10))","v":""},null,null,null,176,{"$f":"'Einladungen | Übersicht'!H184","v":0},{"$f":"'Einladungen | Übersicht'!K184","v":0},{"$f":"'Einladungen | Übersicht'!L184","v":0},{"$f":"'Einladungen | Übersicht'!M184","v":0},{"$f":"'Einladungen | Übersicht'!N184","v":0},{"$f":"'Einladungen | Übersicht'!O184","v":0},{"$f":"'Einladungen | Übersicht'!AA184","v":0},{"$f":"'Einladungen | Übersicht'!AB184","v":0},"0 0","",{"$f":"'Einladungen | Übersicht'!S184","v":0},{"$f":"'Einladungen | Übersicht'!U184","v":0},{"$f":"'Einladungen | Übersicht'!W184","v":0}]
[null,{"$f":"IF(VLOOKUP(B183,Gäste,3)=0,\"\",IF(VLOOKUP(B183,Gäste,6)=0,VLOOKUP(B183,Gäste,10),VLOOKUP(B183,Gäste,11)))","v":""},{"$f":"IF(VLOOKUP(C183,Gäste,3)=0,\"\",IF(VLOOKUP(C183,Gäste,6)=0,VLOOKUP(C183,Gäste,10),VLOOKUP(C183,Gäste,11)))","v":""},{"$f":"IF(VLOOKUP(D183,Gäste,3)=0,\"\",IF(VLOOKUP(D183,Gäste,6)=0,VLOOKUP(D183,Gäste,10),VLOOKUP(D183,Gäste,11)))","v":""},{"$f":"IF(VLOOKUP(E183,Gäste,3)=0,\"\",IF(VLOOKUP(E183,Gäste,6)=0,VLOOKUP(E183,Gäste,10),VLOOKUP(E183,Gäste,11)))","v":""},null,null,null,177,{"$f":"'Einladungen | Übersicht'!H185","v":0},{"$f":"'Einladungen | Übersicht'!K185","v":0},{"$f":"'Einladungen | Übersicht'!L185","v":0},{"$f":"'Einladungen | Übersicht'!M185","v":0},{"$f":"'Einladungen | Übersicht'!N185","v":0},{"$f":"'Einladungen | Übersicht'!O185","v":0},{"$f":"'Einladungen | Übersicht'!AA185","v":0},{"$f":"'Einladungen | Übersicht'!AB185","v":0},"0 0","",{"$f":"'Einladungen | Übersicht'!S185","v":0},{"$f":"'Einladungen | Übersicht'!U185","v":0},{"$f":"'Einladungen | Übersicht'!W185","v":0}]
[null,{"$f":"IF(VLOOKUP(B183,Gäste,8)=0,\"\",VLOOKUP(B183,Gäste,8))","v":""},{"$f":"IF(VLOOKUP(C183,Gäste,8)=0,\"\",VLOOKUP(C183,Gäste,8))","v":""},{"$f":"IF(VLOOKUP(D183,Gäste,8)=0,\"\",VLOOKUP(D183,Gäste,8))","v":""},{"$f":"IF(VLOOKUP(E183,Gäste,8)=0,\"\",VLOOKUP(E183,Gäste,8))","v":""},null,null,null,178,{"$f":"'Einladungen | Übersicht'!H186","v":0},{"$f":"'Einladungen | Übersicht'!K186","v":0},{"$f":"'Einladungen | Übersicht'!L186","v":0},{"$f":"'Einladungen | Übersicht'!M186","v":0},{"$f":"'Einladungen | Übersicht'!N186","v":0},{"$f":"'Einladungen | Übersicht'!O186","v":0},{"$f":"'Einladungen | Übersicht'!AA186","v":0},{"$f":"'Einladungen | Übersicht'!AB186","v":0},"0 0","",{"$f":"'Einladungen | Übersicht'!S186","v":0},{"$f":"'Einladungen | Übersicht'!U186","v":0},{"$f":"'Einladungen | Übersicht'!W186","v":0}]
[null,{"$f":"IF(VLOOKUP(B183,Gäste,9)=0,\"\",VLOOKUP(B183,Gäste,9))","v":""},{"$f":"IF(VLOOKUP(C183,Gäste,9)=0,\"\",VLOOKUP(C183,Gäste,9))","v":""},{"$f":"IF(VLOOKUP(D183,Gäste,9)=0,\"\",VLOOKUP(D183,Gäste,9))","v":""},{"$f":"IF(VLOOKUP(E183,Gäste,9)=0,\"\",VLOOKUP(E183,Gäste,9))","v":""},null,null,null,179,{"$f":"'Einladungen | Übersicht'!H187","v":0},{"$f":"'Einladungen | Übersicht'!K187","v":0},{"$f":"'Einladungen | Übersicht'!L187","v":0},{"$f":"'Einladungen | Übersicht'!M187","v":0},{"$f":"'Einladungen | Übersicht'!N187","v":0},{"$f":"'Einladungen | Übersicht'!O187","v":0},{"$f":"'Einladungen | Übersicht'!AA187","v":0},{"$f":"'Einladungen | Übersicht'!AB187","v":0},"0 0","",{"$f":"'Einladungen | Übersicht'!S187","v":0},{"$f":"'Einladungen | Übersicht'!U187","v":0},{"$f":"'Einladungen | Übersicht'!W187","v":0}]
["#6",117,118,119,120,null,null,null,180,{"$f":"'Einladungen | Übersicht'!H188","v":0},{"$f":"'Einladungen | Übersicht'!K188","v":0},{"$f":"'Einladungen | Übersicht'!L188","v":0},{"$f":"'Einladungen | Übersicht'!M188","v":0},{"$f":"'Einladungen | Übersicht'!N188","v":0},{"$f":"'Einladungen | Übersicht'!O188","v":0},{"$f":"'Einladungen | Übersicht'!AA188","v":0},{"$f":"'Einladungen | Übersicht'!AB188","v":0},"0 0","",{"$f":"'Einladungen | Übersicht'!S188","v":0},{"$f":"'Einladungen | Übersicht'!U188","v":0},{"$f":"'Einladungen | Übersicht'!W188","v":0}]
[null,{"$f":"IF(B186=\"\",\"\",IF($C$2=\"\",\"\",$C$2))","v":""},{"$f":"IF(C186=\"\",\"\",IF($C$2=\"\",\"\",$C$2))","v":""},{"$f":"IF(D186=\"\",\"\",IF($C$2=\"\",\"\",$C$2))","v":""},{"$f":"IF(E186=\"\",\"\",IF($C$2=\"\",\"\",$C$2))","v":""},null,null,null,181,{"$f":"'Einladungen | Übersicht'!H189","v":0},{"$f":"'Einladungen | Übersicht'!K189","v":0},{"$f":"'Einladungen | Übersicht'!L189","v":0},{"$f":"'Einladungen | Übersicht'!M189","v":0},{"$f":"'Einladungen | Übersicht'!N189","v":0},{"$f":"'Einladungen | Übersicht'!O189","v":0},{"$f":"'Einladungen | Übersicht'!AA189","v":0},{"$f":"'Einladungen | Übersicht'!AB189","v":0},"0 0","",{"$f":"'Einladungen | Übersicht'!S189","v":0},{"$f":"'Einladungen | Übersicht'!U189","v":0},{"$f":"'Einladungen | Übersicht'!W189","v":0}]
[null,{"$f":"IF(VLOOKUP(B189,Gäste,6)=0,\"\",VLOOKUP(B189,Gäste,10))","v":""},{"$f":"IF(VLOOKUP(C189,Gäste,6)=0,\"\",VLOOKUP(C189,Gäste,10))","v":""},{"$f":"IF(VLOOKUP(D189,Gäste,6)=0,\"\",VLOOKUP(D189,Gäste,10))","v":""},{"$f":"IF(VLOOKUP(E189,Gäste,6)=0,\"\",VLOOKUP(E189,Gäste,10))","v":""},null,null,null,182,{"$f":"'Einladungen | Übersicht'!H190","v":0},{"$f":"'Einladungen | Übersicht'!K190","v":0},{"$f":"'Einladungen | Übersicht'!L190","v":0},{"$f":"'Einladungen | Übersicht'!M190","v":0},{"$f":"'Einladungen | Übersicht'!N190","v":0},{"$f":"'Einladungen | Übersicht'!O190","v":0},{"$f":"'Einladungen | Übersicht'!AA190","v":0},{"$f":"'Einladungen | Übersicht'!AB190","v":0},"0 0","",{"$f":"'Einladungen | Übersicht'!S190","v":0},{"$f":"'Einladungen | Übersicht'!U190","v":0},{"$f":"'Einladungen | Übersicht'!W190","v":0}]
[null,{"$f":"IF(VLOOKUP(B189,Gäste,3)=0,\"\",IF(VLOOKUP(B189,Gäste,6)=0,VLOOKUP(B189,Gäste,10),VLOOKUP(B189,Gäste,11)))","v":""},{"$f":"IF(VLOOKUP(C189,Gäste,3)=0,\"\",IF(VLOOKUP(C189,Gäste,6)=0,VLOOKUP(C189,Gäste,10),VLOOKUP(C189,Gäste,11)))","v":""},{"$f":"IF(VLOOKUP(D189,Gäste,3)=0,\"\",IF(VLOOKUP(D189,Gäste,6)=0,VLOOKUP(D189,Gäste,10),VLOOKUP(D189,Gäste,11)))","v":""},{"$f":"IF(VLOOKUP(E189,Gäste,3)=0,\"\",IF(VLOOKUP(E189,Gäste,6)=0,VLOOKUP(E189,Gäste,10),VLOOKUP(E189,Gäste,11)))","v":""},null,null,null,183,{"$f":"'Einladungen | Übersicht'!H191","v":0},{"$f":"'Einladungen | Übersicht'!K191","v":0},{"$f":"'Einladungen | Übersicht'!L191","v":0},{"$f":"'Einladungen | Übersicht'!M191","v":0},{"$f":"'Einladungen | Übersicht'!N191","v":0},{"$f":"'Einladungen | Übersicht'!O191","v":0},{"$f":"'Einladungen | Übersicht'!AA191","v":0},{"$f":"'Einladungen | Übersicht'!AB191","v":0},"0 0","",{"$f":"'Einladungen | Übersicht'!S191","v":0},{"$f":"'Einladungen | Übersicht'!U191","v":0},{"$f":"'Einladungen | Übersicht'!W191","v":0}]
[null,{"$f":"IF(VLOOKUP(B189,Gäste,8)=0,\"\",VLOOKUP(B189,Gäste,8))","v":""},{"$f":"IF(VLOOKUP(C189,Gäste,8)=0,\"\",VLOOKUP(C189,Gäste,8))","v":""},{"$f":"IF(VLOOKUP(D189,Gäste,8)=0,\"\",VLOOKUP(D189,Gäste,8))","v":""},{"$f":"IF(VLOOKUP(E189,Gäste,8)=0,\"\",VLOOKUP(E189,Gäste,8))","v":""},null,null,null,184,{"$f":"'Einladungen | Übersicht'!H192","v":0},{"$f":"'Einladungen | Übersicht'!K192","v":0},{"$f":"'Einladungen | Übersicht'!L192","v":0},{"$f":"'Einladungen | Übersicht'!M192","v":0},{"$f":"'Einladungen | Übersicht'!N192","v":0},{"$f":"'Einladungen | Übersicht'!O192","v":0},{"$f":"'Einladungen | Übersicht'!AA192","v":0},{"$f":"'Einladungen | Übersicht'!AB192","v":0},"0 0","",{"$f":"'Einladungen | Übersicht'!S192","v":0},{"$f":"'Einladungen | Übersicht'!U192","v":0},{"$f":"'Einladungen | Übersicht'!W192","v":0}]
[null,{"$f":"IF(VLOOKUP(B189,Gäste,9)=0,\"\",VLOOKUP(B189,Gäste,9))","v":""},{"$f":"IF(VLOOKUP(C189,Gäste,9)=0,\"\",VLOOKUP(C189,Gäste,9))","v":""},{"$f":"IF(VLOOKUP(D189,Gäste,9)=0,\"\",VLOOKUP(D189,Gäste,9))","v":""},{"$f":"IF(VLOOKUP(E189,Gäste,9)=0,\"\",VLOOKUP(E189,Gäste,9))","v":""},null,null,null,185,{"$f":"'Einladungen | Übersicht'!H193","v":0},{"$f":"'Einladungen | Übersicht'!K193","v":0},{"$f":"'Einladungen | Übersicht'!L193","v":0},{"$f":"'Einladungen | Übersicht'!M193","v":0},{"$f":"'Einladungen | Übersicht'!N193","v":0},{"$f":"'Einladungen | Übersicht'!O193","v":0},{"$f":"'Einladungen | Übersicht'!AA193","v":0},{"$f":"'Einladungen | Übersicht'!AB193","v":0},"0 0","",{"$f":"'Einladungen | Übersicht'!S193","v":0},{"$f":"'Einladungen | Übersicht'!U193","v":0},{"$f":"'Einladungen | Übersicht'!W193","v":0}]
[null,121,122,123,124,null,null,null,186,{"$f":"'Einladungen | Übersicht'!H194","v":0},{"$f":"'Einladungen | Übersicht'!K194","v":0},{"$f":"'Einladungen | Übersicht'!L194","v":0},{"$f":"'Einladungen | Übersicht'!M194","v":0},{"$f":"'Einladungen | Übersicht'!N194","v":0},{"$f":"'Einladungen | Übersicht'!O194","v":0},{"$f":"'Einladungen | Übersicht'!AA194","v":0},{"$f":"'Einladungen | Übersicht'!AB194","v":0},"0 0","",{"$f":"'Einladungen | Übersicht'!S194","v":0},{"$f":"'Einladungen | Übersicht'!U194","v":0},{"$f":"'Einladungen | Übersicht'!W194","v":0}]
[null,{"$f":"IF(B192=\"\",\"\",IF($C$2=\"\",\"\",$C$2))","v":""},{"$f":"IF(C192=\"\",\"\",IF($C$2=\"\",\"\",$C$2))","v":""},{"$f":"IF(D192=\"\",\"\",IF($C$2=\"\",\"\",$C$2))","v":""},{"$f":"IF(E192=\"\",\"\",IF($C$2=\"\",\"\",$C$2))","v":""},null,null,null,187,{"$f":"'Einladungen | Übersicht'!H195","v":0},{"$f":"'Einladungen | Übersicht'!K195","v":0},{"$f":"'Einladungen | Übersicht'!L195","v":0},{"$f":"'Einladungen | Übersicht'!M195","v":0},{"$f":"'Einladungen | Übersicht'!N195","v":0},{"$f":"'Einladungen | Übersicht'!O195","v":0},{"$f":"'Einladungen | Übersicht'!AA195","v":0},{"$f":"'Einladungen | Übersicht'!AB195","v":0},"0 0","",{"$f":"'Einladungen | Übersicht'!S195","v":0},{"$f":"'Einladungen | Übersicht'!U195","v":0},{"$f":"'Einladungen | Übersicht'!W195","v":0}]
[null,{"$f":"IF(VLOOKUP(B195,Gäste,6)=0,\"\",VLOOKUP(B195,Gäste,10))","v":""},{"$f":"IF(VLOOKUP(C195,Gäste,6)=0,\"\",VLOOKUP(C195,Gäste,10))","v":""},{"$f":"IF(VLOOKUP(D195,Gäste,6)=0,\"\",VLOOKUP(D195,Gäste,10))","v":""},{"$f":"IF(VLOOKUP(E195,Gäste,6)=0,\"\",VLOOKUP(E195,Gäste,10))","v":""},null,null,null,188,{"$f":"'Einladungen | Übersicht'!H196","v":0},{"$f":"'Einladungen | Übersicht'!K196","v":0},{"$f":"'Einladungen | Übersicht'!L196","v":0},{"$f":"'Einladungen | Übersicht'!M196","v":0},{"$f":"'Einladungen | Übersicht'!N196","v":0},{"$f":"'Einladungen | Übersicht'!O196","v":0},{"$f":"'Einladungen | Übersicht'!AA196","v":0},{"$f":"'Einladungen | Übersicht'!AB196","v":0},"0 0","",{"$f":"'Einladungen | Übersicht'!S196","v":0},{"$f":"'Einladungen | Übersicht'!U196","v":0},{"$f":"'Einladungen | Übersicht'!W196","v":0}]
[null,{"$f":"IF(VLOOKUP(B195,Gäste,3)=0,\"\",IF(VLOOKUP(B195,Gäste,6)=0,VLOOKUP(B195,Gäste,10),VLOOKUP(B195,Gäste,11)))","v":""},{"$f":"IF(VLOOKUP(C195,Gäste,3)=0,\"\",IF(VLOOKUP(C195,Gäste,6)=0,VLOOKUP(C195,Gäste,10),VLOOKUP(C195,Gäste,11)))","v":""},{"$f":"IF(VLOOKUP(D195,Gäste,3)=0,\"\",IF(VLOOKUP(D195,Gäste,6)=0,VLOOKUP(D195,Gäste,10),VLOOKUP(D195,Gäste,11)))","v":""},{"$f":"IF(VLOOKUP(E195,Gäste,3)=0,\"\",IF(VLOOKUP(E195,Gäste,6)=0,VLOOKUP(E195,Gäste,10),VLOOKUP(E195,Gäste,11)))","v":""},null,null,null,189,{"$f":"'Einladungen | Übersicht'!H197","v":0},{"$f":"'Einladungen | Übersicht'!K197","v":0},{"$f":"'Einladungen | Übersicht'!L197","v":0},{"$f":"'Einladungen | Übersicht'!M197","v":0},{"$f":"'Einladungen | Übersicht'!N197","v":0},{"$f":"'Einladungen | Übersicht'!O197","v":0},{"$f":"'Einladungen | Übersicht'!AA197","v":0},{"$f":"'Einladungen | Übersicht'!AB197","v":0},"0 0","",{"$f":"'Einladungen | Übersicht'!S197","v":0},{"$f":"'Einladungen | Übersicht'!U197","v":0},{"$f":"'Einladungen | Übersicht'!W197","v":0}]
[null,{"$f":"IF(VLOOKUP(B195,Gäste,8)=0,\"\",VLOOKUP(B195,Gäste,8))","v":""},{"$f":"IF(VLOOKUP(C195,Gäste,8)=0,\"\",VLOOKUP(C195,Gäste,8))","v":""},{"$f":"IF(VLOOKUP(D195,Gäste,8)=0,\"\",VLOOKUP(D195,Gäste,8))","v":""},{"$f":"IF(VLOOKUP(E195,Gäste,8)=0,\"\",VLOOKUP(E195,Gäste,8))","v":""},null,null,null,190,{"$f":"'Einladungen | Übersicht'!H198","v":0},{"$f":"'Einladungen | Übersicht'!K198","v":0},{"$f":"'Einladungen | Übersicht'!L198","v":0},{"$f":"'Einladungen | Übersicht'!M198","v":0},{"$f":"'Einladungen | Übersicht'!N198","v":0},{"$f":"'Einladungen | Übersicht'!O198","v":0},{"$f":"'Einladungen | Übersicht'!AA198","v":0},{"$f":"'Einladungen | Übersicht'!AB198","v":0},"0 0","",{"$f":"'Einladungen | Übersicht'!S198","v":0},{"$f":"'Einladungen | Übersicht'!U198","v":0},{"$f":"'Einladungen | Übersicht'!W198","v":0}]
[null,{"$f":"IF(VLOOKUP(B195,Gäste,9)=0,\"\",VLOOKUP(B195,Gäste,9))","v":""},{"$f":"IF(VLOOKUP(C195,Gäste,9)=0,\"\",VLOOKUP(C195,Gäste,9))","v":""},{"$f":"IF(VLOOKUP(D195,Gäste,9)=0,\"\",VLOOKUP(D195,Gäste,9))","v":""},{"$f":"IF(VLOOKUP(E195,Gäste,9)=0,\"\",VLOOKUP(E195,Gäste,9))","v":""},null,null,null,191,{"$f":"'Einladungen | Übersicht'!H199","v":0},{"$f":"'Einladungen | Übersicht'!K199","v":0},{"$f":"'Einladungen | Übersicht'!L199","v":0},{"$f":"'Einladungen | Übersicht'!M199","v":0},{"$f":"'Einladungen | Übersicht'!N199","v":0},{"$f":"'Einladungen | Übersicht'!O199","v":0},{"$f":"'Einladungen | Übersicht'!AA199","v":0},{"$f":"'Einladungen | Übersicht'!AB199","v":0},"0 0","",{"$f":"'Einladungen | Übersicht'!S199","v":0},{"$f":"'Einladungen | Übersicht'!U199","v":0},{"$f":"'Einladungen | Übersicht'!W199","v":0}]
[null,125,126,127,128,null,null,null,192,{"$f":"'Einladungen | Übersicht'!H200","v":0},{"$f":"'Einladungen | Übersicht'!K200","v":0},{"$f":"'Einladungen | Übersicht'!L200","v":0},{"$f":"'Einladungen | Übersicht'!M200","v":0},{"$f":"'Einladungen | Übersicht'!N200","v":0},{"$f":"'Einladungen | Übersicht'!O200","v":0},{"$f":"'Einladungen | Übersicht'!AA200","v":0},{"$f":"'Einladungen | Übersicht'!AB200","v":0},"0 0","",{"$f":"'Einladungen | Übersicht'!S200","v":0},{"$f":"'Einladungen | Übersicht'!U200","v":0},{"$f":"'Einladungen | Übersicht'!W200","v":0}]
[null,{"$f":"IF(B198=\"\",\"\",IF($C$2=\"\",\"\",$C$2))","v":""},{"$f":"IF(C198=\"\",\"\",IF($C$2=\"\",\"\",$C$2))","v":""},{"$f":"IF(D198=\"\",\"\",IF($C$2=\"\",\"\",$C$2))","v":""},{"$f":"IF(E198=\"\",\"\",IF($C$2=\"\",\"\",$C$2))","v":""},null,null,null,193,{"$f":"'Einladungen | Übersicht'!H201","v":0},{"$f":"'Einladungen | Übersicht'!K201","v":0},{"$f":"'Einladungen | Übersicht'!L201","v":0},{"$f":"'Einladungen | Übersicht'!M201","v":0},{"$f":"'Einladungen | Übersicht'!N201","v":0},{"$f":"'Einladungen | Übersicht'!O201","v":0},{"$f":"'Einladungen | Übersicht'!AA201","v":0},{"$f":"'Einladungen | Übersicht'!AB201","v":0},"0 0","",{"$f":"'Einladungen | Übersicht'!S201","v":0},{"$f":"'Einladungen | Übersicht'!U201","v":0},{"$f":"'Einladungen | Übersicht'!W201","v":0}]
[null,{"$f":"IF(VLOOKUP(B201,Gäste,6)=0,\"\",VLOOKUP(B201,Gäste,10))","v":""},{"$f":"IF(VLOOKUP(C201,Gäste,6)=0,\"\",VLOOKUP(C201,Gäste,10))","v":""},{"$f":"IF(VLOOKUP(D201,Gäste,6)=0,\"\",VLOOKUP(D201,Gäste,10))","v":""},{"$f":"IF(VLOOKUP(E201,Gäste,6)=0,\"\",VLOOKUP(E201,Gäste,10))","v":""},null,null,null,194,{"$f":"'Einladungen | Übersicht'!H202","v":0},{"$f":"'Einladungen | Übersicht'!K202","v":0},{"$f":"'Einladungen | Übersicht'!L202","v":0},{"$f":"'Einladungen | Übersicht'!M202","v":0},{"$f":"'Einladungen | Übersicht'!N202","v":0},{"$f":"'Einladungen | Übersicht'!O202","v":0},{"$f":"'Einladungen | Übersicht'!AA202","v":0},{"$f":"'Einladungen | Übersicht'!AB202","v":0},{"$f":"IF(M197=0,L197&\" \"&K197,L197&\" & \"&M197&\" \"&K197)","v":"0 0"},"",{"$f":"'Einladungen | Übersicht'!S202","v":0},{"$f":"'Einladungen | Übersicht'!U202","v":0},{"$f":"'Einladungen | Übersicht'!W202","v":0}]
[null,{"$f":"IF(VLOOKUP(B201,Gäste,3)=0,\"\",IF(VLOOKUP(B201,Gäste,6)=0,VLOOKUP(B201,Gäste,10),VLOOKUP(B201,Gäste,11)))","v":""},{"$f":"IF(VLOOKUP(C201,Gäste,3)=0,\"\",IF(VLOOKUP(C201,Gäste,6)=0,VLOOKUP(C201,Gäste,10),VLOOKUP(C201,Gäste,11)))","v":""},{"$f":"IF(VLOOKUP(D201,Gäste,3)=0,\"\",IF(VLOOKUP(D201,Gäste,6)=0,VLOOKUP(D201,Gäste,10),VLOOKUP(D201,Gäste,11)))","v":""},{"$f":"IF(VLOOKUP(E201,Gäste,3)=0,\"\",IF(VLOOKUP(E201,Gäste,6)=0,VLOOKUP(E201,Gäste,10),VLOOKUP(E201,Gäste,11)))","v":""},null,null,null,195,{"$f":"'Einladungen | Übersicht'!H203","v":0},{"$f":"'Einladungen | Übersicht'!K203","v":0},{"$f":"'Einladungen | Übersicht'!L203","v":0},{"$f":"'Einladungen | Übersicht'!M203","v":0},{"$f":"'Einladungen | Übersicht'!N203","v":0},{"$f":"'Einladungen | Übersicht'!O203","v":0},{"$f":"'Einladungen | Übersicht'!AA203","v":0},{"$f":"'Einladungen | Übersicht'!AB203","v":0},"0 0",{"$f":"IF(N198=0,\"\",\"und \"&O198&\" \"&N198)","v":""},{"$f":"'Einladungen | Übersicht'!S203","v":0},{"$f":"'Einladungen | Übersicht'!U203","v":0},{"$f":"'Einladungen | Übersicht'!W203","v":0}]
[null,{"$f":"IF(VLOOKUP(B201,Gäste,8)=0,\"\",VLOOKUP(B201,Gäste,8))","v":""},{"$f":"IF(VLOOKUP(C201,Gäste,8)=0,\"\",VLOOKUP(C201,Gäste,8))","v":""},{"$f":"IF(VLOOKUP(D201,Gäste,8)=0,\"\",VLOOKUP(D201,Gäste,8))","v":""},{"$f":"IF(VLOOKUP(E201,Gäste,8)=0,\"\",VLOOKUP(E201,Gäste,8))","v":""},null,null,null,196,{"$f":"'Einladungen | Übersicht'!H204","v":0},{"$f":"'Einladungen | Übersicht'!K204","v":0},{"$f":"'Einladungen | Übersicht'!L204","v":0},{"$f":"'Einladungen | Übersicht'!M204","v":0},{"$f":"'Einladungen | Übersicht'!N204","v":0},{"$f":"'Einladungen | Übersicht'!O204","v":0},{"$f":"'Einladungen | Übersicht'!AA204","v":0},{"$f":"'Einladungen | Übersicht'!AB204","v":0},"0 0","",{"$f":"'Einladungen | Übersicht'!S204","v":0},{"$f":"'Einladungen | Übersicht'!U204","v":0},{"$f":"'Einladungen | Übersicht'!W204","v":0}]
[null,{"$f":"IF(VLOOKUP(B201,Gäste,9)=0,\"\",VLOOKUP(B201,Gäste,9))","v":""},{"$f":"IF(VLOOKUP(C201,Gäste,9)=0,\"\",VLOOKUP(C201,Gäste,9))","v":""},{"$f":"IF(VLOOKUP(D201,Gäste,9)=0,\"\",VLOOKUP(D201,Gäste,9))","v":""},{"$f":"IF(VLOOKUP(E201,Gäste,9)=0,\"\",VLOOKUP(E201,Gäste,9))","v":""},null,null,null,197,{"$f":"'Einladungen | Übersicht'!H205","v":0},{"$f":"'Einladungen | Übersicht'!K205","v":0},{"$f":"'Einladungen | Übersicht'!L205","v":0},{"$f":"'Einladungen | Übersicht'!M205","v":0},{"$f":"'Einladungen | Übersicht'!N205","v":0},{"$f":"'Einladungen | Übersicht'!O205","v":0},{"$f":"'Einladungen | Übersicht'!AA205","v":0},{"$f":"'Einladungen | Übersicht'!AB205","v":0},"0 0","",{"$f":"'Einladungen | Übersicht'!S205","v":0},{"$f":"'Einladungen | Übersicht'!U205","v":0},{"$f":"'Einladungen | Übersicht'!W205","v":0}]
[null,129,130,131,132,null,null,null,198,{"$f":"'Einladungen | Übersicht'!H206","v":0},{"$f":"'Einladungen | Übersicht'!K206","v":0},{"$f":"'Einladungen | Übersicht'!L206","v":0},{"$f":"'Einladungen | Übersicht'!M206","v":0},{"$f":"'Einladungen | Übersicht'!N206","v":0},{"$f":"'Einladungen | Übersicht'!O206","v":0},{"$f":"'Einladungen | Übersicht'!AA206","v":0},{"$f":"'Einladungen | Übersicht'!AB206","v":0},"0 0","",{"$f":"'Einladungen | Übersicht'!S206","v":0},{"$f":"'Einladungen | Übersicht'!U206","v":0},{"$f":"'Einladungen | Übersicht'!W206","v":0}]
[null,{"$f":"IF(B204=\"\",\"\",IF($C$2=\"\",\"\",$C$2))","v":""},{"$f":"IF(C204=\"\",\"\",IF($C$2=\"\",\"\",$C$2))","v":""},{"$f":"IF(D204=\"\",\"\",IF($C$2=\"\",\"\",$C$2))","v":""},{"$f":"IF(E204=\"\",\"\",IF($C$2=\"\",\"\",$C$2))","v":""},null,null,null,199,{"$f":"'Einladungen | Übersicht'!H207","v":0},{"$f":"'Einladungen | Übersicht'!K207","v":0},{"$f":"'Einladungen | Übersicht'!L207","v":0},{"$f":"'Einladungen | Übersicht'!M207","v":0},{"$f":"'Einladungen | Übersicht'!N207","v":0},{"$f":"'Einladungen | Übersicht'!O207","v":0},{"$f":"'Einladungen | Übersicht'!AA207","v":0},{"$f":"'Einladungen | Übersicht'!AB207","v":0},"0 0","",{"$f":"'Einladungen | Übersicht'!S207","v":0},{"$f":"'Einladungen | Übersicht'!U207","v":0},{"$f":"'Einladungen | Übersicht'!W207","v":0}]
[null,{"$f":"IF(VLOOKUP(B207,Gäste,6)=0,\"\",VLOOKUP(B207,Gäste,10))","v":""},{"$f":"IF(VLOOKUP(C207,Gäste,6)=0,\"\",VLOOKUP(C207,Gäste,10))","v":""},{"$f":"IF(VLOOKUP(D207,Gäste,6)=0,\"\",VLOOKUP(D207,Gäste,10))","v":""},{"$f":"IF(VLOOKUP(E207,Gäste,6)=0,\"\",VLOOKUP(E207,Gäste,10))","v":""},null,null,null,200,{"$f":"'Einladungen | Übersicht'!H208","v":0},{"$f":"'Einladungen | Übersicht'!K208","v":0},{"$f":"'Einladungen | Übersicht'!L208","v":0},{"$f":"'Einladungen | Übersicht'!M208","v":0},{"$f":"'Einladungen | Übersicht'!N208","v":0},{"$f":"'Einladungen | Übersicht'!O208","v":0},{"$f":"'Einladungen | Übersicht'!AA208","v":0},{"$f":"'Einladungen | Übersicht'!AB208","v":0},"0 0","",{"$f":"'Einladungen | Übersicht'!S208","v":0},{"$f":"'Einladungen | Übersicht'!U208","v":0},{"$f":"'Einladungen | Übersicht'!W208","v":0}]
[null,{"$f":"IF(VLOOKUP(B207,Gäste,3)=0,\"\",IF(VLOOKUP(B207,Gäste,6)=0,VLOOKUP(B207,Gäste,10),VLOOKUP(B207,Gäste,11)))","v":""},{"$f":"IF(VLOOKUP(C207,Gäste,3)=0,\"\",IF(VLOOKUP(C207,Gäste,6)=0,VLOOKUP(C207,Gäste,10),VLOOKUP(C207,Gäste,11)))","v":""},{"$f":"IF(VLOOKUP(D207,Gäste,3)=0,\"\",IF(VLOOKUP(D207,Gäste,6)=0,VLOOKUP(D207,Gäste,10),VLOOKUP(D207,Gäste,11)))","v":""},{"$f":"IF(VLOOKUP(E207,Gäste,3)=0,\"\",IF(VLOOKUP(E207,Gäste,6)=0,VLOOKUP(E207,Gäste,10),VLOOKUP(E207,Gäste,11)))","v":""}]
[null,{"$f":"IF(VLOOKUP(B207,Gäste,8)=0,\"\",VLOOKUP(B207,Gäste,8))","v":""},{"$f":"IF(VLOOKUP(C207,Gäste,8)=0,\"\",VLOOKUP(C207,Gäste,8))","v":""},{"$f":"IF(VLOOKUP(D207,Gäste,8)=0,\"\",VLOOKUP(D207,Gäste,8))","v":""},{"$f":"IF(VLOOKUP(E207,Gäste,8)=0,\"\",VLOOKUP(E207,Gäste,8))","v":""}]
[null,{"$f":"IF(VLOOKUP(B207,Gäste,9)=0,\"\",VLOOKUP(B207,Gäste,9))","v":""},{"$f":"IF(VLOOKUP(C207,Gäste,9)=0,\"\",VLOOKUP(C207,Gäste,9))","v":""},{"$f":"IF(VLOOKUP(D207,Gäste,9)=0,\"\",VLOOKUP(D207,Gäste,9))","v":""},{"$f":"IF(VLOOKUP(E207,Gäste,9)=0,\"\",VLOOKUP(E207,Gäste,9))","v":""}]
[null,133,134,135,136]
[null,{"$f":"IF(B210=\"\",\"\",IF($C$2=\"\",\"\",$C$2))","v":""},{"$f":"IF(C210=\"\",\"\",IF($C$2=\"\",\"\",$C$2))","v":""},{"$f":"IF(D210=\"\",\"\",IF($C$2=\"\",\"\",$C$2))","v":""},{"$f":"IF(E210=\"\",\"\",IF($C$2=\"\",\"\",$C$2))","v":""}]
[null,{"$f":"IF(VLOOKUP(B213,Gäste,6)=0,\"\",VLOOKUP(B213,Gäste,10))","v":""},{"$f":"IF(VLOOKUP(C213,Gäste,6)=0,\"\",VLOOKUP(C213,Gäste,10))","v":""},{"$f":"IF(VLOOKUP(D213,Gäste,6)=0,\"\",VLOOKUP(D213,Gäste,10))","v":""},{"$f":"IF(VLOOKUP(E213,Gäste,6)=0,\"\",VLOOKUP(E213,Gäste,10))","v":""}]
[null,{"$f":"IF(VLOOKUP(B213,Gäste,3)=0,\"\",IF(VLOOKUP(B213,Gäste,6)=0,VLOOKUP(B213,Gäste,10),VLOOKUP(B213,Gäste,11)))","v":""},{"$f":"IF(VLOOKUP(C213,Gäste,3)=0,\"\",IF(VLOOKUP(C213,Gäste,6)=0,VLOOKUP(C213,Gäste,10),VLOOKUP(C213,Gäste,11)))","v":""},{"$f":"IF(VLOOKUP(D213,Gäste,3)=0,\"\",IF(VLOOKUP(D213,Gäste,6)=0,VLOOKUP(D213,Gäste,10),VLOOKUP(D213,Gäste,11)))","v":""},{"$f":"IF(VLOOKUP(E213,Gäste,3)=0,\"\",IF(VLOOKUP(E213,Gäste,6)=0,VLOOKUP(E213,Gäste,10),VLOOKUP(E213,Gäste,11)))","v":""}]
[null,{"$f":"IF(VLOOKUP(B213,Gäste,8)=0,\"\",VLOOKUP(B213,Gäste,8))","v":""},{"$f":"IF(VLOOKUP(C213,Gäste,8)=0,\"\",VLOOKUP(C213,Gäste,8))","v":""},{"$f":"IF(VLOOKUP(D213,Gäste,8)=0,\"\",VLOOKUP(D213,Gäste,8))","v":""},{"$f":"IF(VLOOKUP(E213,Gäste,8)=0,\"\",VLOOKUP(E213,Gäste,8))","v":""}]
[null,{"$f":"IF(VLOOKUP(B213,Gäste,9)=0,\"\",VLOOKUP(B213,Gäste,9))","v":""},{"$f":"IF(VLOOKUP(C213,Gäste,9)=0,\"\",VLOOKUP(C213,Gäste,9))","v":""},{"$f":"IF(VLOOKUP(D213,Gäste,9)=0,\"\",VLOOKUP(D213,Gäste,9))","v":""},{"$f":"IF(VLOOKUP(E213,Gäste,9)=0,\"\",VLOOKUP(E213,Gäste,9))","v":""}]
["#7",137,138,139,140]
[null,{"$f":"IF(B216=\"\",\"\",IF($C$2=\"\",\"\",$C$2))","v":""},{"$f":"IF(C216=\"\",\"\",IF($C$2=\"\",\"\",$C$2))","v":""},{"$f":"IF(D216=\"\",\"\",IF($C$2=\"\",\"\",$C$2))","v":""},{"$f":"IF(E216=\"\",\"\",IF($C$2=\"\",\"\",$C$2))","v":""}]
[null,{"$f":"IF(VLOOKUP(B219,Gäste,6)=0,\"\",VLOOKUP(B219,Gäste,10))","v":""},{"$f":"IF(VLOOKUP(C219,Gäste,6)=0,\"\",VLOOKUP(C219,Gäste,10))","v":""},{"$f":"IF(VLOOKUP(D219,Gäste,6)=0,\"\",VLOOKUP(D219,Gäste,10))","v":""},{"$f":"IF(VLOOKUP(E219,Gäste,6)=0,\"\",VLOOKUP(E219,Gäste,10))","v":""}]
[null,{"$f":"IF(VLOOKUP(B219,Gäste,3)=0,\"\",IF(VLOOKUP(B219,Gäste,6)=0,VLOOKUP(B219,Gäste,10),VLOOKUP(B219,Gäste,11)))","v":""},{"$f":"IF(VLOOKUP(C219,Gäste,3)=0,\"\",IF(VLOOKUP(C219,Gäste,6)=0,VLOOKUP(C219,Gäste,10),VLOOKUP(C219,Gäste,11)))","v":""},{"$f":"IF(VLOOKUP(D219,Gäste,3)=0,\"\",IF(VLOOKUP(D219,Gäste,6)=0,VLOOKUP(D219,Gäste,10),VLOOKUP(D219,Gäste,11)))","v":""},{"$f":"IF(VLOOKUP(E219,Gäste,3)=0,\"\",IF(VLOOKUP(E219,Gäste,6)=0,VLOOKUP(E219,Gäste,10),VLOOKUP(E219,Gäste,11)))","v":""}]
[null,{"$f":"IF(VLOOKUP(B219,Gäste,8)=0,\"\",VLOOKUP(B219,Gäste,8))","v":""},{"$f":"IF(VLOOKUP(C219,Gäste,8)=0,\"\",VLOOKUP(C219,Gäste,8))","v":""},{"$f":"IF(VLOOKUP(D219,Gäste,8)=0,\"\",VLOOKUP(D219,Gäste,8))","v":""},{"$f":"IF(VLOOKUP(E219,Gäste,8)=0,\"\",VLOOKUP(E219,Gäste,8))","v":""}]
[null,{"$f":"IF(VLOOKUP(B219,Gäste,9)=0,\"\",VLOOKUP(B219,Gäste,9))","v":""},{"$f":"IF(VLOOKUP(C219,Gäste,9)=0,\"\",VLOOKUP(C219,Gäste,9))","v":""},{"$f":"IF(VLOOKUP(D219,Gäste,9)=0,\"\",VLOOKUP(D219,Gäste,9))","v":""},{"$f":"IF(VLOOKUP(E219,Gäste,9)=0,\"\",VLOOKUP(E219,Gäste,9))","v":""}]
[null,141,142,143,144]
[null,{"$f":"IF(B222=\"\",\"\",IF($C$2=\"\",\"\",$C$2))","v":""},{"$f":"IF(C222=\"\",\"\",IF($C$2=\"\",\"\",$C$2))","v":""},{"$f":"IF(D222=\"\",\"\",IF($C$2=\"\",\"\",$C$2))","v":""},{"$f":"IF(E222=\"\",\"\",IF($C$2=\"\",\"\",$C$2))","v":""}]
[null,{"$f":"IF(VLOOKUP(B225,Gäste,6)=0,\"\",VLOOKUP(B225,Gäste,10))","v":""},{"$f":"IF(VLOOKUP(C225,Gäste,6)=0,\"\",VLOOKUP(C225,Gäste,10))","v":""},{"$f":"IF(VLOOKUP(D225,Gäste,6)=0,\"\",VLOOKUP(D225,Gäste,10))","v":""},{"$f":"IF(VLOOKUP(E225,Gäste,6)=0,\"\",VLOOKUP(E225,Gäste,10))","v":""}]
[null,{"$f":"IF(VLOOKUP(B225,Gäste,3)=0,\"\",IF(VLOOKUP(B225,Gäste,6)=0,VLOOKUP(B225,Gäste,10),VLOOKUP(B225,Gäste,11)))","v":""},{"$f":"IF(VLOOKUP(C225,Gäste,3)=0,\"\",IF(VLOOKUP(C225,Gäste,6)=0,VLOOKUP(C225,Gäste,10),VLOOKUP(C225,Gäste,11)))","v":""},{"$f":"IF(VLOOKUP(D225,Gäste,3)=0,\"\",IF(VLOOKUP(D225,Gäste,6)=0,VLOOKUP(D225,Gäste,10),VLOOKUP(D225,Gäste,11)))","v":""},{"$f":"IF(VLOOKUP(E225,Gäste,3)=0,\"\",IF(VLOOKUP(E225,Gäste,6)=0,VLOOKUP(E225,Gäste,10),VLOOKUP(E225,Gäste,11)))","v":""}]
[null,{"$f":"IF(VLOOKUP(B225,Gäste,8)=0,\"\",VLOOKUP(B225,Gäste,8))","v":""},{"$f":"IF(VLOOKUP(C225,Gäste,8)=0,\"\",VLOOKUP(C225,Gäste,8))","v":""},{"$f":"IF(VLOOKUP(D225,Gäste,8)=0,\"\",VLOOKUP(D225,Gäste,8))","v":""},{"$f":"IF(VLOOKUP(E225,Gäste,8)=0,\"\",VLOOKUP(E225,Gäste,8))","v":""}]
[null,{"$f":"IF(VLOOKUP(B225,Gäste,9)=0,\"\",VLOOKUP(B225,Gäste,9))","v":""},{"$f":"IF(VLOOKUP(C225,Gäste,9)=0,\"\",VLOOKUP(C225,Gäste,9))","v":""},{"$f":"IF(VLOOKUP(D225,Gäste,9)=0,\"\",VLOOKUP(D225,Gäste,9))","v":""},{"$f":"IF(VLOOKUP(E225,Gäste,9)=0,\"\",VLOOKUP(E225,Gäste,9))","v":""}]
[null,145,146,147,148]
[null,{"$f":"IF(B228=\"\",\"\",IF($C$2=\"\",\"\",$C$2))","v":""},{"$f":"IF(C228=\"\",\"\",IF($C$2=\"\",\"\",$C$2))","v":""},{"$f":"IF(D228=\"\",\"\",IF($C$2=\"\",\"\",$C$2))","v":""},{"$f":"IF(E228=\"\",\"\",IF($C$2=\"\",\"\",$C$2))","v":""}]
[null,{"$f":"IF(VLOOKUP(B231,Gäste,6)=0,\"\",VLOOKUP(B231,Gäste,10))","v":""},{"$f":"IF(VLOOKUP(C231,Gäste,6)=0,\"\",VLOOKUP(C231,Gäste,10))","v":""},{"$f":"IF(VLOOKUP(D231,Gäste,6)=0,\"\",VLOOKUP(D231,Gäste,10))","v":""},{"$f":"IF(VLOOKUP(E231,Gäste,6)=0,\"\",VLOOKUP(E231,Gäste,10))","v":""}]
[null,{"$f":"IF(VLOOKUP(B231,Gäste,3)=0,\"\",IF(VLOOKUP(B231,Gäste,6)=0,VLOOKUP(B231,Gäste,10),VLOOKUP(B231,Gäste,11)))","v":""},{"$f":"IF(VLOOKUP(C231,Gäste,3)=0,\"\",IF(VLOOKUP(C231,Gäste,6)=0,VLOOKUP(C231,Gäste,10),VLOOKUP(C231,Gäste,11)))","v":""},{"$f":"IF(VLOOKUP(D231,Gäste,3)=0,\"\",IF(VLOOKUP(D231,Gäste,6)=0,VLOOKUP(D231,Gäste,10),VLOOKUP(D231,Gäste,11)))","v":""},{"$f":"IF(VLOOKUP(E231,Gäste,3)=0,\"\",IF(VLOOKUP(E231,Gäste,6)=0,VLOOKUP(E231,Gäste,10),VLOOKUP(E231,Gäste,11)))","v":""}]
[null,{"$f":"IF(VLOOKUP(B231,Gäste,8)=0,\"\",VLOOKUP(B231,Gäste,8))","v":""},{"$f":"IF(VLOOKUP(C231,Gäste,8)=0,\"\",VLOOKUP(C231,Gäste,8))","v":""},{"$f":"IF(VLOOKUP(D231,Gäste,8)=0,\"\",VLOOKUP(D231,Gäste,8))","v":""},{"$f":"IF(VLOOKUP(E231,Gäste,8)=0,\"\",VLOOKUP(E231,Gäste,8))","v":""}]
[null,{"$f":"IF(VLOOKUP(B231,Gäste,9)=0,\"\",VLOOKUP(B231,Gäste,9))","v":""},{"$f":"IF(VLOOKUP(C231,Gäste,9)=0,\"\",VLOOKUP(C231,Gäste,9))","v":""},{"$f":"IF(VLOOKUP(D231,Gäste,9)=0,\"\",VLOOKUP(D231,Gäste,9))","v":""},{"$f":"IF(VLOOKUP(E231,Gäste,9)=0,\"\",VLOOKUP(E231,Gäste,9))","v":""}]
[null,149,150,151,152]
[null,{"$f":"IF(B234=\"\",\"\",IF($C$2=\"\",\"\",$C$2))","v":""},{"$f":"IF(C234=\"\",\"\",IF($C$2=\"\",\"\",$C$2))","v":""},{"$f":"IF(D234=\"\",\"\",IF($C$2=\"\",\"\",$C$2))","v":""},{"$f":"IF(E234=\"\",\"\",IF($C$2=\"\",\"\",$C$2))","v":""}]
[null,{"$f":"IF(VLOOKUP(B237,Gäste,6)=0,\"\",VLOOKUP(B237,Gäste,10))","v":""},{"$f":"IF(VLOOKUP(C237,Gäste,6)=0,\"\",VLOOKUP(C237,Gäste,10))","v":""},{"$f":"IF(VLOOKUP(D237,Gäste,6)=0,\"\",VLOOKUP(D237,Gäste,10))","v":""},{"$f":"IF(VLOOKUP(E237,Gäste,6)=0,\"\",VLOOKUP(E237,Gäste,10))","v":""}]
[null,{"$f":"IF(VLOOKUP(B237,Gäste,3)=0,\"\",IF(VLOOKUP(B237,Gäste,6)=0,VLOOKUP(B237,Gäste,10),VLOOKUP(B237,Gäste,11)))","v":""},{"$f":"IF(VLOOKUP(C237,Gäste,3)=0,\"\",IF(VLOOKUP(C237,Gäste,6)=0,VLOOKUP(C237,Gäste,10),VLOOKUP(C237,Gäste,11)))","v":""},{"$f":"IF(VLOOKUP(D237,Gäste,3)=0,\"\",IF(VLOOKUP(D237,Gäste,6)=0,VLOOKUP(D237,Gäste,10),VLOOKUP(D237,Gäste,11)))","v":""},{"$f":"IF(VLOOKUP(E237,Gäste,3)=0,\"\",IF(VLOOKUP(E237,Gäste,6)=0,VLOOKUP(E237,Gäste,10),VLOOKUP(E237,Gäste,11)))","v":""}]
[null,{"$f":"IF(VLOOKUP(B237,Gäste,8)=0,\"\",VLOOKUP(B237,Gäste,8))","v":""},{"$f":"IF(VLOOKUP(C237,Gäste,8)=0,\"\",VLOOKUP(C237,Gäste,8))","v":""},{"$f":"IF(VLOOKUP(D237,Gäste,8)=0,\"\",VLOOKUP(D237,Gäste,8))","v":""},{"$f":"IF(VLOOKUP(E237,Gäste,8)=0,\"\",VLOOKUP(E237,Gäste,8))","v":""}]
[null,{"$f":"IF(VLOOKUP(B237,Gäste,9)=0,\"\",VLOOKUP(B237,Gäste,9))","v":""},{"$f":"IF(VLOOKUP(C237,Gäste,9)=0,\"\",VLOOKUP(C237,Gäste,9))","v":""},{"$f":"IF(VLOOKUP(D237,Gäste,9)=0,\"\",VLOOKUP(D237,Gäste,9))","v":""},{"$f":"IF(VLOOKUP(E237,Gäste,9)=0,\"\",VLOOKUP(E237,Gäste,9))","v":""}]
[null,153,154,155,156]
[null,{"$f":"IF(B240=\"\",\"\",IF($C$2=\"\",\"\",$C$2))","v":""},{"$f":"IF(C240=\"\",\"\",IF($C$2=\"\",\"\",$C$2))","v":""},{"$f":"IF(D240=\"\",\"\",IF($C$2=\"\",\"\",$C$2))","v":""},{"$f":"IF(E240=\"\",\"\",IF($C$2=\"\",\"\",$C$2))","v":""}]
[null,{"$f":"IF(VLOOKUP(B243,Gäste,6)=0,\"\",VLOOKUP(B243,Gäste,10))","v":""},{"$f":"IF(VLOOKUP(C243,Gäste,6)=0,\"\",VLOOKUP(C243,Gäste,10))","v":""},{"$f":"IF(VLOOKUP(D243,Gäste,6)=0,\"\",VLOOKUP(D243,Gäste,10))","v":""},{"$f":"IF(VLOOKUP(E243,Gäste,6)=0,\"\",VLOOKUP(E243,Gäste,10))","v":""}]
[null,{"$f":"IF(VLOOKUP(B243,Gäste,3)=0,\"\",IF(VLOOKUP(B243,Gäste,6)=0,VLOOKUP(B243,Gäste,10),VLOOKUP(B243,Gäste,11)))","v":""},{"$f":"IF(VLOOKUP(C243,Gäste,3)=0,\"\",IF(VLOOKUP(C243,Gäste,6)=0,VLOOKUP(C243,Gäste,10),VLOOKUP(C243,Gäste,11)))","v":""},{"$f":"IF(VLOOKUP(D243,Gäste,3)=0,\"\",IF(VLOOKUP(D243,Gäste,6)=0,VLOOKUP(D243,Gäste,10),VLOOKUP(D243,Gäste,11)))","v":""},{"$f":"IF(VLOOKUP(E243,Gäste,3)=0,\"\",IF(VLOOKUP(E243,Gäste,6)=0,VLOOKUP(E243,Gäste,10),VLOOKUP(E243,Gäste,11)))","v":""}]
[null,{"$f":"IF(VLOOKUP(B243,Gäste,8)=0,\"\",VLOOKUP(B243,Gäste,8))","v":""},{"$f":"IF(VLOOKUP(C243,Gäste,8)=0,\"\",VLOOKUP(C243,Gäste,8))","v":""},{"$f":"IF(VLOOKUP(D243,Gäste,8)=0,\"\",VLOOKUP(D243,Gäste,8))","v":""},{"$f":"IF(VLOOKUP(E243,Gäste,8)=0,\"\",VLOOKUP(E243,Gäste,8))","v":""}]
[null,{"$f":"IF(VLOOKUP(B243,Gäste,9)=0,\"\",VLOOKUP(B243,Gäste,9))","v":""},{"$f":"IF(VLOOKUP(C243,Gäste,9)=0,\"\",VLOOKUP(C243,Gäste,9))","v":""},{"$f":"IF(VLOOKUP(D243,Gäste,9)=0,\"\",VLOOKUP(D243,Gäste,9))","v":""},{"$f":"IF(VLOOKUP(E243,Gäste,9)=0,\"\",VLOOKUP(E243,Gäste,9))","v":""}]
["#8",157,158,159,160]
[null,{"$f":"IF(B246=\"\",\"\",IF($C$2=\"\",\"\",$C$2))","v":""},{"$f":"IF(C246=\"\",\"\",IF($C$2=\"\",\"\",$C$2))","v":""},{"$f":"IF(D246=\"\",\"\",IF($C$2=\"\",\"\",$C$2))","v":""},{"$f":"IF(E246=\"\",\"\",IF($C$2=\"\",\"\",$C$2))","v":""}]
[null,{"$f":"IF(VLOOKUP(B249,Gäste,6)=0,\"\",VLOOKUP(B249,Gäste,10))","v":""},{"$f":"IF(VLOOKUP(C249,Gäste,6)=0,\"\",VLOOKUP(C249,Gäste,10))","v":""},{"$f":"IF(VLOOKUP(D249,Gäste,6)=0,\"\",VLOOKUP(D249,Gäste,10))","v":""},{"$f":"IF(VLOOKUP(E249,Gäste,6)=0,\"\",VLOOKUP(E249,Gäste,10))","v":""}]
[null,{"$f":"IF(VLOOKUP(B249,Gäste,3)=0,\"\",IF(VLOOKUP(B249,Gäste,6)=0,VLOOKUP(B249,Gäste,10),VLOOKUP(B249,Gäste,11)))","v":""},{"$f":"IF(VLOOKUP(C249,Gäste,3)=0,\"\",IF(VLOOKUP(C249,Gäste,6)=0,VLOOKUP(C249,Gäste,10),VLOOKUP(C249,Gäste,11)))","v":""},{"$f":"IF(VLOOKUP(D249,Gäste,3)=0,\"\",IF(VLOOKUP(D249,Gäste,6)=0,VLOOKUP(D249,Gäste,10),VLOOKUP(D249,Gäste,11)))","v":""},{"$f":"IF(VLOOKUP(E249,Gäste,3)=0,\"\",IF(VLOOKUP(E249,Gäste,6)=0,VLOOKUP(E249,Gäste,10),VLOOKUP(E249,Gäste,11)))","v":""}]
[null,{"$f":"IF(VLOOKUP(B249,Gäste,8)=0,\"\",VLOOKUP(B249,Gäste,8))","v":""},{"$f":"IF(VLOOKUP(C249,Gäste,8)=0,\"\",VLOOKUP(C249,Gäste,8))","v":""},{"$f":"IF(VLOOKUP(D249,Gäste,8)=0,\"\",VLOOKUP(D249,Gäste,8))","v":""},{"$f":"IF(VLOOKUP(E249,Gäste,8)=0,\"\",VLOOKUP(E249,Gäste,8))","v":""}]
[null,{"$f":"IF(VLOOKUP(B249,Gäste,9)=0,\"\",VLOOKUP(B249,Gäste,9))","v":""},{"$f":"IF(VLOOKUP(C249,Gäste,9)=0,\"\",VLOOKUP(C249,Gäste,9))","v":""},{"$f":"IF(VLOOKUP(D249,Gäste,9)=0,\"\",VLOOKUP(D249,Gäste,9))","v":""},{"$f":"IF(VLOOKUP(E249,Gäste,9)=0,\"\",VLOOKUP(E249,Gäste,9))","v":""}]
[null,161,162,163,164]
[null,{"$f":"IF(B252=\"\",\"\",IF($C$2=\"\",\"\",$C$2))","v":""},{"$f":"IF(C252=\"\",\"\",IF($C$2=\"\",\"\",$C$2))","v":""},{"$f":"IF(D252=\"\",\"\",IF($C$2=\"\",\"\",$C$2))","v":""},{"$f":"IF(E252=\"\",\"\",IF($C$2=\"\",\"\",$C$2))","v":""}]
[null,{"$f":"IF(VLOOKUP(B255,Gäste,6)=0,\"\",VLOOKUP(B255,Gäste,10))","v":""},{"$f":"IF(VLOOKUP(C255,Gäste,6)=0,\"\",VLOOKUP(C255,Gäste,10))","v":""},{"$f":"IF(VLOOKUP(D255,Gäste,6)=0,\"\",VLOOKUP(D255,Gäste,10))","v":""},{"$f":"IF(VLOOKUP(E255,Gäste,6)=0,\"\",VLOOKUP(E255,Gäste,10))","v":""}]
[null,{"$f":"IF(VLOOKUP(B255,Gäste,3)=0,\"\",IF(VLOOKUP(B255,Gäste,6)=0,VLOOKUP(B255,Gäste,10),VLOOKUP(B255,Gäste,11)))","v":""},{"$f":"IF(VLOOKUP(C255,Gäste,3)=0,\"\",IF(VLOOKUP(C255,Gäste,6)=0,VLOOKUP(C255,Gäste,10),VLOOKUP(C255,Gäste,11)))","v":""},{"$f":"IF(VLOOKUP(D255,Gäste,3)=0,\"\",IF(VLOOKUP(D255,Gäste,6)=0,VLOOKUP(D255,Gäste,10),VLOOKUP(D255,Gäste,11)))","v":""},{"$f":"IF(VLOOKUP(E255,Gäste,3)=0,\"\",IF(VLOOKUP(E255,Gäste,6)=0,VLOOKUP(E255,Gäste,10),VLOOKUP(E255,Gäste,11)))","v":""}]
[null,{"$f":"IF(VLOOKUP(B255,Gäste,8)=0,\"\",VLOOKUP(B255,Gäste,8))","v":""},{"$f":"IF(VLOOKUP(C255,Gäste,8)=0,\"\",VLOOKUP(C255,Gäste,8))","v":""},{"$f":"IF(VLOOKUP(D255,Gäste,8)=0,\"\",VLOOKUP(D255,Gäste,8))","v":""},{"$f":"IF(VLOOKUP(E255,Gäste,8)=0,\"\",VLOOKUP(E255,Gäste,8))","v":""}]
[null,{"$f":"IF(VLOOKUP(B255,Gäste,9)=0,\"\",VLOOKUP(B255,Gäste,9))","v":""},{"$f":"IF(VLOOKUP(C255,Gäste,9)=0,\"\",VLOOKUP(C255,Gäste,9))","v":""},{"$f":"IF(VLOOKUP(D255,Gäste,9)=0,\"\",VLOOKUP(D255,Gäste,9))","v":""},{"$f":"IF(VLOOKUP(E255,Gäste,9)=0,\"\",VLOOKUP(E255,Gäste,9))","v":""}]
[null,165,166,167,168]
[null,{"$f":"IF(B258=\"\",\"\",IF($C$2=\"\",\"\",$C$2))","v":""},{"$f":"IF(C258=\"\",\"\",IF($C$2=\"\",\"\",$C$2))","v":""},{"$f":"IF(D258=\"\",\"\",IF($C$2=\"\",\"\",$C$2))","v":""},{"$f":"IF(E258=\"\",\"\",IF($C$2=\"\",\"\",$C$2))","v":""}]
[null,{"$f":"IF(VLOOKUP(B261,Gäste,6)=0,\"\",VLOOKUP(B261,Gäste,10))","v":""},{"$f":"IF(VLOOKUP(C261,Gäste,6)=0,\"\",VLOOKUP(C261,Gäste,10))","v":""},{"$f":"IF(VLOOKUP(D261,Gäste,6)=0,\"\",VLOOKUP(D261,Gäste,10))","v":""},{"$f":"IF(VLOOKUP(E261,Gäste,6)=0,\"\",VLOOKUP(E261,Gäste,10))","v":""}]
[null,{"$f":"IF(VLOOKUP(B261,Gäste,3)=0,\"\",IF(VLOOKUP(B261,Gäste,6)=0,VLOOKUP(B261,Gäste,10),VLOOKUP(B261,Gäste,11)))","v":""},{"$f":"IF(VLOOKUP(C261,Gäste,3)=0,\"\",IF(VLOOKUP(C261,Gäste,6)=0,VLOOKUP(C261,Gäste,10),VLOOKUP(C261,Gäste,11)))","v":""},{"$f":"IF(VLOOKUP(D261,Gäste,3)=0,\"\",IF(VLOOKUP(D261,Gäste,6)=0,VLOOKUP(D261,Gäste,10),VLOOKUP(D261,Gäste,11)))","v":""},{"$f":"IF(VLOOKUP(E261,Gäste,3)=0,\"\",IF(VLOOKUP(E261,Gäste,6)=0,VLOOKUP(E261,Gäste,10),VLOOKUP(E261,Gäste,11)))","v":""}]
[null,{"$f":"IF(VLOOKUP(B261,Gäste,8)=0,\"\",VLOOKUP(B261,Gäste,8))","v":""},{"$f":"IF(VLOOKUP(C261,Gäste,8)=0,\"\",VLOOKUP(C261,Gäste,8))","v":""},{"$f":"IF(VLOOKUP(D261,Gäste,8)=0,\"\",VLOOKUP(D261,Gäste,8))","v":""},{"$f":"IF(VLOOKUP(E261,Gäste,8)=0,\"\",VLOOKUP(E261,Gäste,8))","v":""}]
[null,{"$f":"IF(VLOOKUP(B261,Gäste,9)=0,\"\",VLOOKUP(B261,Gäste,9))","v":""},{"$f":"IF(VLOOKUP(C261,Gäste,9)=0,\"\",VLOOKUP(C261,Gäste,9))","v":""},{"$f":"IF(VLOOKUP(D261,Gäste,9)=0,\"\",VLOOKUP(D261,Gäste,9))","v":""},{"$f":"IF(VLOOKUP(E261,Gäste,9)=0,\"\",VLOOKUP(E261,Gäste,9))","v":""}]
[null,169,170,171,172]
[null,{"$f":"IF(B264=\"\",\"\",IF($C$2=\"\",\"\",$C$2))","v":""},{"$f":"IF(C264=\"\",\"\",IF($C$2=\"\",\"\",$C$2))","v":""},{"$f":"IF(D264=\"\",\"\",IF($C$2=\"\",\"\",$C$2))","v":""},{"$f":"IF(E264=\"\",\"\",IF($C$2=\"\",\"\",$C$2))","v":""}]
[null,{"$f":"IF(VLOOKUP(B267,Gäste,6)=0,\"\",VLOOKUP(B267,Gäste,10))","v":""},{"$f":"IF(VLOOKUP(C267,Gäste,6)=0,\"\",VLOOKUP(C267,Gäste,10))","v":""},{"$f":"IF(VLOOKUP(D267,Gäste,6)=0,\"\",VLOOKUP(D267,Gäste,10))","v":""},{"$f":"IF(VLOOKUP(E267,Gäste,6)=0,\"\",VLOOKUP(E267,Gäste,10))","v":""}]
[null,{"$f":"IF(VLOOKUP(B267,Gäste,3)=0,\"\",IF(VLOOKUP(B267,Gäste,6)=0,VLOOKUP(B267,Gäste,10),VLOOKUP(B267,Gäste,11)))","v":""},{"$f":"IF(VLOOKUP(C267,Gäste,3)=0,\"\",IF(VLOOKUP(C267,Gäste,6)=0,VLOOKUP(C267,Gäste,10),VLOOKUP(C267,Gäste,11)))","v":""},{"$f":"IF(VLOOKUP(D267,Gäste,3)=0,\"\",IF(VLOOKUP(D267,Gäste,6)=0,VLOOKUP(D267,Gäste,10),VLOOKUP(D267,Gäste,11)))","v":""},{"$f":"IF(VLOOKUP(E267,Gäste,3)=0,\"\",IF(VLOOKUP(E267,Gäste,6)=0,VLOOKUP(E267,Gäste,10),VLOOKUP(E267,Gäste,11)))","v":""}]
[null,{"$f":"IF(VLOOKUP(B267,Gäste,8)=0,\"\",VLOOKUP(B267,Gäste,8))","v":""},{"$f":"IF(VLOOKUP(C267,Gäste,8)=0,\"\",VLOOKUP(C267,Gäste,8))","v":""},{"$f":"IF(VLOOKUP(D267,Gäste,8)=0,\"\",VLOOKUP(D267,Gäste,8))","v":""},{"$f":"IF(VLOOKUP(E267,Gäste,8)=0,\"\",VLOOKUP(E267,Gäste,8))","v":""}]
[null,{"$f":"IF(VLOOKUP(B267,Gäste,9)=0,\"\",VLOOKUP(B267,Gäste,9))","v":""},{"$f":"IF(VLOOKUP(C267,Gäste,9)=0,\"\",VLOOKUP(C267,Gäste,9))","v":""},{"$f":"IF(VLOOKUP(D267,Gäste,9)=0,\"\",VLOOKUP(D267,Gäste,9))","v":""},{"$f":"IF(VLOOKUP(E267,Gäste,9)=0,\"\",VLOOKUP(E267,Gäste,9))","v":""}]
[null,173,174,175,176]
[null,{"$f":"IF(B270=\"\",\"\",IF($C$2=\"\",\"\",$C$2))","v":""},{"$f":"IF(C270=\"\",\"\",IF($C$2=\"\",\"\",$C$2))","v":""},{"$f":"IF(D270=\"\",\"\",IF($C$2=\"\",\"\",$C$2))","v":""},{"$f":"IF(E270=\"\",\"\",IF($C$2=\"\",\"\",$C$2))","v":""}]
[null,{"$f":"IF(VLOOKUP(B273,Gäste,6)=0,\"\",VLOOKUP(B273,Gäste,10))","v":""},{"$f":"IF(VLOOKUP(C273,Gäste,6)=0,\"\",VLOOKUP(C273,Gäste,10))","v":""},{"$f":"IF(VLOOKUP(D273,Gäste,6)=0,\"\",VLOOKUP(D273,Gäste,10))","v":""},{"$f":"IF(VLOOKUP(E273,Gäste,6)=0,\"\",VLOOKUP(E273,Gäste,10))","v":""}]
[null,{"$f":"IF(VLOOKUP(B273,Gäste,3)=0,\"\",IF(VLOOKUP(B273,Gäste,6)=0,VLOOKUP(B273,Gäste,10),VLOOKUP(B273,Gäste,11)))","v":""},{"$f":"IF(VLOOKUP(C273,Gäste,3)=0,\"\",IF(VLOOKUP(C273,Gäste,6)=0,VLOOKUP(C273,Gäste,10),VLOOKUP(C273,Gäste,11)))","v":""},{"$f":"IF(VLOOKUP(D273,Gäste,3)=0,\"\",IF(VLOOKUP(D273,Gäste,6)=0,VLOOKUP(D273,Gäste,10),VLOOKUP(D273,Gäste,11)))","v":""},{"$f":"IF(VLOOKUP(E273,Gäste,3)=0,\"\",IF(VLOOKUP(E273,Gäste,6)=0,VLOOKUP(E273,Gäste,10),VLOOKUP(E273,Gäste,11)))","v":""}]
[null,{"$f":"IF(VLOOKUP(B273,Gäste,8)=0,\"\",VLOOKUP(B273,Gäste,8))","v":""},{"$f":"IF(VLOOKUP(C273,Gäste,8)=0,\"\",VLOOKUP(C273,Gäste,8))","v":""},{"$f":"IF(VLOOKUP(D273,Gäste,8)=0,\"\",VLOOKUP(D273,Gäste,8))","v":""},{"$f":"IF(VLOOKUP(E273,Gäste,8)=0,\"\",VLOOKUP(E273,Gäste,8))","v":""}]
[null,{"$f":"IF(VLOOKUP(B273,Gäste,9)=0,\"\",VLOOKUP(B273,Gäste,9))","v":""},{"$f":"IF(VLOOKUP(C273,Gäste,9)=0,\"\",VLOOKUP(C273,Gäste,9))","v":""},{"$f":"IF(VLOOKUP(D273,Gäste,9)=0,\"\",VLOOKUP(D273,Gäste,9))","v":""},{"$f":"IF(VLOOKUP(E273,Gäste,9)=0,\"\",VLOOKUP(E273,Gäste,9))","v":""}]
["#9",177,178,179,180]
[null,{"$f":"IF(B276=\"\",\"\",IF($C$2=\"\",\"\",$C$2))","v":""},{"$f":"IF(C276=\"\",\"\",IF($C$2=\"\",\"\",$C$2))","v":""},{"$f":"IF(D276=\"\",\"\",IF($C$2=\"\",\"\",$C$2))","v":""},{"$f":"IF(E276=\"\",\"\",IF($C$2=\"\",\"\",$C$2))","v":""}]
[null,{"$f":"IF(VLOOKUP(B279,Gäste,6)=0,\"\",VLOOKUP(B279,Gäste,10))","v":""},{"$f":"IF(VLOOKUP(C279,Gäste,6)=0,\"\",VLOOKUP(C279,Gäste,10))","v":""},{"$f":"IF(VLOOKUP(D279,Gäste,6)=0,\"\",VLOOKUP(D279,Gäste,10))","v":""},{"$f":"IF(VLOOKUP(E279,Gäste,6)=0,\"\",VLOOKUP(E279,Gäste,10))","v":""}]
[null,{"$f":"IF(VLOOKUP(B279,Gäste,3)=0,\"\",IF(VLOOKUP(B279,Gäste,6)=0,VLOOKUP(B279,Gäste,10),VLOOKUP(B279,Gäste,11)))","v":""},{"$f":"IF(VLOOKUP(C279,Gäste,3)=0,\"\",IF(VLOOKUP(C279,Gäste,6)=0,VLOOKUP(C279,Gäste,10),VLOOKUP(C279,Gäste,11)))","v":""},{"$f":"IF(VLOOKUP(D279,Gäste,3)=0,\"\",IF(VLOOKUP(D279,Gäste,6)=0,VLOOKUP(D279,Gäste,10),VLOOKUP(D279,Gäste,11)))","v":""},{"$f":"IF(VLOOKUP(E279,Gäste,3)=0,\"\",IF(VLOOKUP(E279,Gäste,6)=0,VLOOKUP(E279,Gäste,10),VLOOKUP(E279,Gäste,11)))","v":""}]
[null,{"$f":"IF(VLOOKUP(B279,Gäste,8)=0,\"\",VLOOKUP(B279,Gäste,8))","v":""},{"$f":"IF(VLOOKUP(C279,Gäste,8)=0,\"\",VLOOKUP(C279,Gäste,8))","v":""},{"$f":"IF(VLOOKUP(D279,Gäste,8)=0,\"\",VLOOKUP(D279,Gäste,8))","v":""},{"$f":"IF(VLOOKUP(E279,Gäste,8)=0,\"\",VLOOKUP(E279,Gäste,8))","v":""}]
[null,{"$f":"IF(VLOOKUP(B279,Gäste,9)=0,\"\",VLOOKUP(B279,Gäste,9))","v":""},{"$f":"IF(VLOOKUP(C279,Gäste,9)=0,\"\",VLOOKUP(C279,Gäste,9))","v":""},{"$f":"IF(VLOOKUP(D279,Gäste,9)=0,\"\",VLOOKUP(D279,Gäste,9))","v":""},{"$f":"IF(VLOOKUP(E279,Gäste,9)=0,\"\",VLOOKUP(E279,Gäste,9))","v":""}]
[null,181,182,183,184]
[null,{"$f":"IF(B282=\"\",\"\",IF($C$2=\"\",\"\",$C$2))","v":""},{"$f":"IF(C282=\"\",\"\",IF($C$2=\"\",\"\",$C$2))","v":""},{"$f":"IF(D282=\"\",\"\",IF($C$2=\"\",\"\",$C$2))","v":""},{"$f":"IF(E282=\"\",\"\",IF($C$2=\"\",\"\",$C$2))","v":""}]
[null,{"$f":"IF(VLOOKUP(B285,Gäste,6)=0,\"\",VLOOKUP(B285,Gäste,10))","v":""},{"$f":"IF(VLOOKUP(C285,Gäste,6)=0,\"\",VLOOKUP(C285,Gäste,10))","v":""},{"$f":"IF(VLOOKUP(D285,Gäste,6)=0,\"\",VLOOKUP(D285,Gäste,10))","v":""},{"$f":"IF(VLOOKUP(E285,Gäste,6)=0,\"\",VLOOKUP(E285,Gäste,10))","v":""}]
[null,{"$f":"IF(VLOOKUP(B285,Gäste,3)=0,\"\",IF(VLOOKUP(B285,Gäste,6)=0,VLOOKUP(B285,Gäste,10),VLOOKUP(B285,Gäste,11)))","v":""},{"$f":"IF(VLOOKUP(C285,Gäste,3)=0,\"\",IF(VLOOKUP(C285,Gäste,6)=0,VLOOKUP(C285,Gäste,10),VLOOKUP(C285,Gäste,11)))","v":""},{"$f":"IF(VLOOKUP(D285,Gäste,3)=0,\"\",IF(VLOOKUP(D285,Gäste,6)=0,VLOOKUP(D285,Gäste,10),VLOOKUP(D285,Gäste,11)))","v":""},{"$f":"IF(VLOOKUP(E285,Gäste,3)=0,\"\",IF(VLOOKUP(E285,Gäste,6)=0,VLOOKUP(E285,Gäste,10),VLOOKUP(E285,Gäste,11)))","v":""}]
[null,{"$f":"IF(VLOOKUP(B285,Gäste,8)=0,\"\",VLOOKUP(B285,Gäste,8))","v":""},{"$f":"IF(VLOOKUP(C285,Gäste,8)=0,\"\",VLOOKUP(C285,Gäste,8))","v":""},{"$f":"IF(VLOOKUP(D285,Gäste,8)=0,\"\",VLOOKUP(D285,Gäste,8))","v":""},{"$f":"IF(VLOOKUP(E285,Gäste,8)=0,\"\",VLOOKUP(E285,Gäste,8))","v":""}]
[null,{"$f":"IF(VLOOKUP(B285,Gäste,9)=0,\"\",VLOOKUP(B285,Gäste,9))","v":""},{"$f":"IF(VLOOKUP(C285,Gäste,9)=0,\"\",VLOOKUP(C285,Gäste,9))","v":""},{"$f":"IF(VLOOKUP(D285,Gäste,9)=0,\"\",VLOOKUP(D285,Gäste,9))","v":""},{"$f":"IF(VLOOKUP(E285,Gäste,9)=0,\"\",VLOOKUP(E285,Gäste,9))","v":""}]
[null,185,186,187,188]
[null,{"$f":"IF(B288=\"\",\"\",IF($C$2=\"\",\"\",$C$2))","v":""},{"$f":"IF(C288=\"\",\"\",IF($C$2=\"\",\"\",$C$2))","v":""},{"$f":"IF(D288=\"\",\"\",IF($C$2=\"\",\"\",$C$2))","v":""},{"$f":"IF(E288=\"\",\"\",IF($C$2=\"\",\"\",$C$2))","v":""}]
[null,{"$f":"IF(VLOOKUP(B291,Gäste,6)=0,\"\",VLOOKUP(B291,Gäste,10))","v":""},{"$f":"IF(VLOOKUP(C291,Gäste,6)=0,\"\",VLOOKUP(C291,Gäste,10))","v":""},{"$f":"IF(VLOOKUP(D291,Gäste,6)=0,\"\",VLOOKUP(D291,Gäste,10))","v":""},{"$f":"IF(VLOOKUP(E291,Gäste,6)=0,\"\",VLOOKUP(E291,Gäste,10))","v":""}]
[null,{"$f":"IF(VLOOKUP(B291,Gäste,3)=0,\"\",IF(VLOOKUP(B291,Gäste,6)=0,VLOOKUP(B291,Gäste,10),VLOOKUP(B291,Gäste,11)))","v":""},{"$f":"IF(VLOOKUP(C291,Gäste,3)=0,\"\",IF(VLOOKUP(C291,Gäste,6)=0,VLOOKUP(C291,Gäste,10),VLOOKUP(C291,Gäste,11)))","v":""},{"$f":"IF(VLOOKUP(D291,Gäste,3)=0,\"\",IF(VLOOKUP(D291,Gäste,6)=0,VLOOKUP(D291,Gäste,10),VLOOKUP(D291,Gäste,11)))","v":""},{"$f":"IF(VLOOKUP(E291,Gäste,3)=0,\"\",IF(VLOOKUP(E291,Gäste,6)=0,VLOOKUP(E291,Gäste,10),VLOOKUP(E291,Gäste,11)))","v":""}]
[null,{"$f":"IF(VLOOKUP(B291,Gäste,8)=0,\"\",VLOOKUP(B291,Gäste,8))","v":""},{"$f":"IF(VLOOKUP(C291,Gäste,8)=0,\"\",VLOOKUP(C291,Gäste,8))","v":""},{"$f":"IF(VLOOKUP(D291,Gäste,8)=0,\"\",VLOOKUP(D291,Gäste,8))","v":""},{"$f":"IF(VLOOKUP(E291,Gäste,8)=0,\"\",VLOOKUP(E291,Gäste,8))","v":""}]
[null,{"$f":"IF(VLOOKUP(B291,Gäste,9)=0,\"\",VLOOKUP(B291,Gäste,9))","v":""},{"$f":"IF(VLOOKUP(C291,Gäste,9)=0,\"\",VLOOKUP(C291,Gäste,9))","v":""},{"$f":"IF(VLOOKUP(D291,Gäste,9)=0,\"\",VLOOKUP(D291,Gäste,9))","v":""},{"$f":"IF(VLOOKUP(E291,Gäste,9)=0,\"\",VLOOKUP(E291,Gäste,9))","v":""}]
[null,189,190,191,192]
[null,{"$f":"IF(B294=\"\",\"\",IF($C$2=\"\",\"\",$C$2))","v":""},{"$f":"IF(C294=\"\",\"\",IF($C$2=\"\",\"\",$C$2))","v":""},{"$f":"IF(D294=\"\",\"\",IF($C$2=\"\",\"\",$C$2))","v":""},{"$f":"IF(E294=\"\",\"\",IF($C$2=\"\",\"\",$C$2))","v":""}]
[null,{"$f":"IF(VLOOKUP(B297,Gäste,6)=0,\"\",VLOOKUP(B297,Gäste,10))","v":""},{"$f":"IF(VLOOKUP(C297,Gäste,6)=0,\"\",VLOOKUP(C297,Gäste,10))","v":""},{"$f":"IF(VLOOKUP(D297,Gäste,6)=0,\"\",VLOOKUP(D297,Gäste,10))","v":""},{"$f":"IF(VLOOKUP(E297,Gäste,6)=0,\"\",VLOOKUP(E297,Gäste,10))","v":""}]
[null,{"$f":"IF(VLOOKUP(B297,Gäste,3)=0,\"\",IF(VLOOKUP(B297,Gäste,6)=0,VLOOKUP(B297,Gäste,10),VLOOKUP(B297,Gäste,11)))","v":""},{"$f":"IF(VLOOKUP(C297,Gäste,3)=0,\"\",IF(VLOOKUP(C297,Gäste,6)=0,VLOOKUP(C297,Gäste,10),VLOOKUP(C297,Gäste,11)))","v":""},{"$f":"IF(VLOOKUP(D297,Gäste,3)=0,\"\",IF(VLOOKUP(D297,Gäste,6)=0,VLOOKUP(D297,Gäste,10),VLOOKUP(D297,Gäste,11)))","v":""},{"$f":"IF(VLOOKUP(E297,Gäste,3)=0,\"\",IF(VLOOKUP(E297,Gäste,6)=0,VLOOKUP(E297,Gäste,10),VLOOKUP(E297,Gäste,11)))","v":""}]
[null,{"$f":"IF(VLOOKUP(B297,Gäste,8)=0,\"\",VLOOKUP(B297,Gäste,8))","v":""},{"$f":"IF(VLOOKUP(C297,Gäste,8)=0,\"\",VLOOKUP(C297,Gäste,8))","v":""},{"$f":"IF(VLOOKUP(D297,Gäste,8)=0,\"\",VLOOKUP(D297,Gäste,8))","v":""},{"$f":"IF(VLOOKUP(E297,Gäste,8)=0,\"\",VLOOKUP(E297,Gäste,8))","v":""}]
[null,{"$f":"IF(VLOOKUP(B297,Gäste,9)=0,\"\",VLOOKUP(B297,Gäste,9))","v":""},{"$f":"IF(VLOOKUP(C297,Gäste,9)=0,\"\",VLOOKUP(C297,Gäste,9))","v":""},{"$f":"IF(VLOOKUP(D297,Gäste,9)=0,\"\",VLOOKUP(D297,Gäste,9))","v":""},{"$f":"IF(VLOOKUP(E297,Gäste,9)=0,\"\",VLOOKUP(E297,Gäste,9))","v":""}]
[null,193,194,195,196]
[null,{"$f":"IF(B300=\"\",\"\",IF($C$2=\"\",\"\",$C$2))","v":""},{"$f":"IF(C300=\"\",\"\",IF($C$2=\"\",\"\",$C$2))","v":""},{"$f":"IF(D300=\"\",\"\",IF($C$2=\"\",\"\",$C$2))","v":""},{"$f":"IF(E300=\"\",\"\",IF($C$2=\"\",\"\",$C$2))","v":""}]
[null,{"$f":"IF(VLOOKUP(B303,Gäste,6)=0,\"\",VLOOKUP(B303,Gäste,10))","v":""},{"$f":"IF(VLOOKUP(C303,Gäste,6)=0,\"\",VLOOKUP(C303,Gäste,10))","v":""},{"$f":"IF(VLOOKUP(D303,Gäste,6)=0,\"\",VLOOKUP(D303,Gäste,10))","v":""},{"$f":"IF(VLOOKUP(E303,Gäste,6)=0,\"\",VLOOKUP(E303,Gäste,10))","v":""}]
[null,{"$f":"IF(VLOOKUP(B303,Gäste,3)=0,\"\",IF(VLOOKUP(B303,Gäste,6)=0,VLOOKUP(B303,Gäste,10),VLOOKUP(B303,Gäste,11)))","v":""},{"$f":"IF(VLOOKUP(C303,Gäste,3)=0,\"\",IF(VLOOKUP(C303,Gäste,6)=0,VLOOKUP(C303,Gäste,10),VLOOKUP(C303,Gäste,11)))","v":""},{"$f":"IF(VLOOKUP(D303,Gäste,3)=0,\"\",IF(VLOOKUP(D303,Gäste,6)=0,VLOOKUP(D303,Gäste,10),VLOOKUP(D303,Gäste,11)))","v":""},{"$f":"IF(VLOOKUP(E303,Gäste,3)=0,\"\",IF(VLOOKUP(E303,Gäste,6)=0,VLOOKUP(E303,Gäste,10),VLOOKUP(E303,Gäste,11)))","v":""}]
[null,{"$f":"IF(VLOOKUP(B303,Gäste,8)=0,\"\",VLOOKUP(B303,Gäste,8))","v":""},{"$f":"IF(VLOOKUP(C303,Gäste,8)=0,\"\",VLOOKUP(C303,Gäste,8))","v":""},{"$f":"IF(VLOOKUP(D303,Gäste,8)=0,\"\",VLOOKUP(D303,Gäste,8))","v":""},{"$f":"IF(VLOOKUP(E303,Gäste,8)=0,\"\",VLOOKUP(E303,Gäste,8))","v":""}]
[null,{"$f":"IF(VLOOKUP(B303,Gäste,9)=0,\"\",VLOOKUP(B303,Gäste,9))","v":""},{"$f":"IF(VLOOKUP(C303,Gäste,9)=0,\"\",VLOOKUP(C303,Gäste,9))","v":""},{"$f":"IF(VLOOKUP(D303,Gäste,9)=0,\"\",VLOOKUP(D303,Gäste,9))","v":""},{"$f":"IF(VLOOKUP(E303,Gäste,9)=0,\"\",VLOOKUP(E303,Gäste,9))","v":""}]
["#10",197,198,199,200]

{"sheet":"Kostenteilung","index":3,"n_rows":213,"n_cols":33,"rows_kept":213,"cut":false,"hidden":false,"merged":[[16,2,16,3],[17,2,17,3],[18,2,18,3],[19,2,19,3],[25,2,25,3],[26,2,26,3],[27,2,27,3],[28,2,28,3],[29,2,29,3],[20,2,20,3],[21,2,21,3],[22,2,22,3],[23,2,23,3],[24,2,24,3],[35,2,35,3],[36,2,36,3],[37,2,37,3],[38,2,38,3],[39,2,39,3],[30,2,30,3],[31,2,31,3],[32,2,32,3],[33,2,33,3],[34,2,34,3],[45,2,45,3],[46,2,46,3],[47,2,47,3],[48,2,48,3],[49,2,49,3],[40,2,40,3],[41,2,41,3],[42,2,42,3],[43,2,43,3],[44,2,44,3],[55,2,55,3],[56,2,56,3],[57,2,57,3],[58,2,58,3],[59,2,59,3],[50,2,50,3],[51,2,51,3],[52,2,52,3],[53,2,53,3],[54,2,54,3],[65,2,65,3],[66,2,66,3],[67,2,67,3],[68,2,68,3],[69,2,69,3],[60,2,60,3],[61,2,61,3],[62,2,62,3],[63,2,63,3],[64,2,64,3],[75,2,75,3],[76,2,76,3],[77,2,77,3],[78,2,78,3],[79,2,79,3],[70,2,70,3],[71,2,71,3],[72,2,72,3],[73,2,73,3],[74,2,74,3],[85,2,85,3],[86,2,86,3],[87,2,87,3],[88,2,88,3],[89,2,89,3],[80,2,80,3],[81,2,81,3],[82,2,82,3],[83,2,83,3],[84,2,84,3],[95,2,95,3],[96,2,96,3],[97,2,97,3],[98,2,98,3],[99,2,99,3],[90,2,90,3],[91,2,91,3],[92,2,92,3],[93,2,93,3],[94,2,94,3],[105,2,105,3],[106,2,106,3],[107,2,107,3],[108,2,108,3],[109,2,109,3],[100,2,100,3],[101,2,101,3],[102,2,102,3],[103,2,103,3],[104,2,104,3],[115,2,115,3],[116,2,116,3],[117,2,117,3],[118,2,118,3],[119,2,119,3],[110,2,110,3],[111,2,111,3],[112,2,112,3],[113,2,113,3],[114,2,114,3],[125,2,125,3],[126,2,126,3],[127,2,127,3],[128,2,128,3],[129,2,129,3],[120,2,120,3],[121,2,121,3],[122,2,122,3],[123,2,123,3],[124,2,124,3],[135,2,135,3],[136,2,136,3],[137,2,137,3],[138,2,138,3],[139,2,139,3],[130,2,130,3],[131,2,131,3],[132,2,132,3],[133,2,133,3],[134,2,134,3],[145,2,145,3],[146,2,146,3],[147,2,147,3],[148,2,148,3],[149,2,149,3],[140,2,140,3],[141,2,141,3],[142,2,142,3],[143,2,143,3],[144,2,144,3],[155,2,155,3],[156,2,156,3],[157,2,157,3],[158,2,158,3],[159,2,159,3],[150,2,150,3],[151,2,151,3],[152,2,152,3],[153,2,153,3],[154,2,154,3],[165,2,165,3],[166,2,166,3],[167,2,167,3],[168,2,168,3],[169,2,169,3],[160,2,160,3],[161,2,161,3],[162,2,162,3],[163,2,163,3],[164,2,164,3],[175,2,175,3],[176,2,176,3],[177,2,177,3],[178,2,178,3],[179,2,179,3],[170,2,170,3],[171,2,171,3],[172,2,172,3],[173,2,173,3],[174,2,174,3],[185,2,185,3],[186,2,186,3],[187,2,187,3],[188,2,188,3],[189,2,189,3],[180,2,180,3],[181,2,181,3],[182,2,182,3],[183,2,183,3],[184,2,184,3],[195,2,195,3],[196,2,196,3],[197,2,197,3],[198,2,198,3],[199,2,199,3],[190,2,190,3],[191,2,191,3],[192,2,192,3],[193,2,193,3],[194,2,194,3],[210,2,210,3],[211,2,211,3],[212,2,212,3],[205,2,205,3],[206,2,206,3],[207,2,207,3],[208,2,208,3],[209,2,209,3],[200,2,200,3],[201,2,201,3],[202,2,202,3],[203,2,203,3],[204,2,204,3],[12,5,12,14],[3,1,4,3],[2,11,9,11],[2,12,9,12],[2,13,9,13],[2,14,9,14],[2,6,9,6],[2,7,9,7],[2,8,9,8],[2,9,9,9],[2,10,9,10],[10,32,12,32],[21,20,22,20],[21,17,22,17],[13,17,16,20],[10,22,10,31],[13,2,13,3],[14,2,14,3],[15,2,15,3],[1,22,1,31],[2,22,9,22],[2,23,9,23],[2,24,9,24],[2,25,9,25],[2,26,9,26],[2,27,9,27],[2,28,9,28],[2,29,9,29],[2,30,9,30],[2,31,9,31],[1,5,1,14],[2,5,9,5],[10,5,10,14],[11,1,12,3],[11,4,12,4]]}
[]
[null,"Kosten die auf mehrere Gastgeber verteilt werden",null,null,null,"Hier Gastgebernamen einsetzen | bis zu 10 möglich",null,null,null,null,null,null,null,null,null,null,null,null,null,null,null,null,"D E T A I L S :  Anteilige Kostenzuordnung auf die einzelnen Gastgeber"]
[null,"Ziel: Faire Kostenverteilung auf Basis der \"anteiligen\" Zusagen",null,null,null,null,null,null,null,null,null,null,null,null,null,null,null,null,null,null,null,null,{"$f":"IF(F3=\"\",\"\",F3)","v":""},"","","","","","","","",""]
[null,{"$f":"COUNTA(F3:O10)","v":0}]
[]
[null,"Betrag    ","Position","Verteilung"]
[null,null," Grundkosten","Zu gleichen Teilen"]
[null,null," Veranstaltung","Kosten pro Gast"]
[null,null," Veranstaltung","Kosten pauschal"]
[]
[null,"Zusage","Absage","Offen",null,"Summen der Zusagen pro Gastgeber",null,null,null,null,null,null,null,null,null,null,null,null,null,null,null,null,"Prozentualer Anteil an den gästeabhängigen/variablen Kosten",null,null,null,null,null,null,null,null,null,{"$f":"SUM(W13:AF13)","v":0}]
[null,"Namen der Gäste / des Gastes",null,null,"Zusage",{"$f":"IF(F3=\"\",\"\",COUNTA(F14:F213))","v":""},{"$f":"IF(G3=\"\",\"\",COUNTA(G14:G213))","v":""},"","","","","","","","",null,null,null,null,null,null,null,{"$f":"W13/$AG$11","v":{"$error":"#DIV/0!"}},{"$error":"#DIV/0!"},{"$error":"#DIV/0!"},{"$error":"#DIV/0!"},{"$error":"#DIV/0!"},{"$error":"#DIV/0!"},{"$error":"#DIV/0!"},{"$error":"#DIV/0!"},{"$error":"#DIV/0!"},{"$error":"#DIV/0!"}]
[null,null,null,null,null,"Nachstehend die eigenen Gäste mit \"X\" markieren",null,null,null,null,null,null,null,null,null,null,null,null,null,null,null,null,{"$f":"SUM(W14:W213)","v":0},{"$f":"SUM(X14:X213)","v":0},0,0,0,0,0,0,0,0]
[1,{"$f":"IF('Adressen | Druck'!T4>0,1,IF('Adressen | Druck'!U4>0,2,\"\"))","v":""},{"$f":"IF('Adressen | Druck'!K4=0,\"\",'Adressen | Druck'!R4&\" \"&'Adressen | Druck'!S4)","v":""},null,{"$f":"IF(VLOOKUP(A14,Gäste,12)=0,\"\",VLOOKUP(A14,Gäste,12))","v":""},null,null,null,null,null,null,null,null,null,null,{"$f":"COUNTA(F14:O14)","v":0},null,"Kostenaufteilung\nBasis: Zusagen",null,null,null,null,{"$f":"IF($E14=\"\",0,IF(F14<>\"\",$E14/$P14,\"\"))","v":0},{"$f":"IF($E14=\"\",0,IF(G14<>\"\",$E14/$P14,\"\"))","v":0},{"$f":"IF($E14=\"\",0,IF(H14<>\"\",$E14/$P14,\"\"))","v":0},{"$f":"IF($E14=\"\",0,IF(I14<>\"\",$E14/$P14,\"\"))","v":0},{"$f":"IF($E14=\"\",0,IF(J14<>\"\",$E14/$P14,\"\"))","v":0},{"$f":"IF($E14=\"\",0,IF(K14<>\"\",$E14/$P14,\"\"))","v":0},{"$f":"IF($E14=\"\",0,IF(L14<>\"\",$E14/$P14,\"\"))","v":0},{"$f":"IF($E14=\"\",0,IF(M14<>\"\",$E14/$P14,\"\"))","v":0},{"$f":"IF($E14=\"\",0,IF(N14<>\"\",$E14/$P14,\"\"))","v":0},{"$f":"IF($E14=\"\",0,IF(O14<>\"\",$E14/$P14,\"\"))","v":0}]
[2,{"$f":"IF('Adressen | Druck'!T5>0,1,IF('Adressen | Druck'!U5>0,2,\"\"))","v":""},{"$f":"IF('Adressen | Druck'!K5=0,\"\",'Adressen | Druck'!R5&\" \"&'Adressen | Druck'!S5)","v":""},null,"",null,null,null,null,null,null,null,null,null,null,{"$f":"COUNTA(F15:O15)","v":0},null,null,null,null,null,null,0,0,0,0,0,0,0,0,0,0]
[3,{"$f":"IF('Adressen | Druck'!T6>0,1,IF('Adressen | Druck'!U6>0,2,\"\"))","v":""},{"$f":"IF('Adressen | Druck'!K6=0,\"\",'Adressen | Druck'!R6&\" \"&'Adressen | Druck'!S6)","v":""},null,"",null,null,null,null,null,null,null,null,null,null,0,null,null,null,null,null,null,0,0,0,0,0,0,0,0,0,0]
[4,{"$f":"IF('Adressen | Druck'!T7>0,1,IF('Adressen | Druck'!U7>0,2,\"\"))","v":""},{"$f":"IF('Adressen | Druck'!K7=0,\"\",'Adressen | Druck'!R7&\" \"&'Adressen | Druck'!S7)","v":""},null,"",null,null,null,null,null,null,null,null,null,null,0,null,null,null,null,null,null,0,0,0,0,0,0,0,0,0,0]
[5,{"$f":"IF('Adressen | Druck'!T8>0,1,IF('Adressen | Druck'!U8>0,2,\"\"))","v":""},{"$f":"IF('Adressen | Druck'!K8=0,\"\",'Adressen | Druck'!R8&\" \"&'Adressen | Druck'!S8)","v":""},null,"",null,null,null,null,null,null,null,null,null,null,0,null,null,null,null,null,null,0,0,0,0,0,0,0,0,0,0]
[6,{"$f":"IF('Adressen | Druck'!T9>0,1,IF('Adressen | Druck'!U9>0,2,\"\"))","v":""},{"$f":"IF('Adressen | Druck'!K9=0,\"\",'Adressen | Druck'!R9&\" \"&'Adressen | Druck'!S9)","v":""},null,"",null,null,null,null,null,null,null,null,null,null,0,null,null,null,null,null,null,0,0,0,0,0,0,0,0,0,0]
[7,{"$f":"IF('Adressen | Druck'!T10>0,1,IF('Adressen | Druck'!U10>0,2,\"\"))","v":""},{"$f":"IF('Adressen | Druck'!K10=0,\"\",'Adressen | Druck'!R10&\" \"&'Adressen | Druck'!S10)","v":""},null,"",null,null,null,null,null,null,null,null,null,null,0,null,null,null,null,null,null,0,0,0,0,0,0,0,0,0,0]
[8,{"$f":"IF('Adressen | Druck'!T11>0,1,IF('Adressen | Druck'!U11>0,2,\"\"))","v":""},{"$f":"IF('Adressen | Druck'!K11=0,\"\",'Adressen | Druck'!R11&\" \"&'Adressen | Druck'!S11)","v":""},null,"",null,null,null,null,null,null,null,null,null,null,0,null,null,null,null,null,null,0,0,0,0,0,0,0,0,0,0]
[9,{"$f":"IF('Adressen | Druck'!T12>0,1,IF('Adressen | Druck'!U12>0,2,\"\"))","v":""},{"$f":"IF('Adressen | Druck'!K12=0,\"\",'Adressen | Druck'!R12&\" \"&'Adressen | Druck'!S12)","v":""},null,"",null,null,null,null,null,null,null,null,null,null,0,null,"Gastgeber","Grund-","Anteilige","Gesamt",null,0,0,0,0,0,0,0,0,0,0]
[10,{"$f":"IF('Adressen | Druck'!T13>0,1,IF('Adressen | Druck'!U13>0,2,\"\"))","v":""},{"$f":"IF('Adressen | Druck'!K13=0,\"\",'Adressen | Druck'!R13&\" \"&'Adressen | Druck'!S13)","v":""},null,"",null,null,null,null,null,null,null,null,null,null,0,null,null,"kosten","Kosten",null,null,0,0,0,0,0,0,0,0,0,0]
[11,{"$f":"IF('Adressen | Druck'!T14>0,1,IF('Adressen | Druck'!U14>0,2,\"\"))","v":""},{"$f":"IF('Adressen | Druck'!K14=0,\"\",'Adressen | Druck'!R14&\" \"&'Adressen | Druck'!S14)","v":""},null,"",null,null,null,null,null,null,null,null,null,null,0,null,{"$f":"IF(F3=\"\",\"\",F3)","v":""},{"$f":"IF(R24=\"\",0,$B$7/$B$4)","v":0},{"$f":"($B$8*W13)+($B$9*W12)","v":{"$error":"#DIV/0!"}},{"$f":"S24+T24","v":{"$error":"#DIV/0!"}},null,0,0,0,0,0,0,0,0,0,0]
[12,{"$f":"IF('Adressen | Druck'!T15>0,1,IF('Adressen | Druck'!U15>0,2,\"\"))","v":""},{"$f":"IF('Adressen | Druck'!K15=0,\"\",'Adressen | Druck'!R15&\" \"&'Adressen | Druck'!S15)","v":""},null,"",null,null,null,null,null,null,null,null,null,null,0,null,{"$f":"IF(G3=\"\",\"\",G3)","v":""},{"$f":"IF(R25=\"\",0,$B$7/$B$4)","v":0},{"$f":"($B$8*X13)+($B$9*X12)","v":{"$error":"#DIV/0!"}},{"$error":"#DIV/0!"},null,0,0,0,0,0,0,0,0,0,0]
[13,{"$f":"IF('Adressen | Druck'!T16>0,1,IF('Adressen | Druck'!U16>0,2,\"\"))","v":""},{"$f":"IF('Adressen | Druck'!K16=0,\"\",'Adressen | Druck'!R16&\" \"&'Adressen | Druck'!S16)","v":""},null,"",null,null,null,null,null,null,null,null,null,null,0,null,{"$f":"IF(H3=\"\",\"\",H3)","v":""},0,{"$f":"($B$8*Y13)+($B$9*Y12)","v":{"$error":"#DIV/0!"}},{"$error":"#DIV/0!"},null,0,0,0,0,0,0,0,0,0,0]
[14,{"$f":"IF('Adressen | Druck'!T17>0,1,IF('Adressen | Druck'!U17>0,2,\"\"))","v":""},{"$f":"IF('Adressen | Druck'!K17=0,\"\",'Adressen | Druck'!R17&\" \"&'Adressen | Druck'!S17)","v":""},null,"",null,null,null,null,null,null,null,null,null,null,0,null,{"$f":"IF(I3=\"\",\"\",I3)","v":""},0,{"$f":"($B$8*Z13)+($B$9*Z12)","v":{"$error":"#DIV/0!"}},{"$error":"#DIV/0!"},null,0,0,0,0,0,0,0,0,0,0]
[15,{"$f":"IF('Adressen | Druck'!T18>0,1,IF('Adressen | Druck'!U18>0,2,\"\"))","v":""},{"$f":"IF('Adressen | Druck'!K18=0,\"\",'Adressen | Druck'!R18&\" \"&'Adressen | Druck'!S18)","v":""},null,"",null,null,null,null,null,null,null,null,null,null,0,null,{"$f":"IF(J3=\"\",\"\",J3)","v":""},0,{"$f":"($B$8*AA13)+($B$9*AA12)","v":{"$error":"#DIV/0!"}},{"$error":"#DIV/0!"},null,0,0,0,0,0,0,0,0,0,0]
[16,{"$f":"IF('Adressen | Druck'!T19>0,1,IF('Adressen | Druck'!U19>0,2,\"\"))","v":""},{"$f":"IF('Adressen | Druck'!K19=0,\"\",'Adressen | Druck'!R19&\" \"&'Adressen | Druck'!S19)","v":""},null,"",null,null,null,null,null,null,null,null,null,null,0,null,{"$f":"IF(K3=\"\",\"\",K3)","v":""},0,{"$f":"($B$8*AB13)+($B$9*AB12)","v":{"$error":"#DIV/0!"}},{"$error":"#DIV/0!"},null,0,0,0,0,0,0,0,0,0,0]
[17,{"$f":"IF('Adressen | Druck'!T20>0,1,IF('Adressen | Druck'!U20>0,2,\"\"))","v":""},{"$f":"IF('Adressen | Druck'!K20=0,\"\",'Adressen | Druck'!R20&\" \"&'Adressen | Druck'!S20)","v":""},null,"",null,null,null,null,null,null,null,null,null,null,0,null,{"$f":"IF(L3=\"\",\"\",L3)","v":""},0,{"$f":"($B$8*AC13)+($B$9*AC12)","v":{"$error":"#DIV/0!"}},{"$error":"#DIV/0!"},null,0,0,0,0,0,0,0,0,0,0]
[18,{"$f":"IF('Adressen | Druck'!T21>0,1,IF('Adressen | Druck'!U21>0,2,\"\"))","v":""},{"$f":"IF('Adressen | Druck'!K21=0,\"\",'Adressen | Druck'!R21&\" \"&'Adressen | Druck'!S21)","v":""},null,"",null,null,null,null,null,null,null,null,null,null,0,null,{"$f":"IF(M3=\"\",\"\",M3)","v":""},0,{"$f":"($B$8*AD13)+($B$9*AD12)","v":{"$error":"#DIV/0!"}},{"$error":"#DIV/0!"},null,0,0,0,0,0,0,0,0,0,0]
[19,{"$f":"IF('Adressen | Druck'!T22>0,1,IF('Adressen | Druck'!U22>0,2,\"\"))","v":""},{"$f":"IF('Adressen | Druck'!K22=0,\"\",'Adressen | Druck'!R22&\" \"&'Adressen | Druck'!S22)","v":""},null,"",null,null,null,null,null,null,null,null,null,null,0,null,{"$f":"IF(N3=\"\",\"\",N3)","v":""},0,{"$f":"($B$8*AE13)+($B$9*AE12)","v":{"$error":"#DIV/0!"}},{"$error":"#DIV/0!"},null,0,0,0,0,0,0,0,0,0,0]
[20,{"$f":"IF('Adressen | Druck'!T23>0,1,IF('Adressen | Druck'!U23>0,2,\"\"))","v":""},{"$f":"IF('Adressen | Druck'!K23=0,\"\",'Adressen | Druck'!R23&\" \"&'Adressen | Druck'!S23)","v":""},null,"",null,null,null,null,null,null,null,null,null,null,0,null,{"$f":"IF(O3=\"\",\"\",O3)","v":""},0,{"$f":"($B$8*AF13)+($B$9*AF12)","v":{"$error":"#DIV/0!"}},{"$error":"#DIV/0!"},null,0,0,0,0,0,0,0,0,0,0]
[21,{"$f":"IF('Adressen | Druck'!T24>0,1,IF('Adressen | Druck'!U24>0,2,\"\"))","v":""},{"$f":"IF('Adressen | Druck'!K24=0,\"\",'Adressen | Druck'!R24&\" \"&'Adressen | Druck'!S24)","v":""},null,"",null,null,null,null,null,null,null,null,null,null,0,null,"Summen",{"$f":"SUM(S24:S33)","v":0},{"$f":"SUM(T24:T33)","v":{"$error":"#DIV/0!"}},{"$error":"#DIV/0!"},null,0,0,0,0,0,0,0,0,0,0]
[22,{"$f":"IF('Adressen | Druck'!T25>0,1,IF('Adressen | Druck'!U25>0,2,\"\"))","v":""},{"$f":"IF('Adressen | Druck'!K25=0,\"\",'Adressen | Druck'!R25&\" \"&'Adressen | Druck'!S25)","v":""},null,"",null,null,null,null,null,null,null,null,null,null,0,null,null,null,null,null,null,0,0,0,0,0,0,0,0,0,0]
[23,{"$f":"IF('Adressen | Druck'!T26>0,1,IF('Adressen | Druck'!U26>0,2,\"\"))","v":""},{"$f":"IF('Adressen | Druck'!K26=0,\"\",'Adressen | Druck'!R26&\" \"&'Adressen | Druck'!S26)","v":""},null,"",null,null,null,null,null,null,null,null,null,null,0,null,null,null,null,null,null,0,0,0,0,0,0,0,0,0,0]
[24,{"$f":"IF('Adressen | Druck'!T27>0,1,IF('Adressen | Druck'!U27>0,2,\"\"))","v":""},{"$f":"IF('Adressen | Druck'!K27=0,\"\",'Adressen | Druck'!R27&\" \"&'Adressen | Druck'!S27)","v":""},null,"",null,null,null,null,null,null,null,null,null,null,0,null,null,null,null,null,null,0,0,0,0,0,0,0,0,0,0]
[25,{"$f":"IF('Adressen | Druck'!T28>0,1,IF('Adressen | Druck'!U28>0,2,\"\"))","v":""},{"$f":"IF('Adressen | Druck'!K28=0,\"\",'Adressen | Druck'!R28&\" \"&'Adressen | Druck'!S28)","v":""},null,"",null,null,null,null,null,null,null,null,null,null,0,null,null,null,null,null,null,0,0,0,0,0,0,0,0,0,0]
[26,{"$f":"IF('Adressen | Druck'!T29>0,1,IF('Adressen | Druck'!U29>0,2,\"\"))","v":""},{"$f":"IF('Adressen | Druck'!K29=0,\"\",'Adressen | Druck'!R29&\" \"&'Adressen | Druck'!S29)","v":""},null,"",null,null,null,null,null,null,null,null,null,null,0,null,null,null,null,null,null,0,0,0,0,0,0,0,0,0,0]
[27,{"$f":"IF('Adressen | Druck'!T30>0,1,IF('Adressen | Druck'!U30>0,2,\"\"))","v":""},{"$f":"IF('Adressen | Druck'!K30=0,\"\",'Adressen | Druck'!R30&\" \"&'Adressen | Druck'!S30)","v":""},null,"",null,null,null,null,null,null,null,null,null,null,0,null,null,null,null,null,null,0,0,0,0,0,0,0,0,0,0]
[28,{"$f":"IF('Adressen | Druck'!T31>0,1,IF('Adressen | Druck'!U31>0,2,\"\"))","v":""},{"$f":"IF('Adressen | Druck'!K31=0,\"\",'Adressen | Druck'!R31&\" \"&'Adressen | Druck'!S31)","v":""},null,"",null,null,null,null,null,null,null,null,null,null,0,null,null,null,null,null,null,0,0,0,0,0,0,0,0,0,0]
[29,{"$f":"IF('Adressen | Druck'!T32>0,1,IF('Adressen | Druck'!U32>0,2,\"\"))","v":""},{"$f":"IF('Adressen | Druck'!K32=0,\"\",'Adressen | Druck'!R32&\" \"&'Adressen | Druck'!S32)","v":""},null,"",null,null,null,null,null,null,null,null,null,null,0,null,null,null,null,null,null,0,0,0,0,0,0,0,0,0,0]
[30,{"$f":"IF('Adressen | Druck'!T33>0,1,IF('Adressen | Druck'!U33>0,2,\"\"))","v":""},{"$f":"IF('Adressen | Druck'!K33=0,\"\",'Adressen | Druck'!R33&\" \"&'Adressen | Druck'!S33)","v":""},null,"",null,null,null,null,null,null,null,null,null,null,0,null,null,null,null,null,null,0,0,0,0,0,0,0,0,0,0]
[31,{"$f":"IF('Adressen | Druck'!T34>0,1,IF('Adressen | Druck'!U34>0,2,\"\"))","v":""},{"$f":"IF('Adressen | Druck'!K34=0,\"\",'Adressen | Druck'!R34&\" \"&'Adressen | Druck'!S34)","v":""},null,"",null,null,null,null,null,null,null,null,null,null,0,null,null,null,null,null,null,0,0,0,0,0,0,0,0,0,0]
[32,{"$f":"IF('Adressen | Druck'!T35>0,1,IF('Adressen | Druck'!U35>0,2,\"\"))","v":""},{"$f":"IF('Adressen | Druck'!K35=0,\"\",'Adressen | Druck'!R35&\" \"&'Adressen | Druck'!S35)","v":""},null,"",null,null,null,null,null,null,null,null,null,null,0,null,null,null,null,null,null,0,0,0,0,0,0,0,0,0,0]
[33,{"$f":"IF('Adressen | Druck'!T36>0,1,IF('Adressen | Druck'!U36>0,2,\"\"))","v":""},{"$f":"IF('Adressen | Druck'!K36=0,\"\",'Adressen | Druck'!R36&\" \"&'Adressen | Druck'!S36)","v":""},null,{"$f":"IF(VLOOKUP(A46,Gäste,12)=0,\"\",VLOOKUP(A46,Gäste,12))","v":""},null,null,null,null,null,null,null,null,null,null,0,null,null,null,null,null,null,{"$f":"IF($E46=\"\",0,IF(F46<>\"\",$E46/$P46,\"\"))","v":0},{"$f":"IF($E46=\"\",0,IF(G46<>\"\",$E46/$P46,\"\"))","v":0},{"$f":"IF($E46=\"\",0,IF(H46<>\"\",$E46/$P46,\"\"))","v":0},{"$f":"IF($E46=\"\",0,IF(I46<>\"\",$E46/$P46,\"\"))","v":0},{"$f":"IF($E46=\"\",0,IF(J46<>\"\",$E46/$P46,\"\"))","v":0},{"$f":"IF($E46=\"\",0,IF(K46<>\"\",$E46/$P46,\"\"))","v":0},{"$f":"IF($E46=\"\",0,IF(L46<>\"\",$E46/$P46,\"\"))","v":0},{"$f":"IF($E46=\"\",0,IF(M46<>\"\",$E46/$P46,\"\"))","v":0},{"$f":"IF($E46=\"\",0,IF(N46<>\"\",$E46/$P46,\"\"))","v":0},{"$f":"IF($E46=\"\",0,IF(O46<>\"\",$E46/$P46,\"\"))","v":0}]
[34,{"$f":"IF('Adressen | Druck'!T37>0,1,IF('Adressen | Druck'!U37>0,2,\"\"))","v":""},{"$f":"IF('Adressen | Druck'!K37=0,\"\",'Adressen | Druck'!R37&\" \"&'Adressen | Druck'!S37)","v":""},null,"",null,null,null,null,null,null,null,null,null,null,0,null,null,null,null,null,null,0,0,0,0,0,0,0,0,0,0]
[35,{"$f":"IF('Adressen | Druck'!T38>0,1,IF('Adressen | Druck'!U38>0,2,\"\"))","v":""},{"$f":"IF('Adressen | Druck'!K38=0,\"\",'Adressen | Druck'!R38&\" \"&'Adressen | Druck'!S38)","v":""},null,"",null,null,null,null,null,null,null,null,null,null,0,null,null,null,null,null,null,0,0,0,0,0,0,0,0,0,0]
[36,{"$f":"IF('Adressen | Druck'!T39>0,1,IF('Adressen | Druck'!U39>0,2,\"\"))","v":""},{"$f":"IF('Adressen | Druck'!K39=0,\"\",'Adressen | Druck'!R39&\" \"&'Adressen | Druck'!S39)","v":""},null,"",null,null,null,null,null,null,null,null,null,null,0,null,null,null,null,null,null,0,0,0,0,0,0,0,0,0,0]
[37,{"$f":"IF('Adressen | Druck'!T40>0,1,IF('Adressen | Druck'!U40>0,2,\"\"))","v":""},{"$f":"IF('Adressen | Druck'!K40=0,\"\",'Adressen | Druck'!R40&\" \"&'Adressen | Druck'!S40)","v":""},null,"",null,null,null,null,null,null,null,null,null,null,0,null,null,null,null,null,null,0,0,0,0,0,0,0,0,0,0]
[38,{"$f":"IF('Adressen | Druck'!T41>0,1,IF('Adressen | Druck'!U41>0,2,\"\"))","v":""},{"$f":"IF('Adressen | Druck'!K41=0,\"\",'Adressen | Druck'!R41&\" \"&'Adressen | Druck'!S41)","v":""},null,"",null,null,null,null,null,null,null,null,null,null,0,null,null,null,null,null,null,0,0,0,0,0,0,0,0,0,0]
[39,{"$f":"IF('Adressen | Druck'!T42>0,1,IF('Adressen | Druck'!U42>0,2,\"\"))","v":""},{"$f":"IF('Adressen | Druck'!K42=0,\"\",'Adressen | Druck'!R42&\" \"&'Adressen | Druck'!S42)","v":""},null,"",null,null,null,null,null,null,null,null,null,null,0,null,null,null,null,null,null,0,0,0,0,0,0,0,0,0,0]
[40,{"$f":"IF('Adressen | Druck'!T43>0,1,IF('Adressen | Druck'!U43>0,2,\"\"))","v":""},{"$f":"IF('Adressen | Druck'!K43=0,\"\",'Adressen | Druck'!R43&\" \"&'Adressen | Druck'!S43)","v":""},null,"",null,null,null,null,null,null,null,null,null,null,0,null,null,null,null,null,null,0,0,0,0,0,0,0,0,0,0]
[41,{"$f":"IF('Adressen | Druck'!T44>0,1,IF('Adressen | Druck'!U44>0,2,\"\"))","v":""},{"$f":"IF('Adressen | Druck'!K44=0,\"\",'Adressen | Druck'!R44&\" \"&'Adressen | Druck'!S44)","v":""},null,"",null,null,null,null,null,null,null,null,null,null,0,null,null,null,null,null,null,0,0,0,0,0,0,0,0,0,0]
[42,{"$f":"IF('Adressen | Druck'!T45>0,1,IF('Adressen | Druck'!U45>0,2,\"\"))","v":""},{"$f":"IF('Adressen | Druck'!K45=0,\"\",'Adressen | Druck'!R45&\" \"&'Adressen | Druck'!S45)","v":""},null,"",null,null,null,null,null,null,null,null,null,null,0,null,null,null,null,null,null,0,0,0,0,0,0,0,0,0,0]
[43,{"$f":"IF('Adressen | Druck'!T46>0,1,IF('Adressen | Druck'!U46>0,2,\"\"))","v":""},{"$f":"IF('Adressen | Druck'!K46=0,\"\",'Adressen | Druck'!R46&\" \"&'Adressen | Druck'!S46)","v":""},null,"",null,null,null,null,null,null,null,null,null,null,0,null,null,null,null,null,null,0,0,0,0,0,0,0,0,0,0]
[44,{"$f":"IF('Adressen | Druck'!T47>0,1,IF('Adressen | Druck'!U47>0,2,\"\"))","v":""},{"$f":"IF('Adressen | Druck'!K47=0,\"\",'Adressen | Druck'!R47&\" \"&'Adressen | Druck'!S47)","v":""},null,"",null,null,null,null,null,null,null,null,null,null,0,null,null,null,null,null,null,0,0,0,0,0,0,0,0,0,0]
[45,{"$f":"IF('Adressen | Druck'!T48>0,1,IF('Adressen | Druck'!U48>0,2,\"\"))","v":""},{"$f":"IF('Adressen | Druck'!K48=0,\"\",'Adressen | Druck'!R48&\" \"&'Adressen | Druck'!S48)","v":""},null,"",null,null,null,null,null,null,null,null,null,null,0,null,null,null,null,null,null,0,0,0,0,0,0,0,0,0,0]
[46,{"$f":"IF('Adressen | Druck'!T49>0,1,IF('Adressen | Druck'!U49>0,2,\"\"))","v":""},{"$f":"IF('Adressen | Druck'!K49=0,\"\",'Adressen | Druck'!R49&\" \"&'Adressen | Druck'!S49)","v":""},null,"",null,null,null,null,null,null,null,null,null,null,0,null,null,null,null,null,null,0,0,0,0,0,0,0,0,0,0]
[47,{"$f":"IF('Adressen | Druck'!T50>0,1,IF('Adressen | Druck'!U50>0,2,\"\"))","v":""},{"$f":"IF('Adressen | Druck'!K50=0,\"\",'Adressen | Druck'!R50&\" \"&'Adressen | Druck'!S50)","v":""},null,"",null,null,null,null,null,null,null,null,null,null,0,null,null,null,null,null,null,0,0,0,0,0,0,0,0,0,0]
[48,{"$f":"IF('Adressen | Druck'!T51>0,1,IF('Adressen | Druck'!U51>0,2,\"\"))","v":""},{"$f":"IF('Adressen | Druck'!K51=0,\"\",'Adressen | Druck'!R51&\" \"&'Adressen | Druck'!S51)","v":""},null,"",null,null,null,null,null,null,null,null,null,null,0,null,null,null,null,null,null,0,0,0,0,0,0,0,0,0,0]
[49,{"$f":"IF('Adressen | Druck'!T52>0,1,IF('Adressen | Druck'!U52>0,2,\"\"))","v":""},{"$f":"IF('Adressen | Druck'!K52=0,\"\",'Adressen | Druck'!R52&\" \"&'Adressen | Druck'!S52)","v":""},null,"",null,null,null,null,null,null,null,null,null,null,0,null,null,null,null,null,null,0,0,0,0,0,0,0,0,0,0]
[50,{"$f":"IF('Adressen | Druck'!T53>0,1,IF('Adressen | Druck'!U53>0,2,\"\"))","v":""},{"$f":"IF('Adressen | Druck'!K53=0,\"\",'Adressen | Druck'!R53&\" \"&'Adressen | Druck'!S53)","v":""},null,"",null,null,null,null,null,null,null,null,null,null,0,null,null,null,null,null,null,0,0,0,0,0,0,0,0,0,0]
[51,{"$f":"IF('Adressen | Druck'!T54>0,1,IF('Adressen | Druck'!U54>0,2,\"\"))","v":""},{"$f":"IF('Adressen | Druck'!K54=0,\"\",'Adressen | Druck'!R54&\" \"&'Adressen | Druck'!S54)","v":""},null,"",null,null,null,null,null,null,null,null,null,null,0,null,null,null,null,null,null,0,0,0,0,0,0,0,0,0,0]
[52,{"$f":"IF('Adressen | Druck'!T55>0,1,IF('Adressen | Druck'!U55>0,2,\"\"))","v":""},{"$f":"IF('Adressen | Druck'!K55=0,\"\",'Adressen | Druck'!R55&\" \"&'Adressen | Druck'!S55)","v":""},null,"",null,null,null,null,null,null,null,null,null,null,0,null,null,null,null,null,null,0,0,0,0,0,0,0,0,0,0]
[53,{"$f":"IF('Adressen | Druck'!T56>0,1,IF('Adressen | Druck'!U56>0,2,\"\"))","v":""},{"$f":"IF('Adressen | Druck'!K56=0,\"\",'Adressen | Druck'!R56&\" \"&'Adressen | Druck'!S56)","v":""},null,"",null,null,null,null,null,null,null,null,null,null,0,null,null,null,null,null,null,0,0,0,0,0,0,0,0,0,0]
[54,{"$f":"IF('Adressen | Druck'!T57>0,1,IF('Adressen | Druck'!U57>0,2,\"\"))","v":""},{"$f":"IF('Adressen | Druck'!K57=0,\"\",'Adressen | Druck'!R57&\" \"&'Adressen | Druck'!S57)","v":""},null,"",null,null,null,null,null,null,null,null,null,null,0,null,null,null,null,null,null,0,0,0,0,0,0,0,0,0,0]
[55,{"$f":"IF('Adressen | Druck'!T58>0,1,IF('Adressen | Druck'!U58>0,2,\"\"))","v":""},{"$f":"IF('Adressen | Druck'!K58=0,\"\",'Adressen | Druck'!R58&\" \"&'Adressen | Druck'!S58)","v":""},null,"",null,null,null,null,null,null,null,null,null,null,0,null,null,null,null,null,null,0,0,0,0,0,0,0,0,0,0]
[56,{"$f":"IF('Adressen | Druck'!T59>0,1,IF('Adressen | Druck'!U59>0,2,\"\"))","v":""},{"$f":"IF('Adressen | Druck'!K59=0,\"\",'Adressen | Druck'!R59&\" \"&'Adressen | Druck'!S59)","v":""},null,"",null,null,null,null,null,null,null,null,null,null,0,null,null,null,null,null,null,0,0,0,0,0,0,0,0,0,0]
[57,{"$f":"IF('Adressen | Druck'!T60>0,1,IF('Adressen | Druck'!U60>0,2,\"\"))","v":""},{"$f":"IF('Adressen | Druck'!K60=0,\"\",'Adressen | Druck'!R60&\" \"&'Adressen | Druck'!S60)","v":""},null,"",null,null,null,null,null,null,null,null,null,null,0,null,null,null,null,null,null,0,0,0,0,0,0,0,0,0,0]
[58,{"$f":"IF('Adressen | Druck'!T61>0,1,IF('Adressen | Druck'!U61>0,2,\"\"))","v":""},{"$f":"IF('Adressen | Druck'!K61=0,\"\",'Adressen | Druck'!R61&\" \"&'Adressen | Druck'!S61)","v":""},null,"",null,null,null,null,null,null,null,null,null,null,0,null,null,null,null,null,null,0,0,0,0,0,0,0,0,0,0]
[59,{"$f":"IF('Adressen | Druck'!T62>0,1,IF('Adressen | Druck'!U62>0,2,\"\"))","v":""},{"$f":"IF('Adressen | Druck'!K62=0,\"\",'Adressen | Druck'!R62&\" \"&'Adressen | Druck'!S62)","v":""},null,"",null,null,null,null,null,null,null,null,null,null,0,null,null,null,null,null,null,0,0,0,0,0,0,0,0,0,0]
[60,{"$f":"IF('Adressen | Druck'!T63>0,1,IF('Adressen | Druck'!U63>0,2,\"\"))","v":""},{"$f":"IF('Adressen | Druck'!K63=0,\"\",'Adressen | Druck'!R63&\" \"&'Adressen | Druck'!S63)","v":""},null,"",null,null,null,null,null,null,null,null,null,null,0,null,null,null,null,null,null,0,0,0,0,0,0,0,0,0,0]
[61,{"$f":"IF('Adressen | Druck'!T64>0,1,IF('Adressen | Druck'!U64>0,2,\"\"))","v":""},{"$f":"IF('Adressen | Druck'!K64=0,\"\",'Adressen | Druck'!R64&\" \"&'Adressen | Druck'!S64)","v":""},null,"",null,null,null,null,null,null,null,null,null,null,0,null,null,null,null,null,null,0,0,0,0,0,0,0,0,0,0]
[62,{"$f":"IF('Adressen | Druck'!T65>0,1,IF('Adressen | Druck'!U65>0,2,\"\"))","v":""},{"$f":"IF('Adressen | Druck'!K65=0,\"\",'Adressen | Druck'!R65&\" \"&'Adressen | Druck'!S65)","v":""},null,"",null,null,null,null,null,null,null,null,null,null,0,null,null,null,null,null,null,0,0,0,0,0,0,0,0,0,0]
[63,{"$f":"IF('Adressen | Druck'!T66>0,1,IF('Adressen | Druck'!U66>0,2,\"\"))","v":""},{"$f":"IF('Adressen | Druck'!K66=0,\"\",'Adressen | Druck'!R66&\" \"&'Adressen | Druck'!S66)","v":""},null,"",null,null,null,null,null,null,null,null,null,null,0,null,null,null,null,null,null,0,0,0,0,0,0,0,0,0,0]
[64,{"$f":"IF('Adressen | Druck'!T67>0,1,IF('Adressen | Druck'!U67>0,2,\"\"))","v":""},{"$f":"IF('Adressen | Druck'!K67=0,\"\",'Adressen | Druck'!R67&\" \"&'Adressen | Druck'!S67)","v":""},null,"",null,null,null,null,null,null,null,null,null,null,0,null,null,null,null,null,null,0,0,0,0,0,0,0,0,0,0]
[65,{"$f":"IF('Adressen | Druck'!T68>0,1,IF('Adressen | Druck'!U68>0,2,\"\"))","v":""},{"$f":"IF('Adressen | Druck'!K68=0,\"\",'Adressen | Druck'!R68&\" \"&'Adressen | Druck'!S68)","v":""},null,{"$f":"IF(VLOOKUP(A78,Gäste,12)=0,\"\",VLOOKUP(A78,Gäste,12))","v":""},null,null,null,null,null,null,null,null,null,null,0,null,null,null,null,null,null,{"$f":"IF($E78=\"\",0,IF(F78<>\"\",$E78/$P78,\"\"))","v":0},{"$f":"IF($E78=\"\",0,IF(G78<>\"\",$E78/$P78,\"\"))","v":0},{"$f":"IF($E78=\"\",0,IF(H78<>\"\",$E78/$P78,\"\"))","v":0},{"$f":"IF($E78=\"\",0,IF(I78<>\"\",$E78/$P78,\"\"))","v":0},{"$f":"IF($E78=\"\",0,IF(J78<>\"\",$E78/$P78,\"\"))","v":0},{"$f":"IF($E78=\"\",0,IF(K78<>\"\",$E78/$P78,\"\"))","v":0},{"$f":"IF($E78=\"\",0,IF(L78<>\"\",$E78/$P78,\"\"))","v":0},{"$f":"IF($E78=\"\",0,IF(M78<>\"\",$E78/$P78,\"\"))","v":0},{"$f":"IF($E78=\"\",0,IF(N78<>\"\",$E78/$P78,\"\"))","v":0},{"$f":"IF($E78=\"\",0,IF(O78<>\"\",$E78/$P78,\"\"))","v":0}]
[66,{"$f":"IF('Adressen | Druck'!T69>0,1,IF('Adressen | Druck'!U69>0,2,\"\"))","v":""},{"$f":"IF('Adressen | Druck'!K69=0,\"\",'Adressen | Druck'!R69&\" \"&'Adressen | Druck'!S69)","v":""},null,"",null,null,null,null,null,null,null,null,null,null,{"$f":"COUNTA(F79:O79)","v":0},null,null,null,null,null,null,0,0,0,0,0,0,0,0,0,0]
[67,{"$f":"IF('Adressen | Druck'!T70>0,1,IF('Adressen | Druck'!U70>0,2,\"\"))","v":""},{"$f":"IF('Adressen | Druck'!K70=0,\"\",'Adressen | Druck'!R70&\" \"&'Adressen | Druck'!S70)","v":""},null,"",null,null,null,null,null,null,null,null,null,null,0,null,null,null,null,null,null,0,0,0,0,0,0,0,0,0,0]
[68,{"$f":"IF('Adressen | Druck'!T71>0,1,IF('Adressen | Druck'!U71>0,2,\"\"))","v":""},{"$f":"IF('Adressen | Druck'!K71=0,\"\",'Adressen | Druck'!R71&\" \"&'Adressen | Druck'!S71)","v":""},null,"",null,null,null,null,null,null,null,null,null,null,0,null,null,null,null,null,null,0,0,0,0,0,0,0,0,0,0]
[69,{"$f":"IF('Adressen | Druck'!T72>0,1,IF('Adressen | Druck'!U72>0,2,\"\"))","v":""},{"$f":"IF('Adressen | Druck'!K72=0,\"\",'Adressen | Druck'!R72&\" \"&'Adressen | Druck'!S72)","v":""},null,"",null,null,null,null,null,null,null,null,null,null,0,null,null,null,null,null,null,0,0,0,0,0,0,0,0,0,0]
[70,{"$f":"IF('Adressen | Druck'!T73>0,1,IF('Adressen | Druck'!U73>0,2,\"\"))","v":""},{"$f":"IF('Adressen | Druck'!K73=0,\"\",'Adressen | Druck'!R73&\" \"&'Adressen | Druck'!S73)","v":""},null,"",null,null,null,null,null,null,null,null,null,null,0,null,null,null,null,null,null,0,0,0,0,0,0,0,0,0,0]
[71,{"$f":"IF('Adressen | Druck'!T74>0,1,IF('Adressen | Druck'!U74>0,2,\"\"))","v":""},{"$f":"IF('Adressen | Druck'!K74=0,\"\",'Adressen | Druck'!R74&\" \"&'Adressen | Druck'!S74)","v":""},null,"",null,null,null,null,null,null,null,null,null,null,0,null,null,null,null,null,null,0,0,0,0,0,0,0,0,0,0]
[72,{"$f":"IF('Adressen | Druck'!T75>0,1,IF('Adressen | Druck'!U75>0,2,\"\"))","v":""},{"$f":"IF('Adressen | Druck'!K75=0,\"\",'Adressen | Druck'!R75&\" \"&'Adressen | Druck'!S75)","v":""},null,"",null,null,null,null,null,null,null,null,null,null,0,null,null,null,null,null,null,0,0,0,0,0,0,0,0,0,0]
[73,{"$f":"IF('Adressen | Druck'!T76>0,1,IF('Adressen | Druck'!U76>0,2,\"\"))","v":""},{"$f":"IF('Adressen | Druck'!K76=0,\"\",'Adressen | Druck'!R76&\" \"&'Adressen | Druck'!S76)","v":""},null,"",null,null,null,null,null,null,null,null,null,null,0,null,null,null,null,null,null,0,0,0,0,0,0,0,0,0,0]
[74,{"$f":"IF('Adressen | Druck'!T77>0,1,IF('Adressen | Druck'!U77>0,2,\"\"))","v":""},{"$f":"IF('Adressen | Druck'!K77=0,\"\",'Adressen | Druck'!R77&\" \"&'Adressen | Druck'!S77)","v":""},null,"",null,null,null,null,null,null,null,null,null,null,0,null,null,null,null,null,null,0,0,0,0,0,0,0,0,0,0]
[75,{"$f":"IF('Adressen | Druck'!T78>0,1,IF('Adressen | Druck'!U78>0,2,\"\"))","v":""},{"$f":"IF('Adressen | Druck'!K78=0,\"\",'Adressen | Druck'!R78&\" \"&'Adressen | Druck'!S78)","v":""},null,"",null,null,null,null,null,null,null,null,null,null,0,null,null,null,null,null,null,0,0,0,0,0,0,0,0,0,0]
[76,{"$f":"IF('Adressen | Druck'!T79>0,1,IF('Adressen | Druck'!U79>0,2,\"\"))","v":""},{"$f":"IF('Adressen | Druck'!K79=0,\"\",'Adressen | Druck'!R79&\" \"&'Adressen | Druck'!S79)","v":""},null,"",null,null,null,null,null,null,null,null,null,null,0,null,null,null,null,null,null,0,0,0,0,0,0,0,0,0,0]
[77,{"$f":"IF('Adressen | Druck'!T80>0,1,IF('Adressen | Druck'!U80>0,2,\"\"))","v":""},{"$f":"IF('Adressen | Druck'!K80=0,\"\",'Adressen | Druck'!R80&\" \"&'Adressen | Druck'!S80)","v":""},null,"",null,null,null,null,null,null,null,null,null,null,0,null,null,null,null,null,null,0,0,0,0,0,0,0,0,0,0]
[78,{"$f":"IF('Adressen | Druck'!T81>0,1,IF('Adressen | Druck'!U81>0,2,\"\"))","v":""},{"$f":"IF('Adressen | Druck'!K81=0,\"\",'Adressen | Druck'!R81&\" \"&'Adressen | Druck'!S81)","v":""},null,"",null,null,null,null,null,null,null,null,null,null,0,null,null,null,null,null,null,0,0,0,0,0,0,0,0,0,0]
[79,{"$f":"IF('Adressen | Druck'!T82>0,1,IF('Adressen | Druck'!U82>0,2,\"\"))","v":""},{"$f":"IF('Adressen | Druck'!K82=0,\"\",'Adressen | Druck'!R82&\" \"&'Adressen | Druck'!S82)","v":""},null,"",null,null,null,null,null,null,null,null,null,null,0,null,null,null,null,null,null,0,0,0,0,0,0,0,0,0,0]
[80,{"$f":"IF('Adressen | Druck'!T83>0,1,IF('Adressen | Druck'!U83>0,2,\"\"))","v":""},{"$f":"IF('Adressen | Druck'!K83=0,\"\",'Adressen | Druck'!R83&\" \"&'Adressen | Druck'!S83)","v":""},null,"",null,null,null,null,null,null,null,null,null,null,0,null,null,null,null,null,null,0,0,0,0,0,0,0,0,0,0]
[81,{"$f":"IF('Adressen | Druck'!T84>0,1,IF('Adressen | Druck'!U84>0,2,\"\"))","v":""},{"$f":"IF('Adressen | Druck'!K84=0,\"\",'Adressen | Druck'!R84&\" \"&'Adressen | Druck'!S84)","v":""},null,"",null,null,null,null,null,null,null,null,null,null,0,null,null,null,null,null,null,0,0,0,0,0,0,0,0,0,0]
[82,{"$f":"IF('Adressen | Druck'!T85>0,1,IF('Adressen | Druck'!U85>0,2,\"\"))","v":""},{"$f":"IF('Adressen | Druck'!K85=0,\"\",'Adressen | Druck'!R85&\" \"&'Adressen | Druck'!S85)","v":""},null,"",null,null,null,null,null,null,null,null,null,null,0,null,null,null,null,null,null,0,0,0,0,0,0,0,0,0,0]
[83,{"$f":"IF('Adressen | Druck'!T86>0,1,IF('Adressen | Druck'!U86>0,2,\"\"))","v":""},{"$f":"IF('Adressen | Druck'!K86=0,\"\",'Adressen | Druck'!R86&\" \"&'Adressen | Druck'!S86)","v":""},null,"",null,null,null,null,null,null,null,null,null,null,0,null,null,null,null,null,null,0,0,0,0,0,0,0,0,0,0]
[84,{"$f":"IF('Adressen | Druck'!T87>0,1,IF('Adressen | Druck'!U87>0,2,\"\"))","v":""},{"$f":"IF('Adressen | Druck'!K87=0,\"\",'Adressen | Druck'!R87&\" \"&'Adressen | Druck'!S87)","v":""},null,"",null,null,null,null,null,null,null,null,null,null,0,null,null,null,null,null,null,0,0,0,0,0,0,0,0,0,0]
[85,{"$f":"IF('Adressen | Druck'!T88>0,1,IF('Adressen | Druck'!U88>0,2,\"\"))","v":""},{"$f":"IF('Adressen | Druck'!K88=0,\"\",'Adressen | Druck'!R88&\" \"&'Adressen | Druck'!S88)","v":""},null,"",null,null,null,null,null,null,null,null,null,null,0,null,null,null,null,null,null,0,0,0,0,0,0,0,0,0,0]
[86,{"$f":"IF('Adressen | Druck'!T89>0,1,IF('Adressen | Druck'!U89>0,2,\"\"))","v":""},{"$f":"IF('Adressen | Druck'!K89=0,\"\",'Adressen | Druck'!R89&\" \"&'Adressen | Druck'!S89)","v":""},null,"",null,null,null,null,null,null,null,null,null,null,0,null,null,null,null,null,null,0,0,0,0,0,0,0,0,0,0]
[87,{"$f":"IF('Adressen | Druck'!T90>0,1,IF('Adressen | Druck'!U90>0,2,\"\"))","v":""},{"$f":"IF('Adressen | Druck'!K90=0,\"\",'Adressen | Druck'!R90&\" \"&'Adressen | Druck'!S90)","v":""},null,"",null,null,null,null,null,null,null,null,null,null,0,null,null,null,null,null,null,0,0,0,0,0,0,0,0,0,0]
[88,{"$f":"IF('Adressen | Druck'!T91>0,1,IF('Adressen | Druck'!U91>0,2,\"\"))","v":""},{"$f":"IF('Adressen | Druck'!K91=0,\"\",'Adressen | Druck'!R91&\" \"&'Adressen | Druck'!S91)","v":""},null,"",null,null,null,null,null,null,null,null,null,null,0,null,null,null,null,null,null,0,0,0,0,0,0,0,0,0,0]
[89,{"$f":"IF('Adressen | Druck'!T92>0,1,IF('Adressen | Druck'!U92>0,2,\"\"))","v":""},{"$f":"IF('Adressen | Druck'!K92=0,\"\",'Adressen | Druck'!R92&\" \"&'Adressen | Druck'!S92)","v":""},null,"",null,null,null,null,null,null,null,null,null,null,0,null,null,null,null,null,null,0,0,0,0,0,0,0,0,0,0]
[90,{"$f":"IF('Adressen | Druck'!T93>0,1,IF('Adressen | Druck'!U93>0,2,\"\"))","v":""},{"$f":"IF('Adressen | Druck'!K93=0,\"\",'Adressen | Druck'!R93&\" \"&'Adressen | Druck'!S93)","v":""},null,"",null,null,null,null,null,null,null,null,null,null,0,null,null,null,null,null,null,0,0,0,0,0,0,0,0,0,0]
[91,{"$f":"IF('Adressen | Druck'!T94>0,1,IF('Adressen | Druck'!U94>0,2,\"\"))","v":""},{"$f":"IF('Adressen | Druck'!K94=0,\"\",'Adressen | Druck'!R94&\" \"&'Adressen | Druck'!S94)","v":""},null,"",null,null,null,null,null,null,null,null,null,null,0,null,null,null,null,null,null,0,0,0,0,0,0,0,0,0,0]
[92,{"$f":"IF('Adressen | Druck'!T95>0,1,IF('Adressen | Druck'!U95>0,2,\"\"))","v":""},{"$f":"IF('Adressen | Druck'!K95=0,\"\",'Adressen | Druck'!R95&\" \"&'Adressen | Druck'!S95)","v":""},null,"",null,null,null,null,null,null,null,null,null,null,0,null,null,null,null,null,null,0,0,0,0,0,0,0,0,0,0]
[93,{"$f":"IF('Adressen | Druck'!T96>0,1,IF('Adressen | Druck'!U96>0,2,\"\"))","v":""},{"$f":"IF('Adressen | Druck'!K96=0,\"\",'Adressen | Druck'!R96&\" \"&'Adressen | Druck'!S96)","v":""},null,"",null,null,null,null,null,null,null,null,null,null,0,null,null,null,null,null,null,0,0,0,0,0,0,0,0,0,0]
[94,{"$f":"IF('Adressen | Druck'!T97>0,1,IF('Adressen | Druck'!U97>0,2,\"\"))","v":""},{"$f":"IF('Adressen | Druck'!K97=0,\"\",'Adressen | Druck'!R97&\" \"&'Adressen | Druck'!S97)","v":""},null,"",null,null,null,null,null,null,null,null,null,null,0,null,null,null,null,null,null,0,0,0,0,0,0,0,0,0,0]
[95,{"$f":"IF('Adressen | Druck'!T98>0,1,IF('Adressen | Druck'!U98>0,2,\"\"))","v":""},{"$f":"IF('Adressen | Druck'!K98=0,\"\",'Adressen | Druck'!R98&\" \"&'Adressen | Druck'!S98)","v":""},null,"",null,null,null,null,null,null,null,null,null,null,0,null,null,null,null,null,null,0,0,0,0,0,0,0,0,0,0]
[96,{"$f":"IF('Adressen | Druck'!T99>0,1,IF('Adressen | Druck'!U99>0,2,\"\"))","v":""},{"$f":"IF('Adressen | Druck'!K99=0,\"\",'Adressen | Druck'!R99&\" \"&'Adressen | Druck'!S99)","v":""},null,"",null,null,null,null,null,null,null,null,null,null,0,null,null,null,null,null,null,0,0,0,0,0,0,0,0,0,0]
[97,{"$f":"IF('Adressen | Druck'!T100>0,1,IF('Adressen | Druck'!U100>0,2,\"\"))","v":""},{"$f":"IF('Adressen | Druck'!K100=0,\"\",'Adressen | Druck'!R100&\" \"&'Adressen | Druck'!S100)","v":""},null,{"$f":"IF(VLOOKUP(A110,Gäste,12)=0,\"\",VLOOKUP(A110,Gäste,12))","v":""},null,null,null,null,null,null,null,null,null,null,0,null,null,null,null,null,null,{"$f":"IF($E110=\"\",0,IF(F110<>\"\",$E110/$P110,\"\"))","v":0},{"$f":"IF($E110=\"\",0,IF(G110<>\"\",$E110/$P110,\"\"))","v":0},{"$f":"IF($E110=\"\",0,IF(H110<>\"\",$E110/$P110,\"\"))","v":0},{"$f":"IF($E110=\"\",0,IF(I110<>\"\",$E110/$P110,\"\"))","v":0},{"$f":"IF($E110=\"\",0,IF(J110<>\"\",$E110/$P110,\"\"))","v":0},{"$f":"IF($E110=\"\",0,IF(K110<>\"\",$E110/$P110,\"\"))","v":0},{"$f":"IF($E110=\"\",0,IF(L110<>\"\",$E110/$P110,\"\"))","v":0},{"$f":"IF($E110=\"\",0,IF(M110<>\"\",$E110/$P110,\"\"))","v":0},{"$f":"IF($E110=\"\",0,IF(N110<>\"\",$E110/$P110,\"\"))","v":0},{"$f":"IF($E110=\"\",0,IF(O110<>\"\",$E110/$P110,\"\"))","v":0}]
[98,{"$f":"IF('Adressen | Druck'!T101>0,1,IF('Adressen | Druck'!U101>0,2,\"\"))","v":""},{"$f":"IF('Adressen | Druck'!K101=0,\"\",'Adressen | Druck'!R101&\" \"&'Adressen | Druck'!S101)","v":""},null,"",null,null,null,null,null,null,null,null,null,null,0,null,null,null,null,null,null,0,0,0,0,0,0,0,0,0,0]
[99,{"$f":"IF('Adressen | Druck'!T102>0,1,IF('Adressen | Druck'!U102>0,2,\"\"))","v":""},{"$f":"IF('Adressen | Druck'!K102=0,\"\",'Adressen | Druck'!R102&\" \"&'Adressen | Druck'!S102)","v":""},null,"",null,null,null,null,null,null,null,null,null,null,0,null,null,null,null,null,null,0,0,0,0,0,0,0,0,0,0]
[100,{"$f":"IF('Adressen | Druck'!T103>0,1,IF('Adressen | Druck'!U103>0,2,\"\"))","v":""},{"$f":"IF('Adressen | Druck'!K103=0,\"\",'Adressen | Druck'!R103&\" \"&'Adressen | Druck'!S103)","v":""},null,"",null,null,null,null,null,null,null,null,null,null,0,null,null,null,null,null,null,0,0,0,0,0,0,0,0,0,0]
[101,{"$f":"IF('Adressen | Druck'!T104>0,1,IF('Adressen | Druck'!U104>0,2,\"\"))","v":""},{"$f":"IF('Adressen | Druck'!K104=0,\"\",'Adressen | Druck'!R104&\" \"&'Adressen | Druck'!S104)","v":""},null,"",null,null,null,null,null,null,null,null,null,null,0,null,null,null,null,null,null,0,0,0,0,0,0,0,0,0,0]
[102,{"$f":"IF('Adressen | Druck'!T105>0,1,IF('Adressen | Druck'!U105>0,2,\"\"))","v":""},{"$f":"IF('Adressen | Druck'!K105=0,\"\",'Adressen | Druck'!R105&\" \"&'Adressen | Druck'!S105)","v":""},null,"",null,null,null,null,null,null,null,null,null,null,0,null,null,null,null,null,null,0,0,0,0,0,0,0,0,0,0]
[103,{"$f":"IF('Adressen | Druck'!T106>0,1,IF('Adressen | Druck'!U106>0,2,\"\"))","v":""},{"$f":"IF('Adressen | Druck'!K106=0,\"\",'Adressen | Druck'!R106&\" \"&'Adressen | Druck'!S106)","v":""},null,"",null,null,null,null,null,null,null,null,null,null,0,null,null,null,null,null,null,0,0,0,0,0,0,0,0,0,0]
[104,{"$f":"IF('Adressen | Druck'!T107>0,1,IF('Adressen | Druck'!U107>0,2,\"\"))","v":""},{"$f":"IF('Adressen | Druck'!K107=0,\"\",'Adressen | Druck'!R107&\" \"&'Adressen | Druck'!S107)","v":""},null,"",null,null,null,null,null,null,null,null,null,null,0,null,null,null,null,null,null,0,0,0,0,0,0,0,0,0,0]
[105,{"$f":"IF('Adressen | Druck'!T108>0,1,IF('Adressen | Druck'!U108>0,2,\"\"))","v":""},{"$f":"IF('Adressen | Druck'!K108=0,\"\",'Adressen | Druck'!R108&\" \"&'Adressen | Druck'!S108)","v":""},null,"",null,null,null,null,null,null,null,null,null,null,0,null,null,null,null,null,null,0,0,0,0,0,0,0,0,0,0]
[106,{"$f":"IF('Adressen | Druck'!T109>0,1,IF('Adressen | Druck'!U109>0,2,\"\"))","v":""},{"$f":"IF('Adressen | Druck'!K109=0,\"\",'Adressen | Druck'!R109&\" \"&'Adressen | Druck'!S109)","v":""},null,"",null,null,null,null,null,null,null,null,null,null,0,null,null,null,null,null,null,0,0,0,0,0,0,0,0,0,0]
[107,{"$f":"IF('Adressen | Druck'!T110>0,1,IF('Adressen | Druck'!U110>0,2,\"\"))","v":""},{"$f":"IF('Adressen | Druck'!K110=0,\"\",'Adressen | Druck'!R110&\" \"&'Adressen | Druck'!S110)","v":""},null,"",null,null,null,null,null,null,null,null,null,null,0,null,null,null,null,null,null,0,0,0,0,0,0,0,0,0,0]
[108,{"$f":"IF('Adressen | Druck'!T111>0,1,IF('Adressen | Druck'!U111>0,2,\"\"))","v":""},{"$f":"IF('Adressen | Druck'!K111=0,\"\",'Adressen | Druck'!R111&\" \"&'Adressen | Druck'!S111)","v":""},null,"",null,null,null,null,null,null,null,null,null,null,0,null,null,null,null,null,null,0,0,0,0,0,0,0,0,0,0]
[109,{"$f":"IF('Adressen | Druck'!T112>0,1,IF('Adressen | Druck'!U112>0,2,\"\"))","v":""},{"$f":"IF('Adressen | Druck'!K112=0,\"\",'Adressen | Druck'!R112&\" \"&'Adressen | Druck'!S112)","v":""},null,"",null,null,null,null,null,null,null,null,null,null,0,null,null,null,null,null,null,0,0,0,0,0,0,0,0,0,0]
[110,{"$f":"IF('Adressen | Druck'!T113>0,1,IF('Adressen | Druck'!U113>0,2,\"\"))","v":""},{"$f":"IF('Adressen | Druck'!K113=0,\"\",'Adressen | Druck'!R113&\" \"&'Adressen | Druck'!S113)","v":""},null,"",null,null,null,null,null,null,null,null,null,null,0,null,null,null,null,null,null,0,0,0,0,0,0,0,0,0,0]
[111,{"$f":"IF('Adressen | Druck'!T114>0,1,IF('Adressen | Druck'!U114>0,2,\"\"))","v":""},{"$f":"IF('Adressen | Druck'!K114=0,\"\",'Adressen | Druck'!R114&\" \"&'Adressen | Druck'!S114)","v":""},null,"",null,null,null,null,null,null,null,null,null,null,0,null,null,null,null,null,null,0,0,0,0,0,0,0,0,0,0]
[112,{"$f":"IF('Adressen | Druck'!T115>0,1,IF('Adressen | Druck'!U115>0,2,\"\"))","v":""},{"$f":"IF('Adressen | Druck'!K115=0,\"\",'Adressen | Druck'!R115&\" \"&'Adressen | Druck'!S115)","v":""},null,"",null,null,null,null,null,null,null,null,null,null,0,null,null,null,null,null,null,0,0,0,0,0,0,0,0,0,0]
[113,{"$f":"IF('Adressen | Druck'!T116>0,1,IF('Adressen | Druck'!U116>0,2,\"\"))","v":""},{"$f":"IF('Adressen | Druck'!K116=0,\"\",'Adressen | Druck'!R116&\" \"&'Adressen | Druck'!S116)","v":""},null,"",null,null,null,null,null,null,null,null,null,null,0,null,null,null,null,null,null,0,0,0,0,0,0,0,0,0,0]
[114,{"$f":"IF('Adressen | Druck'!T117>0,1,IF('Adressen | Druck'!U117>0,2,\"\"))","v":""},{"$f":"IF('Adressen | Druck'!K117=0,\"\",'Adressen | Druck'!R117&\" \"&'Adressen | Druck'!S117)","v":""},null,"",null,null,null,null,null,null,null,null,null,null,0,null,null,null,null,null,null,0,0,0,0,0,0,0,0,0,0]
[115,{"$f":"IF('Adressen | Druck'!T118>0,1,IF('Adressen | Druck'!U118>0,2,\"\"))","v":""},{"$f":"IF('Adressen | Druck'!K118=0,\"\",'Adressen | Druck'!R118&\" \"&'Adressen | Druck'!S118)","v":""},null,"",null,null,null,null,null,null,null,null,null,null,0,null,null,null,null,null,null,0,0,0,0,0,0,0,0,0,0]
[116,{"$f":"IF('Adressen | Druck'!T119>0,1,IF('Adressen | Druck'!U119>0,2,\"\"))","v":""},{"$f":"IF('Adressen | Druck'!K119=0,\"\",'Adressen | Druck'!R119&\" \"&'Adressen | Druck'!S119)","v":""},null,"",null,null,null,null,null,null,null,null,null,null,0,null,null,null,null,null,null,0,0,0,0,0,0,0,0,0,0]
[117,{"$f":"IF('Adressen | Druck'!T120>0,1,IF('Adressen | Druck'!U120>0,2,\"\"))","v":""},{"$f":"IF('Adressen | Druck'!K120=0,\"\",'Adressen | Druck'!R120&\" \"&'Adressen | Druck'!S120)","v":""},null,"",null,null,null,null,null,null,null,null,null,null,0,null,null,null,null,null,null,0,0,0,0,0,0,0,0,0,0]
[118,{"$f":"IF('Adressen | Druck'!T121>0,1,IF('Adressen | Druck'!U121>0,2,\"\"))","v":""},{"$f":"IF('Adressen | Druck'!K121=0,\"\",'Adressen | Druck'!R121&\" \"&'Adressen | Druck'!S121)","v":""},null,"",null,null,null,null,null,null,null,null,null,null,0,null,null,null,null,null,null,0,0,0,0,0,0,0,0,0,0]
[119,{"$f":"IF('Adressen | Druck'!T122>0,1,IF('Adressen | Druck'!U122>0,2,\"\"))","v":""},{"$f":"IF('Adressen | Druck'!K122=0,\"\",'Adressen | Druck'!R122&\" \"&'Adressen | Druck'!S122)","v":""},null,"",null,null,null,null,null,null,null,null,null,null,0,null,null,null,null,null,null,0,0,0,0,0,0,0,0,0,0]
[120,{"$f":"IF('Adressen | Druck'!T123>0,1,IF('Adressen | Druck'!U123>0,2,\"\"))","v":""},{"$f":"IF('Adressen | Druck'!K123=0,\"\",'Adressen | Druck'!R123&\" \"&'Adressen | Druck'!S123)","v":""},null,"",null,null,null,null,null,null,null,null,null,null,0,null,null,null,null,null,null,0,0,0,0,0,0,0,0,0,0]
[121,{"$f":"IF('Adressen | Druck'!T124>0,1,IF('Adressen | Druck'!U124>0,2,\"\"))","v":""},{"$f":"IF('Adressen | Druck'!K124=0,\"\",'Adressen | Druck'!R124&\" \"&'Adressen | Druck'!S124)","v":""},null,"",null,null,null,null,null,null,null,null,null,null,0,null,null,null,null,null,null,0,0,0,0,0,0,0,0,0,0]
[122,{"$f":"IF('Adressen | Druck'!T125>0,1,IF('Adressen | Druck'!U125>0,2,\"\"))","v":""},{"$f":"IF('Adressen | Druck'!K125=0,\"\",'Adressen | Druck'!R125&\" \"&'Adressen | Druck'!S125)","v":""},null,"",null,null,null,null,null,null,null,null,null,null,0,null,null,null,null,null,null,0,0,0,0,0,0,0,0,0,0]
[123,{"$f":"IF('Adressen | Druck'!T126>0,1,IF('Adressen | Druck'!U126>0,2,\"\"))","v":""},{"$f":"IF('Adressen | Druck'!K126=0,\"\",'Adressen | Druck'!R126&\" \"&'Adressen | Druck'!S126)","v":""},null,"",null,null,null,null,null,null,null,null,null,null,0,null,null,null,null,null,null,0,0,0,0,0,0,0,0,0,0]
[124,{"$f":"IF('Adressen | Druck'!T127>0,1,IF('Adressen | Druck'!U127>0,2,\"\"))","v":""},{"$f":"IF('Adressen | Druck'!K127=0,\"\",'Adressen | Druck'!R127&\" \"&'Adressen | Druck'!S127)","v":""},null,"",null,null,null,null,null,null,null,null,null,null,0,null,null,null,null,null,null,0,0,0,0,0,0,0,0,0,0]
[125,{"$f":"IF('Adressen | Druck'!T128>0,1,IF('Adressen | Druck'!U128>0,2,\"\"))","v":""},{"$f":"IF('Adressen | Druck'!K128=0,\"\",'Adressen | Druck'!R128&\" \"&'Adressen | Druck'!S128)","v":""},null,"",null,null,null,null,null,null,null,null,null,null,0,null,null,null,null,null,null,0,0,0,0,0,0,0,0,0,0]
[126,{"$f":"IF('Adressen | Druck'!T129>0,1,IF('Adressen | Druck'!U129>0,2,\"\"))","v":""},{"$f":"IF('Adressen | Druck'!K129=0,\"\",'Adressen | Druck'!R129&\" \"&'Adressen | Druck'!S129)","v":""},null,"",null,null,null,null,null,null,null,null,null,null,0,null,null,null,null,null,null,0,0,0,0,0,0,0,0,0,0]
[127,{"$f":"IF('Adressen | Druck'!T130>0,1,IF('Adressen | Druck'!U130>0,2,\"\"))","v":""},{"$f":"IF('Adressen | Druck'!K130=0,\"\",'Adressen | Druck'!R130&\" \"&'Adressen | Druck'!S130)","v":""},null,"",null,null,null,null,null,null,null,null,null,null,0,null,null,null,null,null,null,0,0,0,0,0,0,0,0,0,0]
[128,{"$f":"IF('Adressen | Druck'!T131>0,1,IF('Adressen | Druck'!U131>0,2,\"\"))","v":""},{"$f":"IF('Adressen | Druck'!K131=0,\"\",'Adressen | Druck'!R131&\" \"&'Adressen | Druck'!S131)","v":""},null,"",null,null,null,null,null,null,null,null,null,null,0,null,null,null,null,null,null,0,0,0,0,0,0,0,0,0,0]
[129,{"$f":"IF('Adressen | Druck'!T132>0,1,IF('Adressen | Druck'!U132>0,2,\"\"))","v":""},{"$f":"IF('Adressen | Druck'!K132=0,\"\",'Adressen | Druck'!R132&\" \"&'Adressen | Druck'!S132)","v":""},null,{"$f":"IF(VLOOKUP(A142,Gäste,12)=0,\"\",VLOOKUP(A142,Gäste,12))","v":""},null,null,null,null,null,null,null,null,null,null,0,null,null,null,null,null,null,{"$f":"IF($E142=\"\",0,IF(F142<>\"\",$E142/$P142,\"\"))","v":0},{"$f":"IF($E142=\"\",0,IF(G142<>\"\",$E142/$P142,\"\"))","v":0},{"$f":"IF($E142=\"\",0,IF(H142<>\"\",$E142/$P142,\"\"))","v":0},{"$f":"IF($E142=\"\",0,IF(I142<>\"\",$E142/$P142,\"\"))","v":0},{"$f":"IF($E142=\"\",0,IF(J142<>\"\",$E142/$P142,\"\"))","v":0},{"$f":"IF($E142=\"\",0,IF(K142<>\"\",$E142/$P142,\"\"))","v":0},{"$f":"IF($E142=\"\",0,IF(L142<>\"\",$E142/$P142,\"\"))","v":0},{"$f":"IF($E142=\"\",0,IF(M142<>\"\",$E142/$P142,\"\"))","v":0},{"$f":"IF($E142=\"\",0,IF(N142<>\"\",$E142/$P142,\"\"))","v":0},{"$f":"IF($E142=\"\",0,IF(O142<>\"\",$E142/$P142,\"\"))","v":0}]
[130,{"$f":"IF('Adressen | Druck'!T133>0,1,IF('Adressen | Druck'!U133>0,2,\"\"))","v":""},{"$f":"IF('Adressen | Druck'!K133=0,\"\",'Adressen | Druck'!R133&\" \"&'Adressen | Druck'!S133)","v":""},null,"",null,null,null,null,null,null,null,null,null,null,{"$f":"COUNTA(F143:O143)","v":0},null,null,null,null,null,null,0,0,0,0,0,0,0,0,0,0]
[131,{"$f":"IF('Adressen | Druck'!T134>0,1,IF('Adressen | Druck'!U134>0,2,\"\"))","v":""},{"$f":"IF('Adressen | Druck'!K134=0,\"\",'Adressen | Druck'!R134&\" \"&'Adressen | Druck'!S134)","v":""},null,"",null,null,null,null,null,null,null,null,null,null,0,null,null,null,null,null,null,0,0,0,0,0,0,0,0,0,0]
[132,{"$f":"IF('Adressen | Druck'!T135>0,1,IF('Adressen | Druck'!U135>0,2,\"\"))","v":""},{"$f":"IF('Adressen | Druck'!K135=0,\"\",'Adressen | Druck'!R135&\" \"&'Adressen | Druck'!S135)","v":""},null,"",null,null,null,null,null,null,null,null,null,null,0,null,null,null,null,null,null,0,0,0,0,0,0,0,0,0,0]
[133,{"$f":"IF('Adressen | Druck'!T136>0,1,IF('Adressen | Druck'!U136>0,2,\"\"))","v":""},{"$f":"IF('Adressen | Druck'!K136=0,\"\",'Adressen | Druck'!R136&\" \"&'Adressen | Druck'!S136)","v":""},null,"",null,null,null,null,null,null,null,null,null,null,0,null,null,null,null,null,null,0,0,0,0,0,0,0,0,0,0]
[134,{"$f":"IF('Adressen | Druck'!T137>0,1,IF('Adressen | Druck'!U137>0,2,\"\"))","v":""},{"$f":"IF('Adressen | Druck'!K137=0,\"\",'Adressen | Druck'!R137&\" \"&'Adressen | Druck'!S137)","v":""},null,"",null,null,null,null,null,null,null,null,null,null,0,null,null,null,null,null,null,0,0,0,0,0,0,0,0,0,0]
[135,{"$f":"IF('Adressen | Druck'!T138>0,1,IF('Adressen | Druck'!U138>0,2,\"\"))","v":""},{"$f":"IF('Adressen | Druck'!K138=0,\"\",'Adressen | Druck'!R138&\" \"&'Adressen | Druck'!S138)","v":""},null,"",null,null,null,null,null,null,null,null,null,null,0,null,null,null,null,null,null,0,0,0,0,0,0,0,0,0,0]
[136,{"$f":"IF('Adressen | Druck'!T139>0,1,IF('Adressen | Druck'!U139>0,2,\"\"))","v":""},{"$f":"IF('Adressen | Druck'!K139=0,\"\",'Adressen | Druck'!R139&\" \"&'Adressen | Druck'!S139)","v":""},null,"",null,null,null,null,null,null,null,null,null,null,0,null,null,null,null,null,null,0,0,0,0,0,0,0,0,0,0]
[137,{"$f":"IF('Adressen | Druck'!T140>0,1,IF('Adressen | Druck'!U140>0,2,\"\"))","v":""},{"$f":"IF('Adressen | Druck'!K140=0,\"\",'Adressen | Druck'!R140&\" \"&'Adressen | Druck'!S140)","v":""},null,"",null,null,null,null,null,null,null,null,null,null,0,null,null,null,null,null,null,0,0,0,0,0,0,0,0,0,0]
[138,{"$f":"IF('Adressen | Druck'!T141>0,1,IF('Adressen | Druck'!U141>0,2,\"\"))","v":""},{"$f":"IF('Adressen | Druck'!K141=0,\"\",'Adressen | Druck'!R141&\" \"&'Adressen | Druck'!S141)","v":""},null,"",null,null,null,null,null,null,null,null,null,null,0,null,null,null,null,null,null,0,0,0,0,0,0,0,0,0,0]
[139,{"$f":"IF('Adressen | Druck'!T142>0,1,IF('Adressen | Druck'!U142>0,2,\"\"))","v":""},{"$f":"IF('Adressen | Druck'!K142=0,\"\",'Adressen | Druck'!R142&\" \"&'Adressen | Druck'!S142)","v":""},null,"",null,null,null,null,null,null,null,null,null,null,0,null,null,null,null,null,null,0,0,0,0,0,0,0,0,0,0]
[140,{"$f":"IF('Adressen | Druck'!T143>0,1,IF('Adressen | Druck'!U143>0,2,\"\"))","v":""},{"$f":"IF('Adressen | Druck'!K143=0,\"\",'Adressen | Druck'!R143&\" \"&'Adressen | Druck'!S143)","v":""},null,"",null,null,null,null,null,null,null,null,null,null,0,null,null,null,null,null,null,0,0,0,0,0,0,0,0,0,0]
[141,{"$f":"IF('Adressen | Druck'!T144>0,1,IF('Adressen | Druck'!U144>0,2,\"\"))","v":""},{"$f":"IF('Adressen | Druck'!K144=0,\"\",'Adressen | Druck'!R144&\" \"&'Adressen | Druck'!S144)","v":""},null,"",null,null,null,null,null,null,null,null,null,null,0,null,null,null,null,null,null,0,0,0,0,0,0,0,0,0,0]
[142,{"$f":"IF('Adressen | Druck'!T145>0,1,IF('Adressen | Druck'!U145>0,2,\"\"))","v":""},{"$f":"IF('Adressen | Druck'!K145=0,\"\",'Adressen | Druck'!R145&\" \"&'Adressen | Druck'!S145)","v":""},null,"",null,null,null,null,null,null,null,null,null,null,0,null,null,null,null,null,null,0,0,0,0,0,0,0,0,0,0]
[143,{"$f":"IF('Adressen | Druck'!T146>0,1,IF('Adressen | Druck'!U146>0,2,\"\"))","v":""},{"$f":"IF('Adressen | Druck'!K146=0,\"\",'Adressen | Druck'!R146&\" \"&'Adressen | Druck'!S146)","v":""},null,"",null,null,null,null,null,null,null,null,null,null,0,null,null,null,null,null,null,0,0,0,0,0,0,0,0,0,0]
[144,{"$f":"IF('Adressen | Druck'!T147>0,1,IF('Adressen | Druck'!U147>0,2,\"\"))","v":""},{"$f":"IF('Adressen | Druck'!K147=0,\"\",'Adressen | Druck'!R147&\" \"&'Adressen | Druck'!S147)","v":""},null,"",null,null,null,null,null,null,null,null,null,null,0,null,null,null,null,null,null,0,0,0,0,0,0,0,0,0,0]
[145,{"$f":"IF('Adressen | Druck'!T148>0,1,IF('Adressen | Druck'!U148>0,2,\"\"))","v":""},{"$f":"IF('Adressen | Druck'!K148=0,\"\",'Adressen | Druck'!R148&\" \"&'Adressen | Druck'!S148)","v":""},null,"",null,null,null,null,null,null,null,null,null,null,0,null,null,null,null,null,null,0,0,0,0,0,0,0,0,0,0]
[146,{"$f":"IF('Adressen | Druck'!T149>0,1,IF('Adressen | Druck'!U149>0,2,\"\"))","v":""},{"$f":"IF('Adressen | Druck'!K149=0,\"\",'Adressen | Druck'!R149&\" \"&'Adressen | Druck'!S149)","v":""},null,"",null,null,null,null,null,null,null,null,null,null,0,null,null,null,null,null,null,0,0,0,0,0,0,0,0,0,0]
[147,{"$f":"IF('Adressen | Druck'!T150>0,1,IF('Adressen | Druck'!U150>0,2,\"\"))","v":""},{"$f":"IF('Adressen | Druck'!K150=0,\"\",'Adressen | Druck'!R150&\" \"&'Adressen | Druck'!S150)","v":""},null,"",null,null,null,null,null,null,null,null,null,null,0,null,null,null,null,null,null,0,0,0,0,0,0,0,0,0,0]
[148,{"$f":"IF('Adressen | Druck'!T151>0,1,IF('Adressen | Druck'!U151>0,2,\"\"))","v":""},{"$f":"IF('Adressen | Druck'!K151=0,\"\",'Adressen | Druck'!R151&\" \"&'Adressen | Druck'!S151)","v":""},null,"",null,null,null,null,null,null,null,null,null,null,0,null,null,null,null,null,null,0,0,0,0,0,0,0,0,0,0]
[149,{"$f":"IF('Adressen | Druck'!T152>0,1,IF('Adressen | Druck'!U152>0,2,\"\"))","v":""},{"$f":"IF('Adressen | Druck'!K152=0,\"\",'Adressen | Druck'!R152&\" \"&'Adressen | Druck'!S152)","v":""},null,"",null,null,null,null,null,null,null,null,null,null,0,null,null,null,null,null,null,0,0,0,0,0,0,0,0,0,0]
[150,{"$f":"IF('Adressen | Druck'!T153>0,1,IF('Adressen | Druck'!U153>0,2,\"\"))","v":""},{"$f":"IF('Adressen | Druck'!K153=0,\"\",'Adressen | Druck'!R153&\" \"&'Adressen | Druck'!S153)","v":""},null,"",null,null,null,null,null,null,null,null,null,null,0,null,null,null,null,null,null,0,0,0,0,0,0,0,0,0,0]
[151,{"$f":"IF('Adressen | Druck'!T154>0,1,IF('Adressen | Druck'!U154>0,2,\"\"))","v":""},{"$f":"IF('Adressen | Druck'!K154=0,\"\",'Adressen | Druck'!R154&\" \"&'Adressen | Druck'!S154)","v":""},null,"",null,null,null,null,null,null,null,null,null,null,0,null,null,null,null,null,null,0,0,0,0,0,0,0,0,0,0]
[152,{"$f":"IF('Adressen | Druck'!T155>0,1,IF('Adressen | Druck'!U155>0,2,\"\"))","v":""},{"$f":"IF('Adressen | Druck'!K155=0,\"\",'Adressen | Druck'!R155&\" \"&'Adressen | Druck'!S155)","v":""},null,"",null,null,null,null,null,null,null,null,null,null,0,null,null,null,null,null,null,0,0,0,0,0,0,0,0,0,0]
[153,{"$f":"IF('Adressen | Druck'!T156>0,1,IF('Adressen | Druck'!U156>0,2,\"\"))","v":""},{"$f":"IF('Adressen | Druck'!K156=0,\"\",'Adressen | Druck'!R156&\" \"&'Adressen | Druck'!S156)","v":""},null,"",null,null,null,null,null,null,null,null,null,null,0,null,null,null,null,null,null,0,0,0,0,0,0,0,0,0,0]
[154,{"$f":"IF('Adressen | Druck'!T157>0,1,IF('Adressen | Druck'!U157>0,2,\"\"))","v":""},{"$f":"IF('Adressen | Druck'!K157=0,\"\",'Adressen | Druck'!R157&\" \"&'Adressen | Druck'!S157)","v":""},null,"",null,null,null,null,null,null,null,null,null,null,0,null,null,null,null,null,null,0,0,0,0,0,0,0,0,0,0]
[155,{"$f":"IF('Adressen | Druck'!T158>0,1,IF('Adressen | Druck'!U158>0,2,\"\"))","v":""},{"$f":"IF('Adressen | Druck'!K158=0,\"\",'Adressen | Druck'!R158&\" \"&'Adressen | Druck'!S158)","v":""},null,"",null,null,null,null,null,null,null,null,null,null,0,null,null,null,null,null,null,0,0,0,0,0,0,0,0,0,0]
[156,{"$f":"IF('Adressen | Druck'!T159>0,1,IF('Adressen | Druck'!U159>0,2,\"\"))","v":""},{"$f":"IF('Adressen | Druck'!K159=0,\"\",'Adressen | Druck'!R159&\" \"&'Adressen | Druck'!S159)","v":""},null,"",null,null,null,null,null,null,null,null,null,null,0,null,null,null,null,null,null,0,0,0,0,0,0,0,0,0,0]
[157,{"$f":"IF('Adressen | Druck'!T160>0,1,IF('Adressen | Druck'!U160>0,2,\"\"))","v":""},{"$f":"IF('Adressen | Druck'!K160=0,\"\",'Adressen | Druck'!R160&\" \"&'Adressen | Druck'!S160)","v":""},null,"",null,null,null,null,null,null,null,null,null,null,0,null,null,null,null,null,null,0,0,0,0,0,0,0,0,0,0]
[158,{"$f":"IF('Adressen | Druck'!T161>0,1,IF('Adressen | Druck'!U161>0,2,\"\"))","v":""},{"$f":"IF('Adressen | Druck'!K161=0,\"\",'Adressen | Druck'!R161&\" \"&'Adressen | Druck'!S161)","v":""},null,"",null,null,null,null,null,null,null,null,null,null,0,null,null,null,null,null,null,0,0,0,0,0,0,0,0,0,0]
[159,{"$f":"IF('Adressen | Druck'!T162>0,1,IF('Adressen | Druck'!U162>0,2,\"\"))","v":""},{"$f":"IF('Adressen | Druck'!K162=0,\"\",'Adressen | Druck'!R162&\" \"&'Adressen | Druck'!S162)","v":""},null,"",null,null,null,null,null,null,null,null,null,null,0,null,null,null,null,null,null,0,0,0,0,0,0,0,0,0,0]
[160,{"$f":"IF('Adressen | Druck'!T163>0,1,IF('Adressen | Druck'!U163>0,2,\"\"))","v":""},{"$f":"IF('Adressen | Druck'!K163=0,\"\",'Adressen | Druck'!R163&\" \"&'Adressen | Druck'!S163)","v":""},null,"",null,null,null,null,null,null,null,null,null,null,0,null,null,null,null,null,null,0,0,0,0,0,0,0,0,0,0]
[161,{"$f":"IF('Adressen | Druck'!T164>0,1,IF('Adressen | Druck'!U164>0,2,\"\"))","v":""},{"$f":"IF('Adressen | Druck'!K164=0,\"\",'Adressen | Druck'!R164&\" \"&'Adressen | Druck'!S164)","v":""},null,{"$f":"IF(VLOOKUP(A174,Gäste,12)=0,\"\",VLOOKUP(A174,Gäste,12))","v":""},null,null,null,null,null,null,null,null,null,null,0,null,null,null,null,null,null,{"$f":"IF($E174=\"\",0,IF(F174<>\"\",$E174/$P174,\"\"))","v":0},{"$f":"IF($E174=\"\",0,IF(G174<>\"\",$E174/$P174,\"\"))","v":0},{"$f":"IF($E174=\"\",0,IF(H174<>\"\",$E174/$P174,\"\"))","v":0},{"$f":"IF($E174=\"\",0,IF(I174<>\"\",$E174/$P174,\"\"))","v":0},{"$f":"IF($E174=\"\",0,IF(J174<>\"\",$E174/$P174,\"\"))","v":0},{"$f":"IF($E174=\"\",0,IF(K174<>\"\",$E174/$P174,\"\"))","v":0},{"$f":"IF($E174=\"\",0,IF(L174<>\"\",$E174/$P174,\"\"))","v":0},{"$f":"IF($E174=\"\",0,IF(M174<>\"\",$E174/$P174,\"\"))","v":0},{"$f":"IF($E174=\"\",0,IF(N174<>\"\",$E174/$P174,\"\"))","v":0},{"$f":"IF($E174=\"\",0,IF(O174<>\"\",$E174/$P174,\"\"))","v":0}]
[162,{"$f":"IF('Adressen | Druck'!T165>0,1,IF('Adressen | Druck'!U165>0,2,\"\"))","v":""},{"$f":"IF('Adressen | Druck'!K165=0,\"\",'Adressen | Druck'!R165&\" \"&'Adressen | Druck'!S165)","v":""},null,"",null,null,null,null,null,null,null,null,null,null,0,null,null,null,null,null,null,0,0,0,0,0,0,0,0,0,0]
[163,{"$f":"IF('Adressen | Druck'!T166>0,1,IF('Adressen | Druck'!U166>0,2,\"\"))","v":""},{"$f":"IF('Adressen | Druck'!K166=0,\"\",'Adressen | Druck'!R166&\" \"&'Adressen | Druck'!S166)","v":""},null,"",null,null,null,null,null,null,null,null,null,null,0,null,null,null,null,null,null,0,0,0,0,0,0,0,0,0,0]
[164,{"$f":"IF('Adressen | Druck'!T167>0,1,IF('Adressen | Druck'!U167>0,2,\"\"))","v":""},{"$f":"IF('Adressen | Druck'!K167=0,\"\",'Adressen | Druck'!R167&\" \"&'Adressen | Druck'!S167)","v":""},null,"",null,null,null,null,null,null,null,null,null,null,0,null,null,null,null,null,null,0,0,0,0,0,0,0,0,0,0]
[165,{"$f":"IF('Adressen | Druck'!T168>0,1,IF('Adressen | Druck'!U168>0,2,\"\"))","v":""},{"$f":"IF('Adressen | Druck'!K168=0,\"\",'Adressen | Druck'!R168&\" \"&'Adressen | Druck'!S168)","v":""},null,"",null,null,null,null,null,null,null,null,null,null,0,null,null,null,null,null,null,0,0,0,0,0,0,0,0,0,0]
[166,{"$f":"IF('Adressen | Druck'!T169>0,1,IF('Adressen | Druck'!U169>0,2,\"\"))","v":""},{"$f":"IF('Adressen | Druck'!K169=0,\"\",'Adressen | Druck'!R169&\" \"&'Adressen | Druck'!S169)","v":""},null,"",null,null,null,null,null,null,null,null,null,null,0,null,null,null,null,null,null,0,0,0,0,0,0,0,0,0,0]
[167,{"$f":"IF('Adressen | Druck'!T170>0,1,IF('Adressen | Druck'!U170>0,2,\"\"))","v":""},{"$f":"IF('Adressen | Druck'!K170=0,\"\",'Adressen | Druck'!R170&\" \"&'Adressen | Druck'!S170)","v":""},null,"",null,null,null,null,null,null,null,null,null,null,0,null,null,null,null,null,null,0,0,0,0,0,0,0,0,0,0]
[168,{"$f":"IF('Adressen | Druck'!T171>0,1,IF('Adressen | Druck'!U171>0,2,\"\"))","v":""},{"$f":"IF('Adressen | Druck'!K171=0,\"\",'Adressen | Druck'!R171&\" \"&'Adressen | Druck'!S171)","v":""},null,"",null,null,null,null,null,null,null,null,null,null,0,null,null,null,null,null,null,0,0,0,0,0,0,0,0,0,0]
[169,{"$f":"IF('Adressen | Druck'!T172>0,1,IF('Adressen | Druck'!U172>0,2,\"\"))","v":""},{"$f":"IF('Adressen | Druck'!K172=0,\"\",'Adressen | Druck'!R172&\" \"&'Adressen | Druck'!S172)","v":""},null,"",null,null,null,null,null,null,null,null,null,null,0,null,null,null,null,null,null,0,0,0,0,0,0,0,0,0,0]
[170,{"$f":"IF('Adressen | Druck'!T173>0,1,IF('Adressen | Druck'!U173>0,2,\"\"))","v":""},{"$f":"IF('Adressen | Druck'!K173=0,\"\",'Adressen | Druck'!R173&\" \"&'Adressen | Druck'!S173)","v":""},null,"",null,null,null,null,null,null,null,null,null,null,0,null,null,null,null,null,null,0,0,0,0,0,0,0,0,0,0]
[171,{"$f":"IF('Adressen | Druck'!T174>0,1,IF('Adressen | Druck'!U174>0,2,\"\"))","v":""},{"$f":"IF('Adressen | Druck'!K174=0,\"\",'Adressen | Druck'!R174&\" \"&'Adressen | Druck'!S174)","v":""},null,"",null,null,null,null,null,null,null,null,null,null,0,null,null,null,null,null,null,0,0,0,0,0,0,0,0,0,0]
[172,{"$f":"IF('Adressen | Druck'!T175>0,1,IF('Adressen | Druck'!U175>0,2,\"\"))","v":""},{"$f":"IF('Adressen | Druck'!K175=0,\"\",'Adressen | Druck'!R175&\" \"&'Adressen | Druck'!S175)","v":""},null,"",null,null,null,null,null,null,null,null,null,null,0,null,null,null,null,null,null,0,0,0,0,0,0,0,0,0,0]
[173,{"$f":"IF('Adressen | Druck'!T176>0,1,IF('Adressen | Druck'!U176>0,2,\"\"))","v":""},{"$f":"IF('Adressen | Druck'!K176=0,\"\",'Adressen | Druck'!R176&\" \"&'Adressen | Druck'!S176)","v":""},null,"",null,null,null,null,null,null,null,null,null,null,0,null,null,null,null,null,null,0,0,0,0,0,0,0,0,0,0]
[174,{"$f":"IF('Adressen | Druck'!T177>0,1,IF('Adressen | Druck'!U177>0,2,\"\"))","v":""},{"$f":"IF('Adressen | Druck'!K177=0,\"\",'Adressen | Druck'!R177&\" \"&'Adressen | Druck'!S177)","v":""},null,"",null,null,null,null,null,null,null,null,null,null,0,null,null,null,null,null,null,0,0,0,0,0,0,0,0,0,0]
[175,{"$f":"IF('Adressen | Druck'!T178>0,1,IF('Adressen | Druck'!U178>0,2,\"\"))","v":""},{"$f":"IF('Adressen | Druck'!K178=0,\"\",'Adressen | Druck'!R178&\" \"&'Adressen | Druck'!S178)","v":""},null,"",null,null,null,null,null,null,null,null,null,null,0,null,null,null,null,null,null,0,0,0,0,0,0,0,0,0,0]
[176,{"$f":"IF('Adressen | Druck'!T179>0,1,IF('Adressen | Druck'!U179>0,2,\"\"))","v":""},{"$f":"IF('Adressen | Druck'!K179=0,\"\",'Adressen | Druck'!R179&\" \"&'Adressen | Druck'!S179)","v":""},null,"",null,null,null,null,null,null,null,null,null,null,0,null,null,null,null,null,null,0,0,0,0,0,0,0,0,0,0]
[177,{"$f":"IF('Adressen | Druck'!T180>0,1,IF('Adressen | Druck'!U180>0,2,\"\"))","v":""},{"$f":"IF('Adressen | Druck'!K180=0,\"\",'Adressen | Druck'!R180&\" \"&'Adressen | Druck'!S180)","v":""},null,"",null,null,null,null,null,null,null,null,null,null,0,null,null,null,null,null,null,0,0,0,0,0,0,0,0,0,0]
[178,{"$f":"IF('Adressen | Druck'!T181>0,1,IF('Adressen | Druck'!U181>0,2,\"\"))","v":""},{"$f":"IF('Adressen | Druck'!K181=0,\"\",'Adressen | Druck'!R181&\" \"&'Adressen | Druck'!S181)","v":""},null,"",null,null,null,null,null,null,null,null,null,null,0,null,null,null,null,null,null,0,0,0,0,0,0,0,0,0,0]
[179,{"$f":"IF('Adressen | Druck'!T182>0,1,IF('Adressen | Druck'!U182>0,2,\"\"))","v":""},{"$f":"IF('Adressen | Druck'!K182=0,\"\",'Adressen | Druck'!R182&\" \"&'Adressen | Druck'!S182)","v":""},null,"",null,null,null,null,null,null,null,null,null,null,0,null,null,null,null,null,null,0,0,0,0,0,0,0,0,0,0]
[180,{"$f":"IF('Adressen | Druck'!T183>0,1,IF('Adressen | Druck'!U183>0,2,\"\"))","v":""},{"$f":"IF('Adressen | Druck'!K183=0,\"\",'Adressen | Druck'!R183&\" \"&'Adressen | Druck'!S183)","v":""},null,"",null,null,null,null,null,null,null,null,null,null,0,null,null,null,null,null,null,0,0,0,0,0,0,0,0,0,0]
[181,{"$f":"IF('Adressen | Druck'!T184>0,1,IF('Adressen | Druck'!U184>0,2,\"\"))","v":""},{"$f":"IF('Adressen | Druck'!K184=0,\"\",'Adressen | Druck'!R184&\" \"&'Adressen | Druck'!S184)","v":""},null,"",null,null,null,null,null,null,null,null,null,null,0,null,null,null,null,null,null,0,0,0,0,0,0,0,0,0,0]
[182,{"$f":"IF('Adressen | Druck'!T185>0,1,IF('Adressen | Druck'!U185>0,2,\"\"))","v":""},{"$f":"IF('Adressen | Druck'!K185=0,\"\",'Adressen | Druck'!R185&\" \"&'Adressen | Druck'!S185)","v":""},null,"",null,null,null,null,null,null,null,null,null,null,0,null,null,null,null,null,null,0,0,0,0,0,0,0,0,0,0]
[183,{"$f":"IF('Adressen | Druck'!T186>0,1,IF('Adressen | Druck'!U186>0,2,\"\"))","v":""},{"$f":"IF('Adressen | Druck'!K186=0,\"\",'Adressen | Druck'!R186&\" \"&'Adressen | Druck'!S186)","v":""},null,"",null,null,null,null,null,null,null,null,null,null,0,null,null,null,null,null,null,0,0,0,0,0,0,0,0,0,0]
[184,{"$f":"IF('Adressen | Druck'!T187>0,1,IF('Adressen | Druck'!U187>0,2,\"\"))","v":""},{"$f":"IF('Adressen | Druck'!K187=0,\"\",'Adressen | Druck'!R187&\" \"&'Adressen | Druck'!S187)","v":""},null,"",null,null,null,null,null,null,null,null,null,null,0,null,null,null,null,null,null,0,0,0,0,0,0,0,0,0,0]
[185,{"$f":"IF('Adressen | Druck'!T188>0,1,IF('Adressen | Druck'!U188>0,2,\"\"))","v":""},{"$f":"IF('Adressen | Druck'!K188=0,\"\",'Adressen | Druck'!R188&\" \"&'Adressen | Druck'!S188)","v":""},null,"",null,null,null,null,null,null,null,null,null,null,0,null,null,null,null,null,null,0,0,0,0,0,0,0,0,0,0]
[186,{"$f":"IF('Adressen | Druck'!T189>0,1,IF('Adressen | Druck'!U189>0,2,\"\"))","v":""},{"$f":"IF('Adressen | Druck'!K189=0,\"\",'Adressen | Druck'!R189&\" \"&'Adressen | Druck'!S189)","v":""},null,"",null,null,null,null,null,null,null,null,null,null,0,null,null,null,null,null,null,0,0,0,0,0,0,0,0,0,0]
[187,{"$f":"IF('Adressen | Druck'!T190>0,1,IF('Adressen | Druck'!U190>0,2,\"\"))","v":""},{"$f":"IF('Adressen | Druck'!K190=0,\"\",'Adressen | Druck'!R190&\" \"&'Adressen | Druck'!S190)","v":""},null,"",null,null,null,null,null,null,null,null,null,null,0,null,null,null,null,null,null,0,0,0,0,0,0,0,0,0,0]
[188,{"$f":"IF('Adressen | Druck'!T191>0,1,IF('Adressen | Druck'!U191>0,2,\"\"))","v":""},{"$f":"IF('Adressen | Druck'!K191=0,\"\",'Adressen | Druck'!R191&\" \"&'Adressen | Druck'!S191)","v":""},null,"",null,null,null,null,null,null,null,null,null,null,0,null,null,null,null,null,null,0,0,0,0,0,0,0,0,0,0]
[189,{"$f":"IF('Adressen | Druck'!T192>0,1,IF('Adressen | Druck'!U192>0,2,\"\"))","v":""},{"$f":"IF('Adressen | Druck'!K192=0,\"\",'Adressen | Druck'!R192&\" \"&'Adressen | Druck'!S192)","v":""},null,"",null,null,null,null,null,null,null,null,null,null,0,null,null,null,null,null,null,0,0,0,0,0,0,0,0,0,0]
[190,{"$f":"IF('Adressen | Druck'!T193>0,1,IF('Adressen | Druck'!U193>0,2,\"\"))","v":""},{"$f":"IF('Adressen | Druck'!K193=0,\"\",'Adressen | Druck'!R193&\" \"&'Adressen | Druck'!S193)","v":""},null,"",null,null,null,null,null,null,null,null,null,null,0,null,null,null,null,null,null,0,0,0,0,0,0,0,0,0,0]
[191,{"$f":"IF('Adressen | Druck'!T194>0,1,IF('Adressen | Druck'!U194>0,2,\"\"))","v":""},{"$f":"IF('Adressen | Druck'!K194=0,\"\",'Adressen | Druck'!R194&\" \"&'Adressen | Druck'!S194)","v":""},null,"",null,null,null,null,null,null,null,null,null,null,0,null,null,null,null,null,null,0,0,0,0,0,0,0,0,0,0]
[192,{"$f":"IF('Adressen | Druck'!T195>0,1,IF('Adressen | Druck'!U195>0,2,\"\"))","v":""},{"$f":"IF('Adressen | Druck'!K195=0,\"\",'Adressen | Druck'!R195&\" \"&'Adressen | Druck'!S195)","v":""},null,"",null,null,null,null,null,null,null,null,null,null,0,null,null,null,null,null,null,0,0,0,0,0,0,0,0,0,0]
[193,{"$f":"IF('Adressen | Druck'!T196>0,1,IF('Adressen | Druck'!U196>0,2,\"\"))","v":""},{"$f":"IF('Adressen | Druck'!K196=0,\"\",'Adressen | Druck'!R196&\" \"&'Adressen | Druck'!S196)","v":""},null,{"$f":"IF(VLOOKUP(A206,Gäste,12)=0,\"\",VLOOKUP(A206,Gäste,12))","v":""},null,null,null,null,null,null,null,null,null,null,0,null,null,null,null,null,null,{"$f":"IF($E206=\"\",0,IF(F206<>\"\",$E206/$P206,\"\"))","v":0},{"$f":"IF($E206=\"\",0,IF(G206<>\"\",$E206/$P206,\"\"))","v":0},{"$f":"IF($E206=\"\",0,IF(H206<>\"\",$E206/$P206,\"\"))","v":0},{"$f":"IF($E206=\"\",0,IF(I206<>\"\",$E206/$P206,\"\"))","v":0},{"$f":"IF($E206=\"\",0,IF(J206<>\"\",$E206/$P206,\"\"))","v":0},{"$f":"IF($E206=\"\",0,IF(K206<>\"\",$E206/$P206,\"\"))","v":0},{"$f":"IF($E206=\"\",0,IF(L206<>\"\",$E206/$P206,\"\"))","v":0},{"$f":"IF($E206=\"\",0,IF(M206<>\"\",$E206/$P206,\"\"))","v":0},{"$f":"IF($E206=\"\",0,IF(N206<>\"\",$E206/$P206,\"\"))","v":0},{"$f":"IF($E206=\"\",0,IF(O206<>\"\",$E206/$P206,\"\"))","v":0}]
[194,{"$f":"IF('Adressen | Druck'!T197>0,1,IF('Adressen | Druck'!U197>0,2,\"\"))","v":""},{"$f":"IF('Adressen | Druck'!K197=0,\"\",'Adressen | Druck'!R197&\" \"&'Adressen | Druck'!S197)","v":""},null,"",null,null,null,null,null,null,null,null,null,null,{"$f":"COUNTA(F207:O207)","v":0},null,null,null,null,null,null,0,0,0,0,0,0,0,0,0,0]
[195,{"$f":"IF('Adressen | Druck'!T198>0,1,IF('Adressen | Druck'!U198>0,2,\"\"))","v":""},{"$f":"IF('Adressen | Druck'!K198=0,\"\",'Adressen | Druck'!R198&\" \"&'Adressen | Druck'!S198)","v":""},null,"",null,null,null,null,null,null,null,null,null,null,0,null,null,null,null,null,null,0,0,0,0,0,0,0,0,0,0]
[196,{"$f":"IF('Adressen | Druck'!T199>0,1,IF('Adressen | Druck'!U199>0,2,\"\"))","v":""},{"$f":"IF('Adressen | Druck'!K199=0,\"\",'Adressen | Druck'!R199&\" \"&'Adressen | Druck'!S199)","v":""},null,"",null,null,null,null,null,null,null,null,null,null,0,null,null,null,null,null,null,0,0,0,0,0,0,0,0,0,0]
[197,{"$f":"IF('Adressen | Druck'!T200>0,1,IF('Adressen | Druck'!U200>0,2,\"\"))","v":""},{"$f":"IF('Adressen | Druck'!K200=0,\"\",'Adressen | Druck'!R200&\" \"&'Adressen | Druck'!S200)","v":""},null,"",null,null,null,null,null,null,null,null,null,null,0,null,null,null,null,null,null,0,0,0,0,0,0,0,0,0,0]
[198,{"$f":"IF('Adressen | Druck'!T201>0,1,IF('Adressen | Druck'!U201>0,2,\"\"))","v":""},{"$f":"IF('Adressen | Druck'!K201=0,\"\",'Adressen | Druck'!R201&\" \"&'Adressen | Druck'!S201)","v":""},null,"",null,null,null,null,null,null,null,null,null,null,0,null,null,null,null,null,null,0,0,0,0,0,0,0,0,0,0]
[199,{"$f":"IF('Adressen | Druck'!T202>0,1,IF('Adressen | Druck'!U202>0,2,\"\"))","v":""},{"$f":"IF('Adressen | Druck'!K202=0,\"\",'Adressen | Druck'!R202&\" \"&'Adressen | Druck'!S202)","v":""},null,"",null,null,null,null,null,null,null,null,null,null,0,null,null,null,null,null,null,0,0,0,0,0,0,0,0,0,0]
[200,{"$f":"IF('Adressen | Druck'!T203>0,1,IF('Adressen | Druck'!U203>0,2,\"\"))","v":""},{"$f":"IF('Adressen | Druck'!K203=0,\"\",'Adressen | Druck'!R203&\" \"&'Adressen | Druck'!S203)","v":""},null,"",null,null,null,null,null,null,null,null,null,null,0,null,null,null,null,null,null,0,0,0,0,0,0,0,0,0,0]